BEGIN:VCALENDAR
VERSION:2.0
PRODID:-//ZARAGENDA - Agenda Zaragoza de ocio y eventos - ECPv6.15.16//NONSGML v1.0//EN
CALSCALE:GREGORIAN
METHOD:PUBLISH
X-WR-CALNAME:ZARAGENDA - Agenda Zaragoza de ocio y eventos
X-ORIGINAL-URL:https://zaragenda.com
X-WR-CALDESC:Eventos para ZARAGENDA - Agenda Zaragoza de ocio y eventos
REFRESH-INTERVAL;VALUE=DURATION:PT1H
X-Robots-Tag:noindex
X-PUBLISHED-TTL:PT1H
BEGIN:VTIMEZONE
TZID:Europe/Madrid
BEGIN:DAYLIGHT
TZOFFSETFROM:+0100
TZOFFSETTO:+0200
TZNAME:CEST
DTSTART:20200329T010000
END:DAYLIGHT
BEGIN:STANDARD
TZOFFSETFROM:+0200
TZOFFSETTO:+0100
TZNAME:CET
DTSTART:20201025T010000
END:STANDARD
BEGIN:DAYLIGHT
TZOFFSETFROM:+0100
TZOFFSETTO:+0200
TZNAME:CEST
DTSTART:20210328T010000
END:DAYLIGHT
BEGIN:STANDARD
TZOFFSETFROM:+0200
TZOFFSETTO:+0100
TZNAME:CET
DTSTART:20211031T010000
END:STANDARD
BEGIN:DAYLIGHT
TZOFFSETFROM:+0100
TZOFFSETTO:+0200
TZNAME:CEST
DTSTART:20220327T010000
END:DAYLIGHT
BEGIN:STANDARD
TZOFFSETFROM:+0200
TZOFFSETTO:+0100
TZNAME:CET
DTSTART:20221030T010000
END:STANDARD
END:VTIMEZONE
BEGIN:VEVENT
DTSTART;TZID=Europe/Madrid:20210307T180000
DTEND;TZID=Europe/Madrid:20210307T190000
DTSTAMP:20260422T085752
CREATED:20210304T110237Z
LAST-MODIFIED:20230208T125642Z
UID:10000263-1615140000-1615143600@zaragenda.com
SUMMARY:‘La Leyenda de Sally Jones’
DESCRIPTION:La leyenda de Sally Jones\, publicada en España por Sushi books\, nos cuenta la historia de una gorila nacida en mala hora\, una noche sin luna ni estrellas\, y condenada\, por ello\, a vivir una vida de grandes trabajos y desventuras. \nÉstas no tardan en presentarse en forma de cazadores furtivos belgas que la capturan y la venden a un comerciante de marfil turco\, que se la quiere regalar a su caprichosa prometida. Comienza así una vida de aventuras\, intrigas\, soledad\, violencia\, lucha\, nobleza y amistad eterna\, recorriendo el mundo en cargueros\, camiones\, carromatos y caravanas circenses\, y rodeada de la más alta y baja estofa de la sociedad. Por la vida de Sally pasan marineros\, magos\, falsas condesas\, jefes de policía\, comerciantes… Y cada uno de estos personajes desempeña un papel decisivo. \nEn una sociedad en la que estamos cada vez más y más sometidos a un bombardeo de estímulos visuales\, es necesario incorporar nuevos lenguajes al tiempo que recordamos la importancia de ser espectador activo (y no pasivo) ante la profusión de información que nos rodea. Optamos por utilizar toda una serie de recursos narrativos\, teatrales y visuales para potenciar esa multiplicación y profusión informativa. \nDe la misma manera que una historia no tiene sólo un punto de vista\, tampoco en nuestro relato utilizaremos un único código teatral. Asumimos un sistema híbrido de representación en el que tienen cabida la narración\, el teatro de títeres\, las proyecciones cinematográficas\, el teatro-documento\, el teatro gestual\, el teatro de objetos y las rupturas del teatro brechtiano. \nTodo ello sin abandonar un aspecto lúdico esencial en nuestra propuesta: queremos jugar y divertirnos mientras contamos a Sally de la misma manera que los niños se apasionan jugando\, pasando de un personaje a otro y utilizando todo lo que tienen a su alcance. \n¿Qué hay de verdad en la historia de Sally Jones?\n¿Puede un gorila aprender a comportarse como un ser humano?\n¿Cómo puede uno escapar a la alienación mental?\n¿Cómo podemos saber si lo que nos enseñan es bueno o malo? \nDos actores que asumen un rol de investigadores-reporteros para narrar lo que denominan desde el inicio como una leyenda\, La leyenda de Sally Jones. Si como tal\, la leyenda parte de elementos verídicos para transformarlos en un relato teñido de fantasía\, otro tanto podría decirse del desarrollo del espectáculo. Los actores son ante todo dos investigadores cuya misión es recuperar las pruebas que atestigüen de la veracidad de los hechos en la historia que nos llega a través de unos discos de pizarra. En su búsqueda\, atravesarán eventos históricos fácilmente reconocibles\, confrontándonos con la visión que de ellos se presentaba en los medios de información de la época. ¿Eran ciertas esas informaciones? O ¿eran propaganda tergiversada? La supuesta «historia» de ciertos personajes respetables ¿fue realmente tal y como nos la cuentan? O bien ¿pura hagiografía? ¿Son los titulares de la prensa fiables al 100%? \nEn Baychimo Teatro desde hace varios años hemos ampliado nuestra relación con las artes escénicas y el público\, elaborando programas pedagógicos\, programaciones y creando trabajos para niñas y niños de todas las edades. Procuramos que todos nuestros trabajos tengan una amplia influencia de múltiples disciplinas artísticas\, generando una mirada y su consecuente reflexión hacia lo que nos rodea a través y también entorno al arte y el espacio simbólico. La Leyenda de Sally Jones es un espectáculo para todos los públicos a partir de 6 años sobre una idea original de John Cornwell. \nFICHA ARTÍSTICA \nActores / manipuladores: Paloma Leal / Ramón Enríquez\nTíteres\, máscaras y vídeo: Arturo Ledesma\nConstrucción objetos: Pablo Vizán\nIluminación: Inda Álvarez\nSelección musical: Javier Navarro de Luz\nTarima: Carlos Monzón\nVestuario: Andrea Valero\nVoz Sally: Moka Seco\nDiseño gráfico: Morsa\nFotografías: José Luis Leal\nEscenografía: Ramón Enríquez\nDramaturgia: Paloma Leal\nDirección: Alberto Martínez Guinaldo \n  \nPrecio único bonificado: 10€\nSocios/alumnos: 6€ (previa reserva)
URL:https://zaragenda.com/evento-zaragoza/la-leyenda-de-sally-jones/2021-03-07/
LOCATION:Teatro de la Estación\, Domingo Figueras Jariod 8-10\, Zaragoza\, Zaragoza\, 50004\, España
CATEGORIES:Cincomarzada 2020,Espectáculos,Fiestas,Infantil,Teatro
ATTACH;FMTTYPE=image/png:https://zaragenda.com/wp-content/uploads/2021/03/LA-LEYENDA-DE-SALLY-JONES_FotoHR-10-MO4pFY.tmp_.png
GEO:41.6567935;-0.8942876
X-APPLE-STRUCTURED-LOCATION;VALUE=URI;X-ADDRESS=Teatro de la Estación Domingo Figueras Jariod 8-10 Zaragoza Zaragoza 50004 España;X-APPLE-RADIUS=500;X-TITLE=Domingo Figueras Jariod 8-10:geo:-0.8942876,41.6567935
END:VEVENT
BEGIN:VEVENT
DTSTART;TZID=Europe/Madrid:20210305T180000
DTEND;TZID=Europe/Madrid:20210305T191500
DTSTAMP:20260422T085752
CREATED:20210304T105804Z
LAST-MODIFIED:20230208T125657Z
UID:10000261-1614967200-1614971700@zaragenda.com
SUMMARY:Una pareja de descontroladas
DESCRIPTION:Patricia Galván es una monologuista con más de 10 años de experiencia como actriz y cómica. En 2018 participa como concursante en el programa de Telecinco “GOT TALENT”\, consiguiendo en solo dos minutos poner a todo el teatro en pie\, recibir la bendición de Eva H. y volverse viral con su zasca a Risto Mejide; “Escúchame\, te he dicho que soy cómica\, no la Virgen de Lourdes”. Conocida por sus improvisaciones y habitual del programa de JOSÉ MOTA\, no os dejará indiferentes. Este mismo ha estrenado en el festival de cine de Málaga la 4º película más taquillera del verano: MI GRAN DESPEDIDA. Es la pequeña de 3 hermanas pero la más grande en cuanto a desparpajo y es que si algo caracteriza a esta chica es su manera de afrontar la vida. Jerezana afincada en Madrid desde hace 11 años ama hacer reír e improvisar con el público. \nBianca Kovacs lleva más de una década de carrera como actriz. Con una destacada carrera ha trabajado en series como Aída\, ‘La que se avecina\, 30 Monedas\, iUmor’ (Antena1\, Rumania)\, Acacias38… Además de actriz es cómica y actualmente presenta “Las Noches del Club de la Comedia” en teatro. Nuestra cómica es capaz de decir en voz alta lo que seguro estabas pensando… Ella sí se atreve. Rumana de nacimiento\, pero con padres rusos y húngaros\, llega a los teatros con muchas ganas de darle la vuelta a lo cotidiano.
URL:https://zaragenda.com/evento-zaragoza/una-pareja-de-descontroladas/
LOCATION:Auditorio de Zaragoza\, C/Eduardo Ibarra\, 3\, Zaragoza\, 50009\, España
CATEGORIES:Cincomarzada 2020,Espectáculos,Fiestas,humor,Monólogos
ATTACH;FMTTYPE=image/jpeg:https://zaragenda.com/wp-content/uploads/2021/03/monologos2-1.jpg
GEO:41.6383027;-0.9025735
X-APPLE-STRUCTURED-LOCATION;VALUE=URI;X-ADDRESS=Auditorio de Zaragoza C/Eduardo Ibarra 3 Zaragoza 50009 España;X-APPLE-RADIUS=500;X-TITLE=C/Eduardo Ibarra\, 3:geo:-0.9025735,41.6383027
END:VEVENT
END:VCALENDAR