BEGIN:VCALENDAR
VERSION:2.0
PRODID:-//ZARAGENDA - Agenda Zaragoza de ocio y eventos - ECPv6.15.16//NONSGML v1.0//EN
CALSCALE:GREGORIAN
METHOD:PUBLISH
X-ORIGINAL-URL:https://zaragenda.com
X-WR-CALDESC:Eventos para ZARAGENDA - Agenda Zaragoza de ocio y eventos
REFRESH-INTERVAL;VALUE=DURATION:PT1H
X-Robots-Tag:noindex
X-PUBLISHED-TTL:PT1H
BEGIN:VTIMEZONE
TZID:Europe/Madrid
BEGIN:DAYLIGHT
TZOFFSETFROM:+0100
TZOFFSETTO:+0200
TZNAME:CEST
DTSTART:20210328T010000
END:DAYLIGHT
BEGIN:STANDARD
TZOFFSETFROM:+0200
TZOFFSETTO:+0100
TZNAME:CET
DTSTART:20211031T010000
END:STANDARD
BEGIN:DAYLIGHT
TZOFFSETFROM:+0100
TZOFFSETTO:+0200
TZNAME:CEST
DTSTART:20220327T010000
END:DAYLIGHT
BEGIN:STANDARD
TZOFFSETFROM:+0200
TZOFFSETTO:+0100
TZNAME:CET
DTSTART:20221030T010000
END:STANDARD
BEGIN:DAYLIGHT
TZOFFSETFROM:+0100
TZOFFSETTO:+0200
TZNAME:CEST
DTSTART:20230326T010000
END:DAYLIGHT
BEGIN:STANDARD
TZOFFSETFROM:+0200
TZOFFSETTO:+0100
TZNAME:CET
DTSTART:20231029T010000
END:STANDARD
BEGIN:DAYLIGHT
TZOFFSETFROM:+0100
TZOFFSETTO:+0200
TZNAME:CEST
DTSTART:20240331T010000
END:DAYLIGHT
BEGIN:STANDARD
TZOFFSETFROM:+0200
TZOFFSETTO:+0100
TZNAME:CET
DTSTART:20241027T010000
END:STANDARD
END:VTIMEZONE
BEGIN:VEVENT
DTSTART;TZID=Europe/Madrid:20230101T203000
DTEND;TZID=Europe/Madrid:20230101T203000
DTSTAMP:20260420T002616
CREATED:20221229T110559Z
LAST-MODIFIED:20230208T183432Z
UID:10006364-1672605000-1672605000@zaragenda.com
SUMMARY:Cretino & The Cretiners
DESCRIPTION:Rock & Blues comienza el año por todo lo alto con un Concierto de Año Nuevo gratuito. Será la actuación de Cretino & The Cretiners\, banda liderada por el artista zaragozano Luis Cebrián. El show presentará “A ver cuando nos vemos”\, un espectáculo donde se entremezclan versiones de reconocidas canciones con otras propias de Cebrián. \nLuis Cebrián es artista\, showman\, presentador\, reportero\, y muchas más cosas\, pero sobre todo es músico de gran talento. Con la relevante experiencia que le ha propiciado formar parte de bandas como Nubosidad Variable\, Louisiana\, Experimentos in da Notte o Pez Nuboso\, y la destreza que le aportan los numerosos escenarios pisados\, afronta cada concierto o proyecto musical con entusiasmo y un toque de locura. En este proyecto se encuentra acompañado por una banda al completo\, formada por Suso Lasso (guitarra)\, Raúl Baquedano (bajo) y Daniel Becerril (batería). \n 
URL:https://zaragenda.com/evento-zaragoza/cretino-the-cretiners/
LOCATION:Rock & Blues Café\, Calle Cuatro de Agosto 5 – 7\,\, Zaragoza\, 50003
CATEGORIES:Concierto,Navidad 2022 Zaragoza
ATTACH;FMTTYPE=image/jpeg:https://zaragenda.com/wp-content/uploads/2022/12/cartelweb.jpg
GEO:41.6533081;-0.8809423
X-APPLE-STRUCTURED-LOCATION;VALUE=URI;X-ADDRESS=Rock & Blues Café Calle Cuatro de Agosto 5 – 7 Zaragoza 50003;X-APPLE-RADIUS=500;X-TITLE=Calle Cuatro de Agosto 5 – 7\,:geo:-0.8809423,41.6533081
END:VEVENT
BEGIN:VEVENT
DTSTART;TZID=Europe/Madrid:20221231T120000
DTEND;TZID=Europe/Madrid:20221231T120000
DTSTAMP:20260420T002616
CREATED:20221227T110929Z
LAST-MODIFIED:20230208T182852Z
UID:10006336-1672488000-1672488000@zaragenda.com
SUMMARY:El intrépido SOLDADITO DE PLOMO
DESCRIPTION:Otra de las célebres adaptaciones de Arbolé de un cuento clásico al mundo de los títeres es esta obra sobre «El soldadito de plomo» que\, además de ser la más bella obra sobre juguetes\, cuenta también la hermosa historia de amor entre un soldadito de plomo\, que sólo tenía una pierna\, y una bailarina de papel. \nEste cuento de Andersen\, uno de los grandes escritores para niños y niñas\, emocionará al público infantil y familiar\, que disfrutará de las aventuras de este soldadito\, que realizará un viaje iniciático por las alcantarillas y se enfrentará con ratas y peces\, hasta su vuelta a casa en el vientre de un pez para ser fundido en la chimenea junto a su querida bailarina. \nEn esta versión\, Teatro Arbolé utiliza diferentes técnicas de manipulación: títeres de guante\, sombras chinescas\, luz negra y títeres planos. \nUna buena ocasión para recordar a Andersen\, autor de obras tan importantes para el público infantil como “El patito feo”\, “La Sirenita”\, “El traje nuevo del emperador”\, “La virgen de las nieves”o “Las zapatillas rojas”.
URL:https://zaragenda.com/evento-zaragoza/el-intrepido-soldadito-de-plomo/
LOCATION:Teatro Arbolé\, Parque del Agua Luis Buñuel. Paseo del Botánico\, 5\, Zaragoza\, 50018\, España
CATEGORIES:Infantil,Navidad 2022 Zaragoza,Teatro
ATTACH;FMTTYPE=image/jpeg:https://zaragenda.com/wp-content/uploads/2022/12/thumb_637216d2c6b217.93363648-3AhHge.tmp_.jpg
GEO:41.667608;-0.91011
X-APPLE-STRUCTURED-LOCATION;VALUE=URI;X-ADDRESS=Teatro Arbolé Parque del Agua Luis Buñuel. Paseo del Botánico 5 Zaragoza 50018 España;X-APPLE-RADIUS=500;X-TITLE=Parque del Agua Luis Buñuel. Paseo del Botánico\, 5:geo:-0.91011,41.667608
END:VEVENT
BEGIN:VEVENT
DTSTART;TZID=Europe/Madrid:20221230T190000
DTEND;TZID=Europe/Madrid:20221230T203000
DTSTAMP:20260420T002616
CREATED:20221229T092818Z
LAST-MODIFIED:20230208T183423Z
UID:10006363-1672426800-1672432200@zaragenda.com
SUMMARY:LA ORQUESTA DE LAS ESQUINAS PRESENTA LOCOS POR DISNEY 2
DESCRIPTION:Las bandas sonoras más reconocidas de Disney en dos espectáculos musicales totalmente diferentes\, pero con un mismo\, y peculiar\, maestro de ceremonias al frente. Dos propuestas muy entretenidas y con una gran dosis de humor de la Orquesta de las Esquinas\, que seguro harán las delicias de niños y no tan niños. \n30 de diciembre 2022 17:00h y 19:00h
URL:https://zaragenda.com/evento-zaragoza/la-orquesta-de-las-esquinas-presenta-locos-por-disney-2/2022-12-30/2/
LOCATION:Teatro de las esquinas\, Vía Univérsitas 30-32\, Zaragoza\, España
CATEGORIES:Música,Navidad 2022 Zaragoza
ATTACH;FMTTYPE=image/jpeg:https://zaragenda.com/wp-content/uploads/2022/12/Cartel-LocosPorDisney-2.jpg
GEO:41.6469;-0.90759
X-APPLE-STRUCTURED-LOCATION;VALUE=URI;X-ADDRESS=Teatro de las esquinas Vía Univérsitas 30-32 Zaragoza España;X-APPLE-RADIUS=500;X-TITLE=Vía Univérsitas 30-32:geo:-0.90759,41.6469
END:VEVENT
BEGIN:VEVENT
DTSTART;TZID=Europe/Madrid:20221228T180000
DTEND;TZID=Europe/Madrid:20221230T180000
DTSTAMP:20260420T002616
CREATED:20221227T110003Z
LAST-MODIFIED:20230208T182908Z
UID:10006324-1672250400-1672423200@zaragenda.com
SUMMARY:EL CASCANUECES Y EL REY DE LOS GATOS
DESCRIPTION:Dramaturgia y dirección: Mariano Lasheras\nAlmozandia Teatro nos trae el estreno de una divertida versión del famoso cuento del Cascanueces y la no menos famosa música de Tchaikosky\, narrada por tres dicharacheros\, torpes y alocados ratones que nos ofrecerán\, en clave de humor\, su particular versión de los hechos. \nLa combinación del relato\, con la música de Tchaikovsky\, interpretada en directo\, conforman una preciosa y divertida obra para que los amantes de los cuentos la disfruten en familia. La fusión en esta obra del humor\, los actores\, la fantasía\, los títeres y la música clásica en directo hacen esta historia especial y diferente. \nMil y una aventuras a un palmo de vuestras narices: risas\, melodías\, momentos mágicos… En definitiva\, un mundo de fantasía que gira alrededor de nuestro protagonista «El Cascanueces». \nFICHA ARTÍSTICA \nIntérpretes: Mayte Zamorano o Inés Andrés\, Luis Manuel Mateo o Rubén Remacha\nMúsicos: Higinio Muñoz o Victor Mazzilli\nEscenografía y espacio escénico: Manolo Pellicer\nVestuario: Ana Sanagustín\nPostizos y maquillaje: Virginia Maza\nSonido e Iluminación: Paco De Miguel\nDirección musical: Higinio Muñoz\nComunicación: Ideas a Mares\nIlustración cartel: Blanca Bk\nAyudante de producción: Óscar Puyo\nDistribución: Almozandia Teatro \nMariano Lasheras\n \nPrecio único bonificado: 10€\nSocios/alumnos: 6€
URL:https://zaragenda.com/evento-zaragoza/el-cascanueces-y-el-rey-de-los-gatos/
LOCATION:Teatro de la Estación\, Domingo Figueras Jariod 8-10\, Zaragoza\, Zaragoza\, 50004\, España
CATEGORIES:Infantil,Navidad 2022 Zaragoza,Teatro
ATTACH;FMTTYPE=image/jpeg:https://zaragenda.com/wp-content/uploads/2022/12/Cascanueces__Zaragoza_2022-2-400x504-1.jpg
GEO:41.6567935;-0.8942876
X-APPLE-STRUCTURED-LOCATION;VALUE=URI;X-ADDRESS=Teatro de la Estación Domingo Figueras Jariod 8-10 Zaragoza Zaragoza 50004 España;X-APPLE-RADIUS=500;X-TITLE=Domingo Figueras Jariod 8-10:geo:-0.8942876,41.6567935
END:VEVENT
BEGIN:VEVENT
DTSTART;TZID=Europe/Madrid:20221221T170000
DTEND;TZID=Europe/Madrid:20221221T200000
DTSTAMP:20260420T002616
CREATED:20221216T110831Z
LAST-MODIFIED:20230208T182232Z
UID:10006310-1671642000-1671652800@zaragenda.com
SUMMARY:TALLER ESPECIAL DE NAVIDAD EN ESPACIO KIWIKI
DESCRIPTION:Aperitivos Navideños Saludables de la mano de Andrea Sangüesa\, nutricionista especializada en obesidad\, nutrición deportiva y patologías digestivas. \nCanapés y aperitivos saludables\, deliciosos\, originales ¡y sin complicaciones! Acompañados de un cocktail festivo.
URL:https://zaragenda.com/evento-zaragoza/taller-especial-de-navidad-en-espacio-kiwiki/2022-12-21/
LOCATION:Espacio Kiwiki\, Calle Sta. Teresa de Jesús\, 6\, Local Izquierdo\, Zaragoza\, Zaragoza\, 50006\, España
CATEGORIES:Actividades,Navidad,Navidad 2022 Zaragoza,Talleres
ATTACH;FMTTYPE=image/jpeg:https://zaragenda.com/wp-content/uploads/2022/12/ZARAGENDA-1.jpg
GEO:41.6421215;-0.8919027
X-APPLE-STRUCTURED-LOCATION;VALUE=URI;X-ADDRESS=Espacio Kiwiki Calle Sta. Teresa de Jesús 6 Local Izquierdo Zaragoza Zaragoza 50006 España;X-APPLE-RADIUS=500;X-TITLE=Calle Sta. Teresa de Jesús\, 6\, Local Izquierdo:geo:-0.8919027,41.6421215
END:VEVENT
BEGIN:VEVENT
DTSTART;TZID=Europe/Madrid:20221203T000000
DTEND;TZID=Europe/Madrid:20221218T000000
DTSTAMP:20260420T002616
CREATED:20221206T183129Z
LAST-MODIFIED:20230208T181627Z
UID:10006264-1670025600-1671321600@zaragenda.com
SUMMARY:Navidad en el Parque de Atracciones
DESCRIPTION:De 12 a 15 h y de 16 a 19 h. Papá Noel. Recién llegado de Laponia\, el auténtico Papá Noel recibirá las cartas de los niños \n17:45 h. Ilumina la Navidad. Encendido del monumental árbol de Navidad y la iluminación del Parque\, con Mamá Noel y Nori. \nDe 12 a 16 h. Talleres navideños. De 14:45 a 15:15 h y de 18:15 a 18:45. \nDisco móvil en el Restaurante 25 aniversario  \nTodo el día: Pasacalles con triciclo\, pintacaras\, decoración y gastronomía típica de Navidad.
URL:https://zaragenda.com/evento-zaragoza/navidad-en-el-parque-de-atracciones/
LOCATION:Parque de Atracciones de Zaragoza\, Paseo Duque de Alba\, 15 - Pinares de Venecia\, Zaragoza\, Zaragoza\, 50007
CATEGORIES:Infantil,Infantil destacados,Navidad 2022 Zaragoza
ATTACH;FMTTYPE=image/png:https://zaragenda.com/wp-content/uploads/2022/12/navidad-en-el-parque-de-atracciones_6384d6e13d1f2-MYSh2K.tmp_.png
GEO:41.620781;-0.899967
X-APPLE-STRUCTURED-LOCATION;VALUE=URI;X-ADDRESS=Parque de Atracciones de Zaragoza Paseo Duque de Alba 15 - Pinares de Venecia Zaragoza Zaragoza 50007;X-APPLE-RADIUS=500;X-TITLE=Paseo Duque de Alba\, 15 - Pinares de Venecia:geo:-0.899967,41.620781
END:VEVENT
BEGIN:VEVENT
DTSTART;TZID=Europe/Madrid:20221202T190000
DTEND;TZID=Europe/Madrid:20221202T190000
DTSTAMP:20260420T002616
CREATED:20221202T193336Z
LAST-MODIFIED:20230208T181559Z
UID:10006250-1670007600-1670007600@zaragenda.com
SUMMARY:Bienvenida Navidad en Puerto Venecia
DESCRIPTION:Un año más\, Puerto Venecia se llena de luz y espíritu navideño. Papá Noel y sus ayudantes encenderán la Navidad y saludará a todos los niños y niñas\, acompañado por un desfile de Navidad.  \n2 de diciembre \n19:00h \nZona Terrazas (en caso de climatología desfavorables se realizará en el interior de Gallery) \nPases para visitar a Papá Noel \nSolo los niños buenos tienes regalos\, ¿has sido uno de ellos? Reserva tu pase para pedirle a Papá Noel todos los juguetes que te has ganado siendo bueno este año. \nCada pase es para 3 niños máximo\, los padres deberán entrar con ellos para acompañarles. \nSe realizará una fotografía con fotomatón automático que se enviará al e-mail que el cliente solicite en ese momento. Se tendrá que confirmar la recepción de la misma en el momento\, no pudiendo garantizar el envío a posteriori.
URL:https://zaragenda.com/evento-zaragoza/bienvenida-navidad-en-puerto-venecia/
LOCATION:Puerto Venecia\, Travesía Jardines Reales\, 7\, Zaragoza\, Zaragoza\, 50021\, España
CATEGORIES:Navidad 2022 Zaragoza
ATTACH;FMTTYPE=image/jpeg:https://zaragenda.com/wp-content/uploads/2022/12/puertovenecia-jXLNBz.tmp_.jpg
GEO:41.609092;-0.8851678
X-APPLE-STRUCTURED-LOCATION;VALUE=URI;X-ADDRESS=Puerto Venecia Travesía Jardines Reales 7 Zaragoza Zaragoza 50021 España;X-APPLE-RADIUS=500;X-TITLE=Travesía Jardines Reales\, 7:geo:-0.8851678,41.609092
END:VEVENT
BEGIN:VEVENT
DTSTART;TZID=Europe/Madrid:20221202T180000
DTEND;TZID=Europe/Madrid:20221202T180000
DTSTAMP:20260420T002616
CREATED:20221201T112024Z
LAST-MODIFIED:20230208T181339Z
UID:10006244-1670004000-1670004000@zaragenda.com
SUMMARY:Acto inaugural y encendido de luces
DESCRIPTION:El encendido de luces y la inauguración del Belén de la plaza del Pilar el viernes 2 de diciembre a las 18:00 dará el pistoletazo de salida a la campaña de Navidad. \nLas calles de Zaragoza volverán a iluminarse esta Navidad con múltiples propuestas decorativas que ayuden a generar ilusión y apoyen al comercio. Estas instalaciones de tecnología led permanecerán encendidas entre las seis de la tarde y la una de la madrugada aproximadamente a partir de este viernes\, coincidiendo con el inicio del puente de la Constitución. La iluminación Navideña acompañará la actividad en las calles hasta Reyes.
URL:https://zaragenda.com/evento-zaragoza/acto-inaugural-y-encendido-de-luces/
LOCATION:Plaza del Pilar\, Plaza del Pilar\, Zaragoza\, Zaragoza\, 50001\, España
CATEGORIES:Eventos destacados,Navidad 2022 Zaragoza
ATTACH;FMTTYPE=image/jpeg:https://zaragenda.com/wp-content/uploads/2022/11/IMG_20211206_190758-1-5TJaJ9.tmp_.jpg
GEO:41.6563468;-0.8789063
X-APPLE-STRUCTURED-LOCATION;VALUE=URI;X-ADDRESS=Plaza del Pilar Plaza del Pilar Zaragoza Zaragoza 50001 España;X-APPLE-RADIUS=500;X-TITLE=Plaza del Pilar:geo:-0.8789063,41.6563468
END:VEVENT
BEGIN:VEVENT
DTSTART;TZID=Europe/Madrid:20221202T100000
DTEND;TZID=Europe/Madrid:20221208T210000
DTSTAMP:20260420T002616
CREATED:20221201T091551Z
LAST-MODIFIED:20230208T181301Z
UID:10006243-1669975200-1670533200@zaragenda.com
SUMMARY:Belén de Judea
DESCRIPTION:Recorre los más de mil metros cuadrados del tradicional Belén. Con una planta en forma de abanico o manto\, esta espectacular estructura cuenta con un centenar de figuras a tamaño real que habitan las distintas zonas y construcciones: como el Portal\, el Palacio de Herodes o el Zoco de Mercaderes. Además\, no faltarán las escenas tradicionales de los oficios aragoneses\, el sonido y los juegos de luces y agua y la vegetación\, con árboles\, plantas y arbustos naturales. \nDel 02-12-2022 al 08-01-2023 \n\n\nLunes de 10:00 a 14:00 h. y de 16:00 a 21:00 h.\nMartes de 10:00 a 14:00 h. y de 16:00 a 21:00 h.\nMiércoles de 10:00 a 14:00 h. y de 16:00 a 21:00 h.\nJueves de 10:00 a 14:00 h. y de 16:00 a 21:00 h.\nViernes de 10:00 a 14:00 h. y de 16:00 a 21:00 h.\nSábado de 10:00 a 14:00 h. y de 16:00 a 21:00 h.\nDomingo de 10:00 a 14:00 h. y de 16:00 a 21:00 h.
URL:https://zaragenda.com/evento-zaragoza/belen-de-judea/
LOCATION:Plaza del Pilar\, Plaza del Pilar\, Zaragoza\, Zaragoza\, 50001\, España
CATEGORIES:Navidad 2022 Zaragoza
ATTACH;FMTTYPE=image/png:https://zaragenda.com/wp-content/uploads/2022/11/belen-de-judea_6384d6a40504f-UpXwuW.tmp_.png
GEO:41.6563468;-0.8789063
X-APPLE-STRUCTURED-LOCATION;VALUE=URI;X-ADDRESS=Plaza del Pilar Plaza del Pilar Zaragoza Zaragoza 50001 España;X-APPLE-RADIUS=500;X-TITLE=Plaza del Pilar:geo:-0.8789063,41.6563468
END:VEVENT
BEGIN:VEVENT
DTSTART;TZID=Europe/Madrid:20221202T000000
DTEND;TZID=Europe/Madrid:20221231T000000
DTSTAMP:20260420T002616
CREATED:20221202T193322Z
LAST-MODIFIED:20230208T181553Z
UID:10006249-1669939200-1672444800@zaragenda.com
SUMMARY:Muestra Navideña – diciembre
DESCRIPTION:Lugar: Plaza del Pilar \nDel 2 al 31 de diciembre \n2 de diciembre\, 18 h. Gran Acto Inaugural + La llegada de Papa Noel \n3 de diciembre. \n\nDe 11 a 14 h. Taller de decoración de galletas\n12:00. Títeres de cachiporra. Teatro Arbolé\n19:00 Enduendados. Ilógica\n\n4 de diciembre. \n\nDe 11 a 14 h. Taller de Cupkakes\n19 h. Federación de Coros de Aragón\n\n5 de diciembre. \n\nDe 11 a 14 h. Taller de decoración navideña para adornar la puerta de tu casa. Tachán Teatro\n12 h. Cazadores de Monstruos. Charraire Cuenteras\n19 h. Trío Tono\n\n6 de diciembre. \n\nDe 11 a 14 h. Taller de Instrumentos reutilizables. Tachán Teatro\n12 h. Carabín Carabán. Almozandia\n19 h. El Cóndor. Asociación Cultural Ecuatoriana\n\n7 de diciembre. \n\nDe 11 a 14 h. Taller de adornos para el árbol. Tachán Teatro\n19 h. Villancicos Bolivianos. Asociación de Raíces Andinas en Aragón\n\n8 de diciembre\, 19 h. Nostalgia Andaluza. Casa de Andalucía en Zaragoza \n9 de diciembre\, 19 h. Esencia Flamenca. Casa de Andalucía en Zaragoza \n10 de diciembre. \n\nDe 11 a 14 h. Circomotik. Almozandia\n12 h. Jauja. Los Titiriteros de Binéfar\n19 h. Dances y cantes rumanos. Asociación Acasa.\n\n11 de diciembre. \n\nDe 11 a 14 h. Taller de Percusión. Tachán Teatro\n12 h. Pasacalles La Tronca de Navidad\n19 h. Jotas. Raíces de Aragón\n\n12 de diciembre\, 19 h. Villancicos. Hogar Extremeño \n13 de diciembre\, 19 h. Villancicos Navideños \n14 de diciembre\, 19 h. Asociación Cultural de peruanos \n15 de diciembre\, 19 h. Dance in Christmas. Academia de baile \n16 de diciembre\, 18 h. Coro Rumano Candela \n17 de diciembre. \n\nDe 11 a 14 h. Taller de creación de Zambombas\n12 h. Títeres de Cachiporra. Teatro Arbolé\n\n19 h. Honoris Tuna de Aragón \n18 de diciembre. \n\nDe 11 a 14 h. Taller de juguetes con material de desecho. PAI\n12 h. Busco y Rebusco. Callejeatro.\n19 h. Viki Lafuente & The Christmas Jazz Band\n\n19 de diciembre\, 19 h. Jotas. Raíces de Aragón \n20 de diciembre\, 19 h. Tubancicos \n21 de diciembre\, 19 h. Coro Amici Musicae voces blancas \n22 de diciembre\, 19 h. Coro Amici Musicae Juveniles \n23 de diciembre\, 19 h. Villancicos Maracaibo \n24 de diciembre. \n\nDe 11 a 14 h. 3 en raya de viaje. Punto y punto\n12 h. Tú que pintas. Tachán Teatro\n\n25 de diciembre. \n\nDe 11 a 14 h. Banderín de navidad pintado. Punto y punto\n19 h. Baile de Navidad. Academia Virginia Bernabéu\n\n26 de diciembre: \n\n12 h. Cataplum. Circo la Raspa\n19 h. Casting de circo. Callejeatro.\n\n30 de diciembre\, 19 h. Jotas. Raíces de Aragón \n31 de diciembre. \n\nDe 11 a 14 h. Taller de casitas de hadas y duendes. Tachán Teatro Nochevieja\n00:30 Gran fiesta de Nochevieja. Baile amenizado con orquesta.
URL:https://zaragenda.com/evento-zaragoza/muestra-navidena-diciembre/
LOCATION:Plaza del Pilar\, Plaza del Pilar\, Zaragoza\, Zaragoza\, 50001\, España
CATEGORIES:Navidad 2022 Zaragoza
ATTACH;FMTTYPE=image/png:https://zaragenda.com/wp-content/uploads/2022/12/muestra-navidena-diciembre_6384d69219ac0-eCijSk.tmp_.png
GEO:41.6563468;-0.8789063
X-APPLE-STRUCTURED-LOCATION;VALUE=URI;X-ADDRESS=Plaza del Pilar Plaza del Pilar Zaragoza Zaragoza 50001 España;X-APPLE-RADIUS=500;X-TITLE=Plaza del Pilar:geo:-0.8789063,41.6563468
END:VEVENT
END:VCALENDAR