BEGIN:VCALENDAR
VERSION:2.0
PRODID:-//ZARAGENDA - Agenda Zaragoza de ocio y eventos - ECPv6.15.16//NONSGML v1.0//EN
CALSCALE:GREGORIAN
METHOD:PUBLISH
X-ORIGINAL-URL:https://zaragenda.com
X-WR-CALDESC:Eventos para ZARAGENDA - Agenda Zaragoza de ocio y eventos
REFRESH-INTERVAL;VALUE=DURATION:PT1H
X-Robots-Tag:noindex
X-PUBLISHED-TTL:PT1H
BEGIN:VTIMEZONE
TZID:Europe/Madrid
BEGIN:DAYLIGHT
TZOFFSETFROM:+0100
TZOFFSETTO:+0200
TZNAME:CEST
DTSTART:20220327T010000
END:DAYLIGHT
BEGIN:STANDARD
TZOFFSETFROM:+0200
TZOFFSETTO:+0100
TZNAME:CET
DTSTART:20221030T010000
END:STANDARD
BEGIN:DAYLIGHT
TZOFFSETFROM:+0100
TZOFFSETTO:+0200
TZNAME:CEST
DTSTART:20230326T010000
END:DAYLIGHT
BEGIN:STANDARD
TZOFFSETFROM:+0200
TZOFFSETTO:+0100
TZNAME:CET
DTSTART:20231029T010000
END:STANDARD
BEGIN:DAYLIGHT
TZOFFSETFROM:+0100
TZOFFSETTO:+0200
TZNAME:CEST
DTSTART:20240331T010000
END:DAYLIGHT
BEGIN:STANDARD
TZOFFSETFROM:+0200
TZOFFSETTO:+0100
TZNAME:CET
DTSTART:20241027T010000
END:STANDARD
END:VTIMEZONE
BEGIN:VEVENT
DTSTART;TZID=Europe/Madrid:20230503T000000
DTEND;TZID=Europe/Madrid:20231018T000000
DTSTAMP:20260421T142924
CREATED:20230707T202119Z
LAST-MODIFIED:20230707T202119Z
UID:10007885-1683072000-1697587200@zaragenda.com
SUMMARY:IV Convocatoria Reconocimiento Go! ODS
DESCRIPTION:Plazo límite: 17/10/2023 Organiza: Pacto Mundial de la ONU España y Fundación Rafael del Pino Los objetivos de estos Reconocimientos organizados y gestionados por el Pacto Mundial de la ONU España y la Fundación Rafael del Pino\, con el fin de distinguir los mejores proyectos e iniciativas son:  Reconocer e impulsar la innovación orientada a conseguir los ODS. Incentivar e inspirar al sector privado español en la consecución de los ODS\, fomentando la colaboración intersectorial y el diálogo entre las organizaciones que lideran la contribución a los ODS en España. Difundir la importancia de la Agenda 2030. Fin que se plasma en el nombre del proyecto: go!ODS\, actuando como un juego de palabras entre“go – ODS”(hacia los ODS) y “good” (bueno).  Con este foco\, la convocatoria queda abierta a proyectos que se enmarquen en los siguientes ámbitos:  Presenten un carácter innovador\, entendiendo la innovación desde su perspectiva poliédrica. Pertenezcan o se realicen desde una corporación\, empresa\, iniciativa emprendedora (start up\, spin-off\, etc.) u organización de la sociedad civil. Hayan sido ganador/finalista/incubado/invertido en el último año o última edición del proceso correspondiente. Impacte positivamente en alguno o varios de los 17 ODS.  Los Reconocimientos go!ODS distinguirán proyectos de innovación que de forma clara contribuyan a la consecución de uno o más ODS. Los reconocimientos serán bienales y serán fallados por un jurado independiente formado por representantes de diferentes tipos de instituciones. Para seleccionar a los candidatos a los reconocimientos\, se seguirá el siguiente procedimiento. Se identificarán organismos de referencia en nuestro país que cuenten ya con reconocimientos\, programas o incubaciones con foco en la innovación y que sean expertos en esta materia. Estos organismos son denominados entidades impulsoras\, las cuales gozarán de visibilidad. Ellas serán quienes\, de entre sus premiados o seleccionados en cualquiera de sus rondas\, propondrán aquellos proyectos que tengan un impacto sobre alguno o varios de los 17 ODS\, los cuales se convertirán en candidatos. Asimismo\, se revisarán todas aquellas candidaturas presentadas voluntariamente y ajenas a las presentadas por las entidades impulsoras\, que sean recibidas a través del formulario web. Las entidades impulsoras\, o cualquier entidad que conserve con ellas algún tipo de vínculo\, en el caso de que quieran presentar alguna iniciativa como candidata\, ésta deberá estar propuesta por una tercera entidad independiente a las impulsoras y a la secretaria técnica. Todas las candidaturas serán gestionadas a través de la Secretaría de los Reconocimientos go!ODS\, que será la encargada de seleccionar de entre todas ellas las aptas para ser evaluadas por el jurado. Sólo podrán participar entidades españolas\, aunque sí será posible que las innovaciones galardonadas hayan sido desarrolladas fuera de España. Una vez recopiladas todas las candidaturas interesadas en participar en los Reconocimientos go!ODS sus proyectos pasarán a ser analizados en primer lugar por un comité técnico para la idoneidad de su candidatura y en segundo lugar por los miembros del jurado. Dicho jurado será el encargado de identificar los proyectos que mejor cumplen los requisitos. Se hará entrega de los reconocimientos en una ceremonia que tendrá lugar en febrero de 2024. Los reconocimientos se otorgan como una distinción honorífica y un sello de valor\, acompañado por un reconocimiento físico. Con esta dinámica\, cada edición\, hasta 2030\, se otorgarán 17 reconocimientos\, uno por cada ODS\, más una distinción especial del jurado para la mejor innovación entre las 17 galardonadas. Esta innovación será la que obtenga la votación más alta entre las 17 categorías. Estos reconocimientos se conciben como un sello de valor otorgado por una entidad del sistema de las Naciones Unidas por su contribución al cumplimiento de la Agenda 2030. Información: IV Convocatoria Reconocimientos go! ODS ( https://www.pactomundial.org/wp-content/uploads/2023/03/Bases-Reconocimientos-goODS.pdf )
URL:https://zaragenda.com/evento-zaragoza/iv-convocatoria-reconocimiento-go-ods/
LOCATION:Presentación de solicitudes on line
CATEGORIES:Cambio Clímático,Ciclo del agua,Consumo responsable,Contaminación ambiental,Economía circular,Medio Ambiente,Objetivos de Desarrollo Sostenible,Participación ciudadana,Responsabilidad Social Corporativa
ATTACH;FMTTYPE=image/gif:https://zaragenda.com/wp-content/uploads/2023/07/desafios-go-ODS-l9dQuH.tmp_.gif
END:VEVENT
BEGIN:VEVENT
DTSTART;TZID=Europe/Madrid:20230420T000000
DTEND;TZID=Europe/Madrid:20230911T000000
DTSTAMP:20260421T142924
CREATED:20230707T202139Z
LAST-MODIFIED:20230707T202139Z
UID:10007886-1681948800-1694390400@zaragenda.com
SUMMARY:Inscripciones Cursos de Verano Universidad de Zaragoza y Universidad de Verano de Teruel (Fundación Antonio Gargallo)
DESCRIPTION:Los Cursos de Verano de la Universidad de Zaragoza y la Universidad de Verano de Teruel (Fundación Antonio Gargallo) han publicado en sus páginas web la información relativa a la oferta académica estival del año 2023. También se abre oficialmente el plazo de inscripción para que el alumnado tenga la oportunidad de reservar plaza en aquellas formaciones que le resulten de interés. En el caso de la Universidad de Zaragoza\, en esta nueva edición\, la oferta consta de 63 cursos repartidos en seis ámbitos del conocimiento: Arte y Humanidades ( https://cursosextraordinarios.unizar.es/areas-tematicas/artes-y-humanidades ); Ciencias ( https://cursosextraordinarios.unizar.es/areas-tematicas/ciencias ); Ciencias de la Salud ( https://cursosextraordinarios.unizar.es/areas-tematicas/ciencias-de-la-salud ); Ciencias Sociales y Jurídicas ( https://cursosextraordinarios.unizar.es/areas-tematicas/ciencias-sociales-y-jur%C3%ADdicas ); Educación ( https://cursosextraordinarios.unizar.es/areas-tematicas/educaci%C3%B3n ); e Ingeniería y Arquitectura ( https://cursosextraordinarios.unizar.es/areas-tematicas/ingenier%C3%ADa-y-arquitectura ). En el caso de la Universidad de Verano de Teruel (Fundación Antonio Gargallo) son 34 cursos repartido en seis ámbitos de conocimiento: Ciencias sociales\, Educación\, Ciencias de la Salud\, Arte y humanidades\, Ciencia y Tecnología y Otros. Además\, son 19 las sedes que acogerán los cursos: Ansó\, Arén\, Calatayud\, Cariñena\, Ejea de los Caballeros\, Grañén\, Huesca\, Illueca\, Jaca\, Jaraba\, Litago\, Loarre\, Monzón\, Quinto\, Robres\, San Martín de la Virgen del Moncayo\, Tarazona\, Villarroya del Campo y Zaragoza en el caso de la Universidad de Zaragoza y 10 en el caso de la Universidad de Verano de Teruel: Teruel\, Bello\, Aguilar del Alfambra\, Ariño\, Calanda\, Albalate del Arzobispo\, Alcañiz\, Cantavieja\, Mora de Rubielos y Orihuela del Tremedal. Las clases se configurarán en diversos formatos\, como sesiones magistrales\, seminarios\, conferencias y talleres prácticos de la mano de reputados expertos\, tanto del ámbito nacional como internacional. Compartimos aquí los cursos más estrechamente relacionados con los temas de medio ambiente y sostenibilidad ambiental y los temas de la Estrategia Aragonesa de Educación Ambiental (EÁREA 2030).    Universidad de Zaragoza:        Taller de introducción a la Horticultura y la Jardinería social y Terapeútica.  ( https://cursosextraordinarios.unizar.es/curso/2023/taller-de-introduccion-la-horticultura-y-la-jardineria-social-y-terapeutica )Zaragoza ( https://cursosextraordinarios.unizar.es/sede-curso/zaragoza-0 ) | 10/07/2023 al 12/07/2023 Entomología Sanitaria y Control de Vectores.  ( https://cursosextraordinarios.unizar.es/curso/2023/entomologia-sanitaria-y-control-de-vectores )Grañén (Huesca) ( https://cursosextraordinarios.unizar.es/sede-curso/granen-huesca ) | 10/07/2023 al 14/07/2023 XXII Curso de botánica práctica “Cienfuegos” sobre la flora y vegetación del Moncayo ( https://cursosextraordinarios.unizar.es/curso/2023/xxii-curso-de-botanica-practica-cienfuegos-sobre-la-flora-y-vegetacion-del-moncayo )| 26/06/2023 al 30/06/2023 Teledetección y espectometría de imágenes en las Ciencias de la Tierra.  ( https://cursosextraordinarios.unizar.es/curso/2023/teledeteccion-y-espectometria-de-imagenes-en-las-ciencias-de-la-tierra )Zaragoza ( https://cursosextraordinarios.unizar.es/sede-curso/zaragoza-0 ) | 03/07/2023 al 07/07/2023 El reto de la energía hacia los objetivos de desarrollo sostenible..  ( https://cursosextraordinarios.unizar.es/curso/2023/el-reto-de-la-energia-hacia-los-objetivos-de-desarrollo-sostenible )Jaca (Huesca) ( https://cursosextraordinarios.unizar.es/sede-curso/jaca-huesca ) | 05/07/2023 al 07/07/2023 Atmósfera\, tiempo y cambio climático.  ( https://cursosextraordinarios.unizar.es/curso/2023/atmosfera-tiempo-y-cambio-climatico )Jaca (Huesca) ( https://cursosextraordinarios.unizar.es/sede-curso/jaca-huesca ) | 12/07/2023 al 14/07/2023 Mamíferos del Pirineo 2023.  ( https://cursosextraordinarios.unizar.es/curso/2023/mamiferos-del-pirineo-2023 )Jaca (Huesca) ( https://cursosextraordinarios.unizar.es/sede-curso/jaca-huesca ) | 17/07/2023 al 21/07/2023 Curso-Taller: Ciencia\, medios y sociedad: una comunicación necesaria.  ( https://cursosextraordinarios.unizar.es/curso/2023/curso-taller-ciencia-medios-y-sociedad-una-comunicacion-necesaria )Zaragoza ( https://cursosextraordinarios.unizar.es/sede-curso/zaragoza-0 ) | 29/06/2023 al 30/06/2023 Actualidad y retos del Gobierno Abierto en España.  ( https://cursosextraordinarios.unizar.es/curso/2023/actualidad-y-retos-del-gobierno-abierto-en-espana )Jaca (Huesca) ( https://cursosextraordinarios.unizar.es/sede-curso/jaca-huesca ) | 03/07/2023 al 04/07/2023 Consumo eficiente\, responsable y ético para un desarrollo sostenible ( https://cursosextraordinarios.unizar.es/curso/2023/consumo-eficiente-responsable-y-etico-para-un-desarrollo-sostenible ). Jaca (Huesca) ( https://cursosextraordinarios.unizar.es/sede-curso/jaca-huesca ) | 03/07/2023 al 04/07/2023 Inteligencia artificial para medios de comunicación.  ( https://cursosextraordinarios.unizar.es/curso/2023/inteligencia-artificial-para-medios-de-comunicacion )Jaca (Huesca) ( https://cursosextraordinarios.unizar.es/sede-curso/jaca-huesca ) | 10/07/2023 al 12/07/2023 Transición verde para el cambio climático: perspectivas desde el Derecho ambiental.  ( https://cursosextraordinarios.unizar.es/curso/2023/transicion-verde-para-el-cambio-climatico-perspectivas-desde-el-derecho-ambiental )Jaca (Huesca) ( https://cursosextraordinarios.unizar.es/sede-curso/jaca-huesca ) | 17/07/2023 al 19/07/2023 Gamificación educativa: Utilización\, creación y desarrollo de programas y aplicaciones que refuerzan el proceso de enseñanza-aprendizaje. ( https://cursosextraordinarios.unizar.es/curso/2023/gamificacion-educativa-utilizacion-creacion-y-desarrollo-de-programas-y-aplicaciones-que )Zaragoza ( https://cursosextraordinarios.unizar.es/sede-curso/zaragoza-0 ) | 03/07/2023 al 05/07/2023 Curso-taller de iniciación a la elaboración de vídeos y pódcast para la docencia\, la investigación y la transferencia.  ( https://cursosextraordinarios.unizar.es/curso/2023/curso-taller-de-iniciacion-la-elaboracion-de-videos-y-podcast-para-la-docencia-la )Zaragoza ( https://cursosextraordinarios.unizar.es/sede-curso/zaragoza-0 ) | 10/07/2023 al 12/07/2023 Dinamización de entornos rurales poco poblados. Estrategias paisajísticas\, patrimoniales y habitacionales para el eje Arén-Sopeira-Betesa (Valle del Noguera Ribagorzana\, Huesca) ( https://cursosextraordinarios.unizar.es/curso/2023/dinamizacion-de-entornos-rurales-poco-poblados-estrategias-paisajisticas-patrimoniales-y )| 10/07/2023 al 14/07/2023 Movilidad Sostenible en Transporte por Cable.  ( https://cursosextraordinarios.unizar.es/curso/2023/movilidad-sostenible-en-transporte-por-cable )Jaca (Huesca) ( https://cursosextraordinarios.unizar.es/sede-curso/jaca-huesca ) | 18/07/2023 al 21/07/2023                       Universidad de Verano de Teruel (Fundación Antonio Gargallo)     II Reunión Científica Internacional de Organizaciones Saludables: Avanzar en los 5 ejes que articulan los ODS (Planeta\, Personas\, Prosperidad\, Alianzas\, Paz) en el ámbito rural. “El desafío del bienestar psicosocial como estrategia de sostenibilidad ( https://fantoniogargallo.unizar.es/curso/2023/ii-reunion-cientifica-internacional-de-organizaciones-saludables-avanzar-en-los-5-ejes ) TERUEL ( https://fantoniogargallo.unizar.es/sede-curso/teruel )|05/07/2023 to 07/07/2023 Gestión ambiental en el medio rural en el actual contexto del despoblamiento y cambio climático: El papel de los Servicios de los Ecosistemas.  ( https://fantoniogargallo.unizar.es/curso/2023/gestion-ambiental-en-el-medio-rural-en-el-actual-contexto-del-despoblamiento-y-cambio )TERUEL ( https://fantoniogargallo.unizar.es/sede-curso/teruel )|24/07/2023 to 26/07/2023 Curso de ornitología práctica de las tierras del Jiloca y Gallocanta. XIII Edición.  ( https://fantoniogargallo.unizar.es/curso/2023/curso-de-ornitologia-practica-de-las-tierras-del-jiloca-y-gallocanta-xiii-edicion )BELLO ( https://fantoniogargallo.unizar.es/sede-curso/bello )|12/05/2023 to 14/05/2023 Los chopos cabeceros. La gestión de un patrimonio natural y cultural. I Edición.  ( https://fantoniogargallo.unizar.es/curso/2023/los-chopos-cabeceros-la-gestion-de-un-patrimonio-natural-y-cultural-i-edicion )AGUILAR DEL ALFAMBRA ( https://fantoniogargallo.unizar.es/sede-curso/aguilar-del-alfambra )|03/06/2023 Plantas aromáticas y medicinales. Transformación y usos.  ( https://fantoniogargallo.unizar.es/curso/2023/plantas-aromaticas-y-medicinales-transformacion-y-usos )TERUEL ( https://fantoniogargallo.unizar.es/sede-curso/teruel )|24/05/2023 to 26/05/2023 IV Jornadas de pintura de paisaje  ( https://fantoniogargallo.unizar.es/curso/2023/iv-jornadas-de-pintura-de-paisaje )TERUEL ( https://fantoniogargallo.unizar.es/sede-curso/teruel )|06/09/2023 to 08/09/2023 Patrimonio Cultural en el Parque el Río Martín. Ariño. Investigación\, gestión y conservación del patrimonio cultural ( https://fantoniogargallo.unizar.es/curso/2023/patrimonio-cultural-en-el-parque-cultural-del-rio-martin-arino-investigacion-gestion-y ).. ARIÑO ( https://fantoniogargallo.unizar.es/sede-curso/arino )|26/07/2023 to 28/07/2023 El Patrimonio ante los retos de la despoblación. Estrategias de intervención del patrimonio inmaterial para la sostenibilidad cultural..  ( https://fantoniogargallo.unizar.es/curso/2023/el-patrimonio-ante-los-retos-de-la-despoblacion-estrategias-de-intervencion-del )CANTAVIEJA ( https://fantoniogargallo.unizar.es/sede-curso/cantavieja )|17/06/2023 Improving Recyclability of Thermoset Composite Materials Through a Greener Recycling Technology.  ( https://fantoniogargallo.unizar.es/curso/2023/improving-recyclability-thermoset-composite-materials-through-greener-recycling )TERUEL ( https://fantoniogargallo.unizar.es/sede-curso/teruel )|15/05/2023 to 15/09/2023 56º Curso de Geología Práctica. Aprendiendo los métodos básicos en geología en la Cordillera Ibérica turolense.  ( https://fantoniogargallo.unizar.es/curso/2023/56o-curso-de-geologia-practica-aprendiendo-los-metodos-basicos-en-geologia-en-la )TERUEL ( https://fantoniogargallo.unizar.es/sede-curso/teruel )|17/07/2023 to 21/07/2023 Teledetección desde satélite: Procesamiento digital de imágenes\, y aplicaciones Copernicus.  ( https://fantoniogargallo.unizar.es/curso/2023/teledeteccion-desde-satelite-procesamiento-digital-de-imagenes-y-aplicaciones-copernicus )TERUEL ( https://fantoniogargallo.unizar.es/sede-curso/teruel )|24/07/2023 to 27/07/2023 Paleontología y desarrollo XXII Edición. Prácticas en excavación de dinosaurios..  ( https://fantoniogargallo.unizar.es/curso/2023/paleontologia-y-desarrollo-xxii-edicion-practicas-en-excavacion-de-dinosaurios )TERUEL ( https://fantoniogargallo.unizar.es/sede-curso/teruel )|24/07/2023 to 28/07/2023 XXXIII Curso de Botánica Práctica: la flora y vegetación del Sistema Ibérico oriental.  ( https://fantoniogargallo.unizar.es/curso/2023/xxxiii-curso-de-botanica-practica-la-flora-y-vegetacion-del-sistema-iberico-oriental )ORIHUELA DEL TREMEDAL ( https://fantoniogargallo.unizar.es/sede-curso/orihuela-del-tremedal )|03/07/2023 to 06/07/2023 Periodismo y Ciencia. Los divulgadores esenciales.  ( https://fantoniogargallo.unizar.es/curso/2023/periodismo-y-ciencia-los-divulgadores-esenciales )ALCAÑIZ ( https://fantoniogargallo.unizar.es/sede-curso/alcaniz )|31/08/2023 to 02/09/2023
URL:https://zaragenda.com/evento-zaragoza/inscripciones-cursos-de-verano-universidad-de-zaragoza-y-universidad-de-verano-de-teruel-fundacion-antonio-gargallo/
LOCATION:Varias localizaciones
CATEGORIES:Acción climática,Actividades en el medio natural,Biodiversidad,Botánica,Cambio Clímático,Consumo responsable,Desarrollo rural,Descarbonización del transporte,Energía renovable,Espacios Naturales Protegidos,Formación en medio ambiente y sostenibilidad,Innovación social,Insectos,Interpretación del Patrimonio,Medio Ambiente,Meteorología/Clima,Movilidad sostenible,Naturaleza,Objetivos de Desarrollo Sostenible,Ocio y tiempo libre,Ordenación del Territorio,Participación ciudadana,Patrimonio,Patrimonio Geológico/Paleontológico,Reciclaje,Responsabilidad Social Corporativa,Salud
ATTACH;FMTTYPE=image/png:https://zaragenda.com/wp-content/uploads/2023/07/Captura-de-pantalla-2022-05-18-a-las-13.51.23-w01hIn.tmp_.png
END:VEVENT
END:VCALENDAR