BEGIN:VCALENDAR
VERSION:2.0
PRODID:-//ZARAGENDA - Agenda Zaragoza de ocio y eventos - ECPv6.15.16//NONSGML v1.0//EN
CALSCALE:GREGORIAN
METHOD:PUBLISH
X-WR-CALNAME:ZARAGENDA - Agenda Zaragoza de ocio y eventos
X-ORIGINAL-URL:https://zaragenda.com
X-WR-CALDESC:Eventos para ZARAGENDA - Agenda Zaragoza de ocio y eventos
REFRESH-INTERVAL;VALUE=DURATION:PT1H
X-Robots-Tag:noindex
X-PUBLISHED-TTL:PT1H
BEGIN:VTIMEZONE
TZID:Europe/Madrid
BEGIN:DAYLIGHT
TZOFFSETFROM:+0100
TZOFFSETTO:+0200
TZNAME:CEST
DTSTART:20200329T010000
END:DAYLIGHT
BEGIN:STANDARD
TZOFFSETFROM:+0200
TZOFFSETTO:+0100
TZNAME:CET
DTSTART:20201025T010000
END:STANDARD
BEGIN:DAYLIGHT
TZOFFSETFROM:+0100
TZOFFSETTO:+0200
TZNAME:CEST
DTSTART:20210328T010000
END:DAYLIGHT
BEGIN:STANDARD
TZOFFSETFROM:+0200
TZOFFSETTO:+0100
TZNAME:CET
DTSTART:20211031T010000
END:STANDARD
BEGIN:DAYLIGHT
TZOFFSETFROM:+0100
TZOFFSETTO:+0200
TZNAME:CEST
DTSTART:20220327T010000
END:DAYLIGHT
BEGIN:STANDARD
TZOFFSETFROM:+0200
TZOFFSETTO:+0100
TZNAME:CET
DTSTART:20221030T010000
END:STANDARD
BEGIN:DAYLIGHT
TZOFFSETFROM:+0100
TZOFFSETTO:+0200
TZNAME:CEST
DTSTART:20230326T010000
END:DAYLIGHT
BEGIN:STANDARD
TZOFFSETFROM:+0200
TZOFFSETTO:+0100
TZNAME:CET
DTSTART:20231029T010000
END:STANDARD
BEGIN:DAYLIGHT
TZOFFSETFROM:+0100
TZOFFSETTO:+0200
TZNAME:CEST
DTSTART:20240331T010000
END:DAYLIGHT
BEGIN:STANDARD
TZOFFSETFROM:+0200
TZOFFSETTO:+0100
TZNAME:CET
DTSTART:20241027T010000
END:STANDARD
BEGIN:DAYLIGHT
TZOFFSETFROM:+0100
TZOFFSETTO:+0200
TZNAME:CEST
DTSTART:20250330T010000
END:DAYLIGHT
BEGIN:STANDARD
TZOFFSETFROM:+0200
TZOFFSETTO:+0100
TZNAME:CET
DTSTART:20251026T010000
END:STANDARD
END:VTIMEZONE
BEGIN:VEVENT
DTSTART;VALUE=DATE:20240422
DTEND;VALUE=DATE:20240423
DTSTAMP:20260425T150900
CREATED:20240418T105848Z
LAST-MODIFIED:20240418T105848Z
UID:10008499-1713744000-1713830399@zaragenda.com
SUMMARY:Día de San Jorge - 22 abril
DESCRIPTION:Música tradicional y bailes a cargo de Gaiteros del Rabal.\nMagia con Civi Civiac\, Pepín Banzo  Helena Perdomo.\nEspectáculo de jotas ‘Hispana’\, de Lorena Margallo\, Sergio Aso\, Rubén Jiménez y Jonás Gimeno.\nPop-rock con «Sr. Isasi» y la fiesta con DJ Justo Peña\, Ramón Rojas e Ignacio Cristóbal ‘Coco’ en ‘Perdidos en los 80’.\nActuaciones de magia con «La Compañía»\n17:00 – 20:00 -> Proyección del cortometraje «El niño que retrató monstruos»\, de Víctor Izquierdo\, y el documental «Tañen Furo»\, de Idoipe.
URL:https://zaragenda.com/evento-zaragoza/dia-de-san-jorge-22-abril/
LOCATION:Edificio Pignatelli\, Paseo María Agustín\, 36\, Zaragoza\, Zaragoza\, 50004\, España
CATEGORIES:Actividades,cultura,Espectáculos,Folclore,Música,Ocio,San Jorge Zaragoza 2024
ATTACH;FMTTYPE=image/png:https://zaragenda.com/wp-content/uploads/2024/04/san-jorge-zaragoza.png
GEO:41.6530766;-0.8918017
X-APPLE-STRUCTURED-LOCATION;VALUE=URI;X-ADDRESS=Edificio Pignatelli Paseo María Agustín 36 Zaragoza Zaragoza 50004 España;X-APPLE-RADIUS=500;X-TITLE=Paseo María Agustín\, 36:geo:-0.8918017,41.6530766
END:VEVENT
BEGIN:VEVENT
DTSTART;TZID=Europe/Madrid:20240421T103000
DTEND;TZID=Europe/Madrid:20240421T150000
DTSTAMP:20260425T150900
CREATED:20240418T083116Z
LAST-MODIFIED:20240418T083116Z
UID:10008493-1713695400-1713711600@zaragenda.com
SUMMARY:Feria de San Jorge
DESCRIPTION:Este domingo 21 de abril se celebra el Día de Aragón en Las Armas; la entrada será libre y podremos encontrar los siguientes puestos: \n\nMercadillo de artesanía y agroalimentación -> se darán a conocer algunos productores y comercios aragoneses que poseen una amplía oferta de productos artesanales textiles\, de bisutería\, ilustración\, fotografía\, alimentación\, decoración…\nPoemas al minuto -> al ser momento de libros y lectura\, estará «Poemas al Gusto» con su máquina de escribir para hacer poemas al instante.\nIniciativas solidarias -> habrá 2 iniciativas sociales:\n\nLa fundación Ronal McDonald -> recaudará fondos para mantener el servicio presente en el Hospital Infantil de Zaragoza. Venderán peluches solidarios del dragón de San Jorge.\nLa Red de Semillas de Aragón -> una entidad sin ánimo de lucro que promueve el uso\, la producción\, el mantenimiento y la conservación de la biodiversidad de Aragón. Se darán a conocer proyectos que tienen activos\, intercambiar semillas y comprar sus calendarios y camisetas.\n\n\nActividades infantiles -> Vive Zaragoza Tours ofrecerá una charla sobre la historia de San Jorge adaptada para toda la familia. Además de 11 a 13 h. habrá taller infantil para confeccionar tu propio marcapáginas con Espacio Boteral.
URL:https://zaragenda.com/evento-zaragoza/feria-de-san-jorge/
LOCATION:Las Armas\, Plaza Mariano de Cavia\, 2\, Zaragoza\, Zaragoza\, 50003\, España
CATEGORIES:Actividades,cultura,San Jorge Zaragoza 2024
ATTACH;FMTTYPE=image/jpeg:https://zaragenda.com/wp-content/uploads/2024/04/dia-de-san-jorge.jpg
GEO:41.6567621;-0.8857808
X-APPLE-STRUCTURED-LOCATION;VALUE=URI;X-ADDRESS=Las Armas Plaza Mariano de Cavia 2 Zaragoza Zaragoza 50003 España;X-APPLE-RADIUS=500;X-TITLE=Plaza Mariano de Cavia\, 2:geo:-0.8857808,41.6567621
END:VEVENT
BEGIN:VEVENT
DTSTART;TZID=Europe/Madrid:20210423T120000
DTEND;TZID=Europe/Madrid:20210423T140000
DTSTAMP:20260425T150900
CREATED:20210422T070359Z
LAST-MODIFIED:20230208T134045Z
UID:10002280-1619179200-1619186400@zaragenda.com
SUMMARY:Firma de libros: El brazalete de piel de mono"
DESCRIPTION:Lugar: Librería Fontibre (C/ San Miguel\, 31)\nDía y hora: Viernes 23 de abril de 12 a 14h\nEste viernes es el día de libro y en la librería Fontibre TROA traemos la mejor firma de libros del año.\nVendrá a conocernos Marta Roman\, la madre del internacional Youtuber de parkour SHIFER WHAT. \nDe 12 a 14h estará en nuestra librería para contestar todas vuestras preguntas\, firmar libros y contar todos los secretos de escribir esta historia. ¿Ya os imagináis en quién se inspira nuestro protagonista? \nReserña del libro:\nYäi y Suyai son dos hermanos gemelos que viven en un poblado oculto de la selva amazónica. Siempre estuvieron muy unidos desde que con ocho años quedaron huérfanos. Sin embargo\, al hacerse mayores sus vidas tomaron rumbos diferentes. Tras un difícil reencuentro\, un terrible suceso obligará a los gemelos a intercambiar sus destinos. A partir de ese momento\, cada uno afrontará una misión superior a sus fuerzas a la vez que descubrirá el valor que tiene contar con amigos cuando has de luchar contra monstruos sin corazón. En la lucha por sobrevivir\, nacerá un niño\, Antonio\, llamado a acometer grandes retos. Una novela de acción trepidante que habla de la belleza de la naturaleza más salvaje\, el amor\, el sufrimiento\, la traición y la aceptación de la realidad como camino hacia la felicidad.
URL:https://zaragenda.com/evento-zaragoza/firma-de-libros-el-brazalete-de-piel-de-mono/
LOCATION:Zaragoza\, Zaragoza\, España
CATEGORIES:San Jorge Zaragoza 2024
ATTACH;FMTTYPE=image/jpeg:https://zaragenda.com/wp-content/uploads/2021/04/d5dd8a_ac153db2d3da4402b215654e54c2d589_mv2_d_1772_2717_s_2.jpg
GEO:41.6488226;-0.8890853
END:VEVENT
END:VCALENDAR