BEGIN:VCALENDAR
VERSION:2.0
PRODID:-//ZARAGENDA - Agenda Zaragoza de ocio y eventos - ECPv6.15.16//NONSGML v1.0//EN
CALSCALE:GREGORIAN
METHOD:PUBLISH
X-ORIGINAL-URL:https://zaragenda.com
X-WR-CALDESC:Eventos para ZARAGENDA - Agenda Zaragoza de ocio y eventos
REFRESH-INTERVAL;VALUE=DURATION:PT1H
X-Robots-Tag:noindex
X-PUBLISHED-TTL:PT1H
BEGIN:VTIMEZONE
TZID:Europe/Madrid
BEGIN:DAYLIGHT
TZOFFSETFROM:+0100
TZOFFSETTO:+0200
TZNAME:CEST
DTSTART:20210328T010000
END:DAYLIGHT
BEGIN:STANDARD
TZOFFSETFROM:+0200
TZOFFSETTO:+0100
TZNAME:CET
DTSTART:20211031T010000
END:STANDARD
BEGIN:DAYLIGHT
TZOFFSETFROM:+0100
TZOFFSETTO:+0200
TZNAME:CEST
DTSTART:20220327T010000
END:DAYLIGHT
BEGIN:STANDARD
TZOFFSETFROM:+0200
TZOFFSETTO:+0100
TZNAME:CET
DTSTART:20221030T010000
END:STANDARD
BEGIN:DAYLIGHT
TZOFFSETFROM:+0100
TZOFFSETTO:+0200
TZNAME:CEST
DTSTART:20230326T010000
END:DAYLIGHT
BEGIN:STANDARD
TZOFFSETFROM:+0200
TZOFFSETTO:+0100
TZNAME:CET
DTSTART:20231029T010000
END:STANDARD
END:VTIMEZONE
BEGIN:VEVENT
DTSTART;TZID=Europe/Madrid:20220206T190000
DTEND;TZID=Europe/Madrid:20220206T203000
DTSTAMP:20260421T045725
CREATED:20220202T132859Z
LAST-MODIFIED:20230208T163612Z
UID:10004816-1644174000-1644179400@zaragenda.com
SUMMARY:La lluvia amarilla
DESCRIPTION:La Lluvia Amarilla es una novela de Julio Llamazares publicada en 1988. Se trata de un monólogo del último habitante de un pueblo del Pirineo\, Ainielle\, durante su última noche en el lugar. Andrés\, de Casa Sosas\, nos explica su relato desde esa última noche de su vida\, desde el momento en el que la muerte le conducirá a la oscuridad eterna\, donde se reunirá con su madre y todos sus seres queridos. La historia de Andrés es el transcurrir de una vida y\, a su vez\, la muerte de una manera de vivir. Tenaz en su convicción\, sin perder la fidelidad a las costumbres propias en ningún momento\, será el último habitante de su pueblo natal y de la casa que le ha visto nacer. Pero Andrés es acuciado por todos los males imaginables: la soledad\, la muerte\, la desidia\, la enfermedad\, el odio\, la alucinación\, el tiempo… En La Lluvia Amarilla el agreste paisaje de montaña\, provoca que el hombre haga balance de su soledad y desamparo en los umbrales de la muerte. \nUn lugar\, un pueblo deshabitado\, Ainielle\, es\, posiblemente\, el personaje principal de este espectáculo. Un personaje mudo\, manco y cojo\, pero ni sordo\, ni ciego\, ni insensible. Ainielle existe\, está ahí\, no lejos de Biescas\, en el Pirineo aragonés. Pero ¿puede un pueblo existir si nadie es testigo de su existencia? En cualquier caso\, Ainielle estaba allí\, a 1.355 metros de altitud; era uno de los lugares poblados más altos del Pirineo pero está deshabitado desde el año 1971 en que su último poblador abandonó el lugar para siempre. \nEn 1988 apareció la novela de Julio Llamazares\, La Lluvia Amarilla\, y tras diecisiete años borrado del mapa\, Ainielle se volvió a escribir en las cartas; esta vez en los escritos de los aficionados a la lectura. Julio Llamazares situó la trama de esta novela en este pueblo\, y puso rostro a uno de los dramas más sobrecogedores que el territorio español ha sufrido desde la postguerra: la despoblación. Pueblos vacíos\, casas en ruinas\, tejados derrumbados\, bancales conquistados por la maleza\, cristales rotos\, chimeneas apagadas… Este es el panorama de gran parte del interior de nuestro país. Igual que la maleza se come los muros de piedra de las casas\, la ausencia de habitantes\, devora la memoria de los lugares. Por otro lado aparecen ciudades cada vez más pobladas\, menos humanas…\, ciudades sin memoria. Rescatemos primero la memoria de esos pueblos que están a punto de borrarse de los mapas. \nHorarios de funciones:\nJueves\, 3 de febrero\, a las 20.00 h. \nViernes\, 4 de febrero\, a las 20.00h. \nSábado\, 5 de febrero\, a las 20.00 h. \nDomingo\, 6 de febrero\, a las 19.00 h. \nDuración: 70minutos\nEspectáculo recomendado para público adulto \nPrecios: de 5 a 25 € \nBonificación: Espectáculo bonificado para las funciones de los días 3 y 4 de febrero.
URL:https://zaragenda.com/evento-zaragoza/la-lluvia-amarilla-en-el-teatro-principal-de-zaragoza/2022-02-06/
LOCATION:Teatro Principal\, Plaza de José Sinués y Urbiola\, 2\, Zaragoza\, Zaragoza\, 50001\, España
CATEGORIES:Espectáculos,Teatro
ATTACH;FMTTYPE=image/jpeg:https://zaragenda.com/wp-content/uploads/2022/02/LALLUVIAAMARILLAcartel-R-nuevo-scaled-1.jpg
GEO:41.6518814;-0.8793193
X-APPLE-STRUCTURED-LOCATION;VALUE=URI;X-ADDRESS=Teatro Principal Plaza de José Sinués y Urbiola 2 Zaragoza Zaragoza 50001 España;X-APPLE-RADIUS=500;X-TITLE=Plaza de José Sinués y Urbiola\, 2:geo:-0.8793193,41.6518814
END:VEVENT
END:VCALENDAR