BEGIN:VCALENDAR
VERSION:2.0
PRODID:-//ZARAGENDA - Agenda Zaragoza de ocio y eventos - ECPv6.15.16//NONSGML v1.0//EN
CALSCALE:GREGORIAN
METHOD:PUBLISH
X-ORIGINAL-URL:https://zaragenda.com
X-WR-CALDESC:Eventos para ZARAGENDA - Agenda Zaragoza de ocio y eventos
REFRESH-INTERVAL;VALUE=DURATION:PT1H
X-Robots-Tag:noindex
X-PUBLISHED-TTL:PT1H
BEGIN:VTIMEZONE
TZID:Europe/Madrid
BEGIN:DAYLIGHT
TZOFFSETFROM:+0100
TZOFFSETTO:+0200
TZNAME:CEST
DTSTART:20200329T010000
END:DAYLIGHT
BEGIN:STANDARD
TZOFFSETFROM:+0200
TZOFFSETTO:+0100
TZNAME:CET
DTSTART:20201025T010000
END:STANDARD
BEGIN:DAYLIGHT
TZOFFSETFROM:+0100
TZOFFSETTO:+0200
TZNAME:CEST
DTSTART:20210328T010000
END:DAYLIGHT
BEGIN:STANDARD
TZOFFSETFROM:+0200
TZOFFSETTO:+0100
TZNAME:CET
DTSTART:20211031T010000
END:STANDARD
BEGIN:DAYLIGHT
TZOFFSETFROM:+0100
TZOFFSETTO:+0200
TZNAME:CEST
DTSTART:20220327T010000
END:DAYLIGHT
BEGIN:STANDARD
TZOFFSETFROM:+0200
TZOFFSETTO:+0100
TZNAME:CET
DTSTART:20221030T010000
END:STANDARD
END:VTIMEZONE
BEGIN:VEVENT
DTSTART;TZID=Europe/Madrid:20210904T110000
DTEND;TZID=Europe/Madrid:20210905T200000
DTSTAMP:20260420T215041
CREATED:20210625T101403Z
LAST-MODIFIED:20230208T143900Z
UID:10002576-1630753200-1630872000@zaragenda.com
SUMMARY:Mercado del Cierzo
DESCRIPTION:Los días 4 y 5 de septiembre se celebra el Mercado del Cierzo en un entorno único\, en pleno corazón de Zaragoza en la antigua fábrica de electricidad de la calle San Pablo 59.\nUn espacio dedicado al arte y al diseño de autor edición en la que se podrán ver productos responsables\, con diseño independiente y muy originales. \nToda una nueva edición cargada de novedades y que será también una oportunidad para adquirir piezas únicas de decoración\, moda y gourmet y apoyar el diseño local.\nJunto a los stands de diseñadores también se podrá disfrutar del arte con las exposiciones de pintura.\nEl objetivo final es potenciar y dar a conocer el arte independiente con un movimiento cultural y social promocionando una diversidad de firmas\, artistas\, músicos y diseñadores con gran potencial. \nEl horario del evento será de 11 a 14h y de 17:00 a 20:30 h y la entrada será libre y gratuita hasta completar el aforo.
URL:https://zaragenda.com/evento-zaragoza/mercado-del-cierzo-6/
LOCATION:Mercado del Cierzo\, Local de la calle San Pablo\, 59\, Zaragoza\, Zaragoza\, 50003\, España
CATEGORIES:Actividades para niños,cultura,Feria,ferias,Festival,Mercadillos
ATTACH;FMTTYPE=image/jpeg:https://zaragenda.com/wp-content/uploads/2021/09/mercadodelcierzo.jpg
GEO:41.6564549;-0.8971132
X-APPLE-STRUCTURED-LOCATION;VALUE=URI;X-ADDRESS=Mercado del Cierzo Local de la calle San Pablo 59 Zaragoza Zaragoza 50003 España;X-APPLE-RADIUS=500;X-TITLE=Local de la calle San Pablo\, 59:geo:-0.8971132,41.6564549
END:VEVENT
END:VCALENDAR