BEGIN:VCALENDAR
VERSION:2.0
PRODID:-//ZARAGENDA - Agenda Zaragoza de ocio y eventos - ECPv6.15.16//NONSGML v1.0//EN
CALSCALE:GREGORIAN
METHOD:PUBLISH
X-WR-CALNAME:ZARAGENDA - Agenda Zaragoza de ocio y eventos
X-ORIGINAL-URL:https://zaragenda.com
X-WR-CALDESC:Eventos para ZARAGENDA - Agenda Zaragoza de ocio y eventos
REFRESH-INTERVAL;VALUE=DURATION:PT1H
X-Robots-Tag:noindex
X-PUBLISHED-TTL:PT1H
BEGIN:VTIMEZONE
TZID:Europe/Madrid
BEGIN:DAYLIGHT
TZOFFSETFROM:+0100
TZOFFSETTO:+0200
TZNAME:CEST
DTSTART:20210328T010000
END:DAYLIGHT
BEGIN:STANDARD
TZOFFSETFROM:+0200
TZOFFSETTO:+0100
TZNAME:CET
DTSTART:20211031T010000
END:STANDARD
BEGIN:DAYLIGHT
TZOFFSETFROM:+0100
TZOFFSETTO:+0200
TZNAME:CEST
DTSTART:20220327T010000
END:DAYLIGHT
BEGIN:STANDARD
TZOFFSETFROM:+0200
TZOFFSETTO:+0100
TZNAME:CET
DTSTART:20221030T010000
END:STANDARD
BEGIN:DAYLIGHT
TZOFFSETFROM:+0100
TZOFFSETTO:+0200
TZNAME:CEST
DTSTART:20230326T010000
END:DAYLIGHT
BEGIN:STANDARD
TZOFFSETFROM:+0200
TZOFFSETTO:+0100
TZNAME:CET
DTSTART:20231029T010000
END:STANDARD
END:VTIMEZONE
BEGIN:VEVENT
DTSTART;TZID=Europe/Madrid:20220921T173000
DTEND;TZID=Europe/Madrid:20220921T203000
DTSTAMP:20260420T180228
CREATED:20220917T125506Z
LAST-MODIFIED:20230208T173241Z
UID:10005816-1663781400-1663792200@zaragenda.com
SUMMARY:ECUALIZACIÓN Y COMPRESIÓN
DESCRIPTION:Curso intensivo de 9 horas Ecualización y compresión. \nEn este taller 100% práctico\, analizaremos los tipos de ecualizadores y compresores y sus principales aplicaciones en mezcla y mastering. \nAnalizaremos ecualizadores\, shelving\, gráficos y paramétricos\, para mejorar y equilibrar el sonido de voces\, instrumentos virtuales y acústicos. \nCompresores\, limitadores\, puertas de ruidos\, maximizadores\, y sus efectos en nuestras producciones. \nHORARIOS:\n21\, 26 y 28 de septiembre.\nDe 17:30 a 20:30h\nDuración 9 horas \nPRECIO:\n150€ \nINSCRIPCIÓN: \nEcualización y compresión \n \nPROFESOR: Juan Ignacio Montecchia:\nMúsico\, productor y técnico de sonido\, con más de 25 años de experiencia grabando\, editando y mezclando\, en estudios y en directo. Ha producido música para cine\, para sus discos como artista y para terceros. \nHa colaborado con artistas tan diversos como Miguel Ángel Berna o 2020 Soundsystem. \nBuscador incansable\, en formación constante\, ha trabajado en giras y shows en Argentina\, Brasil\, Francia\, Inglaterra\, Arabia y Japón. \nAULAS:\nDirección: Espacio Joven de Ibercaja\, Calle Fernando el Católico 1\, 3\, Zaragoza
URL:https://zaragenda.com/evento-zaragoza/ecualizacion-y-compresion/
LOCATION:Biblioteca Ibercaja José Sinués\, Paseo Fernando el Católico\, 1-3\, Zaragoza\, Zaragoza\, 50006\, España
CATEGORIES:Música,Talleres
ATTACH;FMTTYPE=image/jpeg:https://zaragenda.com/wp-content/uploads/2022/09/CURSO-ECUALIZACION-Y-COMPRESION-ZARAGOZA.jpg
GEO:41.6430649;-0.8925077
X-APPLE-STRUCTURED-LOCATION;VALUE=URI;X-ADDRESS=Biblioteca Ibercaja José Sinués Paseo Fernando el Católico 1-3 Zaragoza Zaragoza 50006 España;X-APPLE-RADIUS=500;X-TITLE=Paseo Fernando el Católico\, 1-3:geo:-0.8925077,41.6430649
END:VEVENT
END:VCALENDAR