BEGIN:VCALENDAR
VERSION:2.0
PRODID:-//ZARAGENDA - Agenda Zaragoza de ocio y eventos - ECPv6.15.16//NONSGML v1.0//EN
CALSCALE:GREGORIAN
METHOD:PUBLISH
X-WR-CALNAME:ZARAGENDA - Agenda Zaragoza de ocio y eventos
X-ORIGINAL-URL:https://zaragenda.com
X-WR-CALDESC:Eventos para ZARAGENDA - Agenda Zaragoza de ocio y eventos
REFRESH-INTERVAL;VALUE=DURATION:PT1H
X-Robots-Tag:noindex
X-PUBLISHED-TTL:PT1H
BEGIN:VTIMEZONE
TZID:Europe/Madrid
BEGIN:DAYLIGHT
TZOFFSETFROM:+0100
TZOFFSETTO:+0200
TZNAME:CEST
DTSTART:20210328T010000
END:DAYLIGHT
BEGIN:STANDARD
TZOFFSETFROM:+0200
TZOFFSETTO:+0100
TZNAME:CET
DTSTART:20211031T010000
END:STANDARD
BEGIN:DAYLIGHT
TZOFFSETFROM:+0100
TZOFFSETTO:+0200
TZNAME:CEST
DTSTART:20220327T010000
END:DAYLIGHT
BEGIN:STANDARD
TZOFFSETFROM:+0200
TZOFFSETTO:+0100
TZNAME:CET
DTSTART:20221030T010000
END:STANDARD
BEGIN:DAYLIGHT
TZOFFSETFROM:+0100
TZOFFSETTO:+0200
TZNAME:CEST
DTSTART:20230326T010000
END:DAYLIGHT
BEGIN:STANDARD
TZOFFSETFROM:+0200
TZOFFSETTO:+0100
TZNAME:CET
DTSTART:20231029T010000
END:STANDARD
END:VTIMEZONE
BEGIN:VEVENT
DTSTART;TZID=Europe/Madrid:20220226T213000
DTEND;TZID=Europe/Madrid:20220226T233000
DTSTAMP:20260419T152522
CREATED:20220225T090130Z
LAST-MODIFIED:20230208T164146Z
UID:10004911-1645911000-1645918200@zaragenda.com
SUMMARY:AGRADECIDO «Una Noche De Rock And Roll»
DESCRIPTION:AGRADECIDO\nBANDA HOMENAJE A ROSENDO Y BARRICADA \nhttps://youtube.com/channel/UCXji-SOEe77kSQ_DE8qLyQQ
URL:https://zaragenda.com/evento-zaragoza/agradecido-una-noche-de-rock-and-roll/
LOCATION:La Bóveda del Albergue\, Predicadores\, 70\, Zaragoza\, Zaragoza\, 50003\, España
CATEGORIES:Conciertos,Espectáculos
ATTACH;FMTTYPE=image/jpeg:https://zaragenda.com/wp-content/uploads/2022/02/IMG-20220217-WA0063.jpg
GEO:41.6576429;-0.8859076
X-APPLE-STRUCTURED-LOCATION;VALUE=URI;X-ADDRESS=La Bóveda del Albergue Predicadores 70 Zaragoza Zaragoza 50003 España;X-APPLE-RADIUS=500;X-TITLE=Predicadores\, 70:geo:-0.8859076,41.6576429
END:VEVENT
END:VCALENDAR