BEGIN:VCALENDAR
VERSION:2.0
PRODID:-//ZARAGENDA - Agenda Zaragoza de ocio y eventos - ECPv6.15.16//NONSGML v1.0//EN
CALSCALE:GREGORIAN
METHOD:PUBLISH
X-ORIGINAL-URL:https://zaragenda.com
X-WR-CALDESC:Eventos para ZARAGENDA - Agenda Zaragoza de ocio y eventos
REFRESH-INTERVAL;VALUE=DURATION:PT1H
X-Robots-Tag:noindex
X-PUBLISHED-TTL:PT1H
BEGIN:VTIMEZONE
TZID:Europe/Madrid
BEGIN:DAYLIGHT
TZOFFSETFROM:+0100
TZOFFSETTO:+0200
TZNAME:CEST
DTSTART:20210328T010000
END:DAYLIGHT
BEGIN:STANDARD
TZOFFSETFROM:+0200
TZOFFSETTO:+0100
TZNAME:CET
DTSTART:20211031T010000
END:STANDARD
BEGIN:DAYLIGHT
TZOFFSETFROM:+0100
TZOFFSETTO:+0200
TZNAME:CEST
DTSTART:20220327T010000
END:DAYLIGHT
BEGIN:STANDARD
TZOFFSETFROM:+0200
TZOFFSETTO:+0100
TZNAME:CET
DTSTART:20221030T010000
END:STANDARD
BEGIN:DAYLIGHT
TZOFFSETFROM:+0100
TZOFFSETTO:+0200
TZNAME:CEST
DTSTART:20230326T010000
END:DAYLIGHT
BEGIN:STANDARD
TZOFFSETFROM:+0200
TZOFFSETTO:+0100
TZNAME:CET
DTSTART:20231029T010000
END:STANDARD
END:VTIMEZONE
BEGIN:VEVENT
DTSTART;TZID=Europe/Madrid:20220210T193000
DTEND;TZID=Europe/Madrid:20220210T213000
DTSTAMP:20260419T200116
CREATED:20220111T163100Z
LAST-MODIFIED:20230208T162924Z
UID:10004731-1644521400-1644528600@zaragenda.com
SUMMARY:Bombones y Cavas de Aragón
DESCRIPTION:mparten: Claudia – Maestro chocolatero @chocolatebyclaudia \nBodegas Langa – Director Técnico de Bodega: César Langa \nInicio \n \nUn poco sobre Claudia… \nGanadora Premio Internacional de Bombón Artesano del Salón Internacional del chocolate y actual Directora técnica del Salón Internacional del chocolate. \n“Para mí el chocolate es magia\, me encanta fusionarlo para obtener nuevos sabores». \nOs traemos una cata muy especial de cara a una fecha muy marcada: San Valentín. \nUn plan perfecto tanto si vienes sólo como acompañado! \nDinámica del taller: \nCata exclusiva de Bombones de chocolate maridado con Cavas de Aragón. \nLa cata comienza con una breve presentación sobre los 2 productos a maridar. \nSe probarán 5 variedades de bombones maridados cada uno con un Cava difrente. \nDrisfrutarás de una desgustación maridada con los productos que se complementan a la perfección. \nCataremos bombones y trufas muy especiales con Cavas a la altura: \n1. Bombón de Chocolate Blanco y pera especiada\, maridado con Cava «Reina Petronila – ICE». \n2. Trufa de zanahoria\, mango y laurel\, maridada con «El Castro – Brute Reserva». \n3. Bombón de frambuesa\, grosella y enebro\, maridado con Cava «La Corona – Brut Rosé». \n4. Trufa de pistacho y matchá\, maridada con Cava «El Monje» – Brut Nature». \n5. Bombón de tomillo y AOVE\, maridado con Cava «Gran Reserva». \nHorario: 19:30-21:30h \nPrecio: 35€/p. / Pack 2 personas: 60€ \nIncluye taller con Claudia y cata guiada\, bombones y cata de 5 vinos. \nAforo reducido: 16 personas\nNota Covid\nEl Espacio cuenta con 200m2 repartidos en 5 salas. La sala principal dónde se llevarán a cabo las actividades y catas\, cuenta con 60m2\, espacio suficiente para respetar el 1\,5m de distanciamiento social\, tanto de pie como sentadas. Existe ventilación mecánica\, acondicionamiento (frío y calor) y geles hidroalcohólicos repartidos por todo el establecimiento. Adaptamos los aforos según normativa vigente\, ya sea con objeto formativo o social. \nVentilación continuada en el Espacio.\nObligatorio uso de mascarilla excepto en el momento de consumo.\n*Se pediré Certificado de vacunación / test antígenos o PCR negativo en las últimas 48h / certificado de haber pasado la enfermedad en los últimos 180 días.
URL:https://zaragenda.com/evento-zaragoza/bombones-y-cavas-de-aragon/
LOCATION:Espacio Kiwiki\, Calle Sta. Teresa de Jesús\, 6\, Local Izquierdo\, Zaragoza\, Zaragoza\, 50006\, España
CATEGORIES:Cata,Charlas,Gastronomía,Talleres
ATTACH;FMTTYPE=image/jpeg:https://zaragenda.com/wp-content/uploads/2022/01/Cata-valentin-.jpg
GEO:41.6421215;-0.8919027
X-APPLE-STRUCTURED-LOCATION;VALUE=URI;X-ADDRESS=Espacio Kiwiki Calle Sta. Teresa de Jesús 6 Local Izquierdo Zaragoza Zaragoza 50006 España;X-APPLE-RADIUS=500;X-TITLE=Calle Sta. Teresa de Jesús\, 6\, Local Izquierdo:geo:-0.8919027,41.6421215
END:VEVENT
END:VCALENDAR