BEGIN:VCALENDAR
VERSION:2.0
PRODID:-//ZARAGENDA - Agenda Zaragoza de ocio y eventos - ECPv6.15.16//NONSGML v1.0//EN
CALSCALE:GREGORIAN
METHOD:PUBLISH
X-WR-CALNAME:ZARAGENDA - Agenda Zaragoza de ocio y eventos
X-ORIGINAL-URL:https://zaragenda.com
X-WR-CALDESC:Eventos para ZARAGENDA - Agenda Zaragoza de ocio y eventos
REFRESH-INTERVAL;VALUE=DURATION:PT1H
X-Robots-Tag:noindex
X-PUBLISHED-TTL:PT1H
BEGIN:VTIMEZONE
TZID:Europe/Madrid
BEGIN:DAYLIGHT
TZOFFSETFROM:+0100
TZOFFSETTO:+0200
TZNAME:CEST
DTSTART:20210328T010000
END:DAYLIGHT
BEGIN:STANDARD
TZOFFSETFROM:+0200
TZOFFSETTO:+0100
TZNAME:CET
DTSTART:20211031T010000
END:STANDARD
BEGIN:DAYLIGHT
TZOFFSETFROM:+0100
TZOFFSETTO:+0200
TZNAME:CEST
DTSTART:20220327T010000
END:DAYLIGHT
BEGIN:STANDARD
TZOFFSETFROM:+0200
TZOFFSETTO:+0100
TZNAME:CET
DTSTART:20221030T010000
END:STANDARD
BEGIN:DAYLIGHT
TZOFFSETFROM:+0100
TZOFFSETTO:+0200
TZNAME:CEST
DTSTART:20230326T010000
END:DAYLIGHT
BEGIN:STANDARD
TZOFFSETFROM:+0200
TZOFFSETTO:+0100
TZNAME:CET
DTSTART:20231029T010000
END:STANDARD
END:VTIMEZONE
BEGIN:VEVENT
DTSTART;TZID=Europe/Madrid:20220206T190000
DTEND;TZID=Europe/Madrid:20220207T203000
DTSTAMP:20260421T085258
CREATED:20230330T200723Z
LAST-MODIFIED:20230330T200723Z
UID:10004781-1644174000-1644265800@zaragenda.com
SUMMARY:Confidencias de una Vedette Furibunda
DESCRIPTION:Confidencias de una Vedette Furibunda \nespectáculo de creación\, a partir de una dramaturgia de Jaime Ocaña \nFUNCIONES:\nJueves\, 3 de febrero\, a las 20.00h. \nViernes\, 4 de febrero\, a las 20.00h. \nSábado\, 5 de febrero\, a las 20.00h. \nDomingo\, 6 de febrero\, a las 19.00 h. \nDuración: 70 minutos\nPúblico: Todos públicos. \nPrecio: 20€ / 15€ BONIFICADO \nBonificación: espectáculo bonificado para las funciones de los días 3\, 4\, 5 Y 6 de febrero con código TMZ1983 \nSINOPSIS\nRelato incendiario y algo enloquecido de La Vero\, orgullosa descendiente de la tradición del Teatro Chino de Manolita Chen y de un posmodernismo rabiosamente esperpéntico\, lleno de historias rocambolescas y personajes patibularios. \nCon una cautivadora banda sonora original Confesiones de una Vedette Furibunda es un espectáculo descarado\, surreal y decadente\, en el que Jaime Ocaña interpreta en directo desde pasodobles levantiscos a las tonadillas racimo y la máquina de hacer panes de masa madre. \nREPARTO\nJaime Ocaña \nEQUIPO ARTÍSTICO\nVestuario. Lola Banzo \nEspacio sonoro. Carlos Páramo \nAudiovisuales / Fotografía. María Pueyo \nAyudante dirección. Catalina Pueyo \nDIRECCIÓN\nJaime Ocaña \nConfidencias de una Vedette Furibunda\, es una producción de BELLADONA TEATRO/JAIME OCAÑA – LAS PUEYO PRODUCCIONES
URL:https://zaragenda.com/evento-zaragoza/confidencias-de-una-vedette-furibunda/2022-02-06/
LOCATION:Teatro del mercado
CATEGORIES:Teatro
ATTACH;FMTTYPE=image/jpeg:https://zaragenda.com/wp-content/uploads/2022/01/cartelVedetteRosa-Cartel.jpg
GEO:41.6573388;-0.8891053
END:VEVENT
END:VCALENDAR