BEGIN:VCALENDAR
VERSION:2.0
PRODID:-//ZARAGENDA - Agenda Zaragoza de ocio y eventos - ECPv6.15.16//NONSGML v1.0//EN
CALSCALE:GREGORIAN
METHOD:PUBLISH
X-WR-CALNAME:ZARAGENDA - Agenda Zaragoza de ocio y eventos
X-ORIGINAL-URL:https://zaragenda.com
X-WR-CALDESC:Eventos para ZARAGENDA - Agenda Zaragoza de ocio y eventos
REFRESH-INTERVAL;VALUE=DURATION:PT1H
X-Robots-Tag:noindex
X-PUBLISHED-TTL:PT1H
BEGIN:VTIMEZONE
TZID:Europe/Madrid
BEGIN:DAYLIGHT
TZOFFSETFROM:+0100
TZOFFSETTO:+0200
TZNAME:CEST
DTSTART:20200329T010000
END:DAYLIGHT
BEGIN:STANDARD
TZOFFSETFROM:+0200
TZOFFSETTO:+0100
TZNAME:CET
DTSTART:20201025T010000
END:STANDARD
BEGIN:DAYLIGHT
TZOFFSETFROM:+0100
TZOFFSETTO:+0200
TZNAME:CEST
DTSTART:20210328T010000
END:DAYLIGHT
BEGIN:STANDARD
TZOFFSETFROM:+0200
TZOFFSETTO:+0100
TZNAME:CET
DTSTART:20211031T010000
END:STANDARD
BEGIN:DAYLIGHT
TZOFFSETFROM:+0100
TZOFFSETTO:+0200
TZNAME:CEST
DTSTART:20220327T010000
END:DAYLIGHT
BEGIN:STANDARD
TZOFFSETFROM:+0200
TZOFFSETTO:+0100
TZNAME:CET
DTSTART:20221030T010000
END:STANDARD
END:VTIMEZONE
BEGIN:VEVENT
DTSTART;TZID=Europe/Madrid:20210522T190000
DTEND;TZID=Europe/Madrid:20210522T190000
DTSTAMP:20260421T143212
CREATED:20210408T121923Z
LAST-MODIFIED:20230208T131821Z
UID:10000766-1621710000-1621710000@zaragenda.com
SUMMARY:Bladimir Ros y Pau Riva en el Festival De La Raíz Zaragoza 2021
DESCRIPTION:Ya está aquí la séptima edición del «Festival De la Raíz Zaragoza 2021». Este año\, viene cargado con siete grandes citas musicales en las que la variedad vuelve a ser la apuesta de los conciertos que se celebrarán en el Centro Cívico Delicias. El ciclo está organizado y producido por Area (Aragonesa de Representaciones Artísticas)\, coorganizado con Zaragoza Cultural y los centros cívicos. \nBladimir Ros y su música\, teatro y poesía en un show multidisciplinar\, junto a Pau Riba\, artista polifacético\, pionero del folk-rock catalán e icono de la contracultura\, que estrenará su espectáculo ‘Plan’ actuarán el próximo 22 de mayo de 2021 en el Festival De La Raíz Zaragoza 2021. \n 
URL:https://zaragenda.com/evento-zaragoza/bladimir-ros-y-pau-riva-en-el-festival-de-la-raiz-zaragoza-2021/
LOCATION:Centro Cívico Delicias\, Avenida Navarra\, 54\, Zaragoza\, Zaragoza\, 50010\, España
CATEGORIES:Espectáculos,Festival
ATTACH;FMTTYPE=image/jpeg:https://zaragenda.com/wp-content/uploads/2021/04/event_bladimir.jpg
GEO:41.6558386;-0.9064823
X-APPLE-STRUCTURED-LOCATION;VALUE=URI;X-ADDRESS=Centro Cívico Delicias Avenida Navarra 54 Zaragoza Zaragoza 50010 España;X-APPLE-RADIUS=500;X-TITLE=Avenida Navarra\, 54:geo:-0.9064823,41.6558386
END:VEVENT
BEGIN:VEVENT
DTSTART;TZID=Europe/Madrid:20210508T200000
DTEND;TZID=Europe/Madrid:20210508T200000
DTSTAMP:20260421T143212
CREATED:20210408T121011Z
LAST-MODIFIED:20230208T131818Z
UID:10000765-1620504000-1620504000@zaragenda.com
SUMMARY:Eskorzo en el Festival De La Raíz Zaragoza 2021
DESCRIPTION:Ya está aquí la séptima edición del «Festival De la Raíz Zaragoza 2021». Este año\, viene cargado con siete grandes citas musicales en las que la variedad vuelve a ser la apuesta de los conciertos que se celebrarán en el Centro Cívico Delicias. El ciclo está organizado y producido por Area (Aragonesa de Representaciones Artísticas)\, coorganizado con Zaragoza Cultural y los centros cívicos. \nEskorzo se viste de gala y se sube a escenarios singulares y teatros para presentar su espectáculo más exclusivo: ‘A Fuego Suave’. Esta nueva propuesta se presentó el 30 de enero en Inverfest (Teatro Circo Price de Madrid) y se encuentra actualmente en gira de presentación a nivel nacional.
URL:https://zaragenda.com/evento-zaragoza/eskorzo-en-el-festival-de-la-raiz-zaragoza-2021/
LOCATION:Centro Cívico Delicias\, Avenida Navarra\, 54\, Zaragoza\, Zaragoza\, 50010\, España
CATEGORIES:Espectáculos,Festival
ATTACH;FMTTYPE=image/jpeg:https://zaragenda.com/wp-content/uploads/2021/04/event_eskorzo.jpg
GEO:41.6558386;-0.9064823
X-APPLE-STRUCTURED-LOCATION;VALUE=URI;X-ADDRESS=Centro Cívico Delicias Avenida Navarra 54 Zaragoza Zaragoza 50010 España;X-APPLE-RADIUS=500;X-TITLE=Avenida Navarra\, 54:geo:-0.9064823,41.6558386
END:VEVENT
END:VCALENDAR