BEGIN:VCALENDAR
VERSION:2.0
PRODID:-//ZARAGENDA - Agenda Zaragoza de ocio y eventos - ECPv6.15.16//NONSGML v1.0//EN
CALSCALE:GREGORIAN
METHOD:PUBLISH
X-WR-CALNAME:ZARAGENDA - Agenda Zaragoza de ocio y eventos
X-ORIGINAL-URL:https://zaragenda.com
X-WR-CALDESC:Eventos para ZARAGENDA - Agenda Zaragoza de ocio y eventos
REFRESH-INTERVAL;VALUE=DURATION:PT1H
X-Robots-Tag:noindex
X-PUBLISHED-TTL:PT1H
BEGIN:VTIMEZONE
TZID:Europe/Madrid
BEGIN:DAYLIGHT
TZOFFSETFROM:+0100
TZOFFSETTO:+0200
TZNAME:CEST
DTSTART:20200329T010000
END:DAYLIGHT
BEGIN:STANDARD
TZOFFSETFROM:+0200
TZOFFSETTO:+0100
TZNAME:CET
DTSTART:20201025T010000
END:STANDARD
BEGIN:DAYLIGHT
TZOFFSETFROM:+0100
TZOFFSETTO:+0200
TZNAME:CEST
DTSTART:20210328T010000
END:DAYLIGHT
BEGIN:STANDARD
TZOFFSETFROM:+0200
TZOFFSETTO:+0100
TZNAME:CET
DTSTART:20211031T010000
END:STANDARD
BEGIN:DAYLIGHT
TZOFFSETFROM:+0100
TZOFFSETTO:+0200
TZNAME:CEST
DTSTART:20220327T010000
END:DAYLIGHT
BEGIN:STANDARD
TZOFFSETFROM:+0200
TZOFFSETTO:+0100
TZNAME:CET
DTSTART:20221030T010000
END:STANDARD
END:VTIMEZONE
BEGIN:VEVENT
DTSTART;TZID=Europe/Madrid:20210605T190000
DTEND;TZID=Europe/Madrid:20210605T190000
DTSTAMP:20260422T111942
CREATED:20210408T123233Z
LAST-MODIFIED:20230208T131911Z
UID:10000768-1622919600-1622919600@zaragenda.com
SUMMARY:Beñat Achiary y Gustavo Giménez & Marwan Nasser con Laura Bailón en el Festival De La Raíz Zaragoza 2021
DESCRIPTION:Ya está aquí la séptima edición del «Festival De la Raíz Zaragoza 2021». Este año\, viene cargado con siete grandes citas musicales en las que la variedad vuelve a ser la apuesta de los conciertos que se celebrarán en el Centro Cívico Delicias. El ciclo está organizado y producido por Area (Aragonesa de Representaciones Artísticas)\, coorganizado con Zaragoza Cultural y los centros cívicos. \nBeñat Achiary viene con una sorprendente propuesta\, diferente y transgresora de la mano de este gran virtuoso de la voz y el ritmo\, junto a Gustavo Giménez & Marwan Nasser con Laura Bailón\, música y danza contemporánea y tradicional en la que se entrecruzan ritmos de tradición mediterránea\, psicodelia y experimental. \n  \n 
URL:https://zaragenda.com/evento-zaragoza/benat-achiary-y-gustavo-gimenez-marwan-nasser-con-laura-bailon-en-el-festival-de-la-raiz-zaragoza-2021/
LOCATION:Centro Cívico Delicias\, Avenida Navarra\, 54\, Zaragoza\, Zaragoza\, 50010\, España
CATEGORIES:Espectáculos,Festival
ATTACH;FMTTYPE=image/jpeg:https://zaragenda.com/wp-content/uploads/2021/04/event_benat.jpg
GEO:41.6558386;-0.9064823
X-APPLE-STRUCTURED-LOCATION;VALUE=URI;X-ADDRESS=Centro Cívico Delicias Avenida Navarra 54 Zaragoza Zaragoza 50010 España;X-APPLE-RADIUS=500;X-TITLE=Avenida Navarra\, 54:geo:-0.9064823,41.6558386
END:VEVENT
BEGIN:VEVENT
DTSTART;TZID=Europe/Madrid:20210528T200000
DTEND;TZID=Europe/Madrid:20210528T200000
DTSTAMP:20260422T111942
CREATED:20210408T122703Z
LAST-MODIFIED:20230208T131823Z
UID:10000767-1622232000-1622232000@zaragenda.com
SUMMARY:Mabuse y Los Compayos en el Festival De La Raíz Zaragoza 2021
DESCRIPTION:Ya está aquí la séptima edición del «Festival De la Raíz Zaragoza 2021». Este año\, viene cargado con siete grandes citas musicales en las que la variedad vuelve a ser la apuesta de los conciertos que se celebrarán en el Centro Cívico Delicias. El ciclo está organizado y producido por Area (Aragonesa de Representaciones Artísticas)\, coorganizado con Zaragoza Cultural y los centros cívicos. \nMabuse y Los Compayos\, que presentará su último disco ‘Cantes impuros’\, cuadro poeta\, combo de guitarras\, percusión\, bajo con palmas y jaleos. \n 
URL:https://zaragenda.com/evento-zaragoza/mabuse-y-los-compayos-en-el-festival-de-la-raiz-zaragoza-2021/
LOCATION:Centro Cívico Delicias\, Avenida Navarra\, 54\, Zaragoza\, Zaragoza\, 50010\, España
CATEGORIES:Espectáculos,Festival
ATTACH;FMTTYPE=image/jpeg:https://zaragenda.com/wp-content/uploads/2021/04/event_mabuse.jpg
GEO:41.6558386;-0.9064823
X-APPLE-STRUCTURED-LOCATION;VALUE=URI;X-ADDRESS=Centro Cívico Delicias Avenida Navarra 54 Zaragoza Zaragoza 50010 España;X-APPLE-RADIUS=500;X-TITLE=Avenida Navarra\, 54:geo:-0.9064823,41.6558386
END:VEVENT
BEGIN:VEVENT
DTSTART;TZID=Europe/Madrid:20210424T200000
DTEND;TZID=Europe/Madrid:20210424T200000
DTSTAMP:20260422T111942
CREATED:20210408T120104Z
LAST-MODIFIED:20230208T131815Z
UID:10000764-1619294400-1619294400@zaragenda.com
SUMMARY:Travis Birds en El Festival De La Raíz Zaragoza 2021
DESCRIPTION:Ya está aquí la séptima edición del «Festival De la Raíz Zaragoza 2021». Este año\, viene cargado con siete grandes citas musicales en las que la variedad vuelve a ser la apuesta de los conciertos que se celebrarán en el Centro Cívico Delicias. El ciclo está organizado y producido por Area (Aragonesa de Representaciones Artísticas)\, coorganizado con Zaragoza Cultural y los centros cívicos. \nDisfruta del concierto de la magnífica Travis Birds\, creadora de temas profundos e intensos que presentará su nuevo disco ‘La Costa de los Mosquitos’. En septiembre de 2018\, como colofón a «Año X» y antes de embarcarse en el nuevo repertorio\, Travis Birds lanza de nuevo «Año X» completamente remezclado. En 2019 lanza el primer single de su nuevo trabajo titulado «Coyotes»\, que fue elegida como cabecera de «El Embarcadero»\, serie de Movistar +\, producida por Vancouver media y Atresmedia studios. Un éxito como el que supuso al poco tiempo la celebrada versión que hizo de “19 días y 500 noches” junto a Benjamín Prado como homenaje a Joaquín Sabina.
URL:https://zaragenda.com/evento-zaragoza/travis-birds-en-el-festival-de-la-raiz-zaragoza-2021/
LOCATION:Centro Cívico Delicias\, Avenida Navarra\, 54\, Zaragoza\, Zaragoza\, 50010\, España
CATEGORIES:Espectáculos,Festival
ATTACH;FMTTYPE=image/jpeg:https://zaragenda.com/wp-content/uploads/2021/04/event_travis.jpg
GEO:41.6558386;-0.9064823
X-APPLE-STRUCTURED-LOCATION;VALUE=URI;X-ADDRESS=Centro Cívico Delicias Avenida Navarra 54 Zaragoza Zaragoza 50010 España;X-APPLE-RADIUS=500;X-TITLE=Avenida Navarra\, 54:geo:-0.9064823,41.6558386
END:VEVENT
BEGIN:VEVENT
DTSTART;TZID=Europe/Madrid:20210417T200000
DTEND;TZID=Europe/Madrid:20210417T200000
DTSTAMP:20260422T111942
CREATED:20210408T115403Z
LAST-MODIFIED:20230208T131811Z
UID:10000763-1618689600-1618689600@zaragenda.com
SUMMARY:La Shica en El Festival De La Raíz Zaragoza 2021
DESCRIPTION:Ya está aquí la séptima edición del «Festival De la Raíz Zaragoza 2021». Este año\, viene cargado con siete grandes citas musicales en las que la variedad vuelve a ser la apuesta de los conciertos que se celebrarán en el Centro Cívico Delicias. El ciclo está organizado y producido por Area (Aragonesa de Representaciones Artísticas)\, coorganizado con Zaragoza Cultural y los centros cívicos. \nDisfruta del espectáculo de voz\, arte y humor en el que danza y cante van de la mano y se unen a mil y un sonidos de La Shica\, que ha dado la vuelta a medio mundo con sus apuestas y ha seducido al público gracias a espectáculos con los que no deja indiferente a nadie. Ganadora de 2 premios de la música.
URL:https://zaragenda.com/evento-zaragoza/la-shica-en-el-festival-de-la-raiz-zaragoza-2021/
LOCATION:Centro Cívico Delicias\, Avenida Navarra\, 54\, Zaragoza\, Zaragoza\, 50010\, España
CATEGORIES:Espectáculos,Festival
ATTACH;FMTTYPE=image/jpeg:https://zaragenda.com/wp-content/uploads/2021/04/event_la_shica.jpg
GEO:41.6558386;-0.9064823
X-APPLE-STRUCTURED-LOCATION;VALUE=URI;X-ADDRESS=Centro Cívico Delicias Avenida Navarra 54 Zaragoza Zaragoza 50010 España;X-APPLE-RADIUS=500;X-TITLE=Avenida Navarra\, 54:geo:-0.9064823,41.6558386
END:VEVENT
BEGIN:VEVENT
DTSTART;TZID=Europe/Madrid:20210410T200000
DTEND;TZID=Europe/Madrid:20210410T200000
DTSTAMP:20260422T111942
CREATED:20210408T114204Z
LAST-MODIFIED:20230208T131808Z
UID:10000762-1618084800-1618084800@zaragenda.com
SUMMARY:Karamento en el Festival De La Raíz Zaragoza 2021
DESCRIPTION:Ya está aquí la séptima edición del «Festival De la Raíz Zaragoza 2021». Este año\, viene cargado con siete grandes citas musicales en las que la variedad vuelve a ser la apuesta de los conciertos que se celebrarán en el Centro Cívico Delicias. El ciclo está organizado y producido por Area (Aragonesa de Representaciones Artísticas)\, coorganizado con Zaragoza Cultural y los centros cívicos. \nDisfruta viendo a Karamento\, quién inagurará este fesrival el próximo 10 de abril con canción de autor a través de la copla\, el flamenco\, la música étnica o las seguidillas manchegas\, que estrenará su trabajo ‘Este devenir’; que es el segundo álbum de estudio de Karmento. Editado por El Tragaluz\, se sitúa a medio camino entre el folclore y el pop. \nEl precio de las entradas es de 12 euros en anticipada\, y 15 euros en taquilla. También existen bonificadas a 10 euros para menores de 23 años\, parados y mayores de 65 años acreditando su situación\, todas disponibles a la venta en aragontickets.com gastos no incluidos.
URL:https://zaragenda.com/evento-zaragoza/karamento-en-el-festival-de-la-raiz-zaragoza-2021/
LOCATION:Centro Cívico Delicias\, Avenida Navarra\, 54\, Zaragoza\, Zaragoza\, 50010\, España
CATEGORIES:Espectáculos,Festival
ATTACH;FMTTYPE=image/jpeg:https://zaragenda.com/wp-content/uploads/2021/04/event_karmento.jpg
GEO:41.6558386;-0.9064823
X-APPLE-STRUCTURED-LOCATION;VALUE=URI;X-ADDRESS=Centro Cívico Delicias Avenida Navarra 54 Zaragoza Zaragoza 50010 España;X-APPLE-RADIUS=500;X-TITLE=Avenida Navarra\, 54:geo:-0.9064823,41.6558386
END:VEVENT
END:VCALENDAR