BEGIN:VCALENDAR
VERSION:2.0
PRODID:-//ZARAGENDA - Agenda Zaragoza de ocio y eventos - ECPv6.15.16//NONSGML v1.0//EN
CALSCALE:GREGORIAN
METHOD:PUBLISH
X-WR-CALNAME:ZARAGENDA - Agenda Zaragoza de ocio y eventos
X-ORIGINAL-URL:https://zaragenda.com
X-WR-CALDESC:Eventos para ZARAGENDA - Agenda Zaragoza de ocio y eventos
REFRESH-INTERVAL;VALUE=DURATION:PT1H
X-Robots-Tag:noindex
X-PUBLISHED-TTL:PT1H
BEGIN:VTIMEZONE
TZID:Europe/Madrid
BEGIN:DAYLIGHT
TZOFFSETFROM:+0100
TZOFFSETTO:+0200
TZNAME:CEST
DTSTART:20210328T010000
END:DAYLIGHT
BEGIN:STANDARD
TZOFFSETFROM:+0200
TZOFFSETTO:+0100
TZNAME:CET
DTSTART:20211031T010000
END:STANDARD
BEGIN:DAYLIGHT
TZOFFSETFROM:+0100
TZOFFSETTO:+0200
TZNAME:CEST
DTSTART:20220327T010000
END:DAYLIGHT
BEGIN:STANDARD
TZOFFSETFROM:+0200
TZOFFSETTO:+0100
TZNAME:CET
DTSTART:20221030T010000
END:STANDARD
BEGIN:DAYLIGHT
TZOFFSETFROM:+0100
TZOFFSETTO:+0200
TZNAME:CEST
DTSTART:20230326T010000
END:DAYLIGHT
BEGIN:STANDARD
TZOFFSETFROM:+0200
TZOFFSETTO:+0100
TZNAME:CET
DTSTART:20231029T010000
END:STANDARD
END:VTIMEZONE
BEGIN:VEVENT
DTSTART;TZID=Europe/Madrid:20220114T160000
DTEND;TZID=Europe/Madrid:20220225T200000
DTSTAMP:20260419T220115
CREATED:20220111T100620Z
LAST-MODIFIED:20230208T162843Z
UID:10004717-1642176000-1645819200@zaragenda.com
SUMMARY:TALLERES DE LENGUA DE SIGNOS
DESCRIPTION:Talleres de lengua de signos de duración de dos meses una vez a la semana cuatro horas. Se ofrece material y un diploma homologando las horas de asistencia.\nPara mas información manda un email a coordinacionapascidearagon@gmail.com o llama al 976431122
URL:https://zaragenda.com/evento-zaragoza/talleres-de-lengua-de-signos/
LOCATION:Zaragoza\, Zaragoza\, España
ATTACH;FMTTYPE=image/jpeg:https://zaragenda.com/wp-content/uploads/2022/01/Curso-de-Lengua-de-Signos-EneroFebrero.jpg
GEO:41.6488226;-0.8890853
END:VEVENT
END:VCALENDAR