BEGIN:VCALENDAR
VERSION:2.0
PRODID:-//ZARAGENDA - Agenda Zaragoza de ocio y eventos - ECPv6.15.16//NONSGML v1.0//EN
CALSCALE:GREGORIAN
METHOD:PUBLISH
X-WR-CALNAME:ZARAGENDA - Agenda Zaragoza de ocio y eventos
X-ORIGINAL-URL:https://zaragenda.com
X-WR-CALDESC:Eventos para ZARAGENDA - Agenda Zaragoza de ocio y eventos
REFRESH-INTERVAL;VALUE=DURATION:PT1H
X-Robots-Tag:noindex
X-PUBLISHED-TTL:PT1H
BEGIN:VTIMEZONE
TZID:Europe/Madrid
BEGIN:DAYLIGHT
TZOFFSETFROM:+0100
TZOFFSETTO:+0200
TZNAME:CEST
DTSTART:20200329T010000
END:DAYLIGHT
BEGIN:STANDARD
TZOFFSETFROM:+0200
TZOFFSETTO:+0100
TZNAME:CET
DTSTART:20201025T010000
END:STANDARD
BEGIN:DAYLIGHT
TZOFFSETFROM:+0100
TZOFFSETTO:+0200
TZNAME:CEST
DTSTART:20210328T010000
END:DAYLIGHT
BEGIN:STANDARD
TZOFFSETFROM:+0200
TZOFFSETTO:+0100
TZNAME:CET
DTSTART:20211031T010000
END:STANDARD
BEGIN:DAYLIGHT
TZOFFSETFROM:+0100
TZOFFSETTO:+0200
TZNAME:CEST
DTSTART:20220327T010000
END:DAYLIGHT
BEGIN:STANDARD
TZOFFSETFROM:+0200
TZOFFSETTO:+0100
TZNAME:CET
DTSTART:20221030T010000
END:STANDARD
END:VTIMEZONE
BEGIN:VEVENT
DTSTART;TZID=Europe/Madrid:20210207T180000
DTEND;TZID=Europe/Madrid:20210207T180000
DTSTAMP:20260420T175124
CREATED:20210121T155826Z
LAST-MODIFIED:20230208T124228Z
UID:10000038-1612720800-1612720800@zaragenda.com
SUMMARY:_juno presenta "_BCN626"
DESCRIPTION:Zahara y Martí Perarnau IV\, más conocido como Mucho\, se juntan para formar _juno\, un proyecto que mezcla la electrónica y el dreampop de forma deliciosa. Presentado el disco _BCN626 publicamente el pasado mes de Julio y los diez temas que forman el debut de este misterioso proyecto ya se encuentran disponibles en las principales plataformas digitales. \n_juno nos envía un decálogo a modo de Bio: \nTodas las canciones de _juno están compuestas al 50% por Martí y Zahara. \n_juno ha grabado y producido todas las canciones de _juno. \n_juno nació en abril de 2019. \n_juno es un proyecto libre y honesto. \nLas canciones de _juno están basadas en hechos reales acontecidos entre el año 2 a.C. y el año 2019 en el planeta tierra y alrededores. \nMartí y Zahara tocan piano\, rhodes\, moog\, _juno6\, solina\, analog rytm\, casiotone\, acústica\, morphagene y sistemas analógicos. \nEn _juno cantan Martí y Zahara en función de las necesidades de cada canción. \n_juno cree en los fantasmas. \nDurante las grabaciones de _juno se batieron 35 huevos. Ninguno se usó en la grabación del disco. \n_juno comenzó a fumar al inicio de la grabación de _juno. _juno dejó de fumar al final de la grabación de _juno. \nLos mosquitos se comieron solo a uno de los miembros de _juno. \nEl afinador del piano de La Casamurada apareció con un día y nueve horas de retraso el \ntiempo que se necesitó para componer la canción Casamurada. \nNinguno de los artistas implicados pensó en las consecuencias que esto podría acarrear en el devenir de sus respectivas carreras. \nDurante la grabación de _juno tan solo bebió vino del Penedès.
URL:https://zaragenda.com/evento-zaragoza/_juno-presenta-_bcn626/
LOCATION:Teatro de las esquinas\, Vía Univérsitas 30-32\, Zaragoza\, España
CATEGORIES:Actividades,Concierto,Conciertos,cultura,Espectáculos
ATTACH;FMTTYPE=image/jpeg:https://zaragenda.com/wp-content/uploads/2021/01/teatro-de-las-esquinas-juno-zahara-mucho-bcn626-cartel.jpg
GEO:41.6469;-0.90759
X-APPLE-STRUCTURED-LOCATION;VALUE=URI;X-ADDRESS=Teatro de las esquinas Vía Univérsitas 30-32 Zaragoza España;X-APPLE-RADIUS=500;X-TITLE=Vía Univérsitas 30-32:geo:-0.90759,41.6469
END:VEVENT
END:VCALENDAR