BEGIN:VCALENDAR
VERSION:2.0
PRODID:-//ZARAGENDA - Agenda Zaragoza de ocio y eventos - ECPv6.15.16//NONSGML v1.0//EN
CALSCALE:GREGORIAN
METHOD:PUBLISH
X-ORIGINAL-URL:https://zaragenda.com
X-WR-CALDESC:Eventos para ZARAGENDA - Agenda Zaragoza de ocio y eventos
REFRESH-INTERVAL;VALUE=DURATION:PT1H
X-Robots-Tag:noindex
X-PUBLISHED-TTL:PT1H
BEGIN:VTIMEZONE
TZID:Europe/Madrid
BEGIN:DAYLIGHT
TZOFFSETFROM:+0100
TZOFFSETTO:+0200
TZNAME:CEST
DTSTART:20210328T010000
END:DAYLIGHT
BEGIN:STANDARD
TZOFFSETFROM:+0200
TZOFFSETTO:+0100
TZNAME:CET
DTSTART:20211031T010000
END:STANDARD
BEGIN:DAYLIGHT
TZOFFSETFROM:+0100
TZOFFSETTO:+0200
TZNAME:CEST
DTSTART:20220327T010000
END:DAYLIGHT
BEGIN:STANDARD
TZOFFSETFROM:+0200
TZOFFSETTO:+0100
TZNAME:CET
DTSTART:20221030T010000
END:STANDARD
BEGIN:DAYLIGHT
TZOFFSETFROM:+0100
TZOFFSETTO:+0200
TZNAME:CEST
DTSTART:20230326T010000
END:DAYLIGHT
BEGIN:STANDARD
TZOFFSETFROM:+0200
TZOFFSETTO:+0100
TZNAME:CET
DTSTART:20231029T010000
END:STANDARD
END:VTIMEZONE
BEGIN:VEVENT
DTSTART;TZID=Europe/Madrid:20220929T190000
DTEND;TZID=Europe/Madrid:20221214T203000
DTSTAMP:20260421T135656
CREATED:20220927T081045Z
LAST-MODIFIED:20230208T173427Z
UID:10006021-1664478000-1671049800@zaragenda.com
SUMMARY:Exposición The Zaragozian Illustrated
DESCRIPTION:Este jueves 29 de Septiembre se inaugurará n la Galería de Damas de Miller & Marc la exposición: «The Zaragozian Illustrated\, visones ilustradas de la Ciudad de Zaragoza»\, donde 19 ilustradores e ilustradoras nos ofrecen una visión creativa y diversa de nuestra ciudad. \nMiller & Marc. Paseo de las Damas\, 11\, Zaragoza\n29/09/2022\, 19.00 h
URL:https://zaragenda.com/evento-zaragoza/exposicion-the-zaragozian-illustrated/
LOCATION:Zaragoza\, Zaragoza\, España
CATEGORIES:Presentación
ATTACH;FMTTYPE=image/jpeg:https://zaragenda.com/wp-content/uploads/2022/09/MILLER-MARC-ZGZ-72dpi.jpg
GEO:41.6488226;-0.8890853
END:VEVENT
END:VCALENDAR