BEGIN:VCALENDAR
VERSION:2.0
PRODID:-//ZARAGENDA - Agenda Zaragoza de ocio y eventos - ECPv6.15.16//NONSGML v1.0//EN
CALSCALE:GREGORIAN
METHOD:PUBLISH
X-WR-CALNAME:ZARAGENDA - Agenda Zaragoza de ocio y eventos
X-ORIGINAL-URL:https://zaragenda.com
X-WR-CALDESC:Eventos para ZARAGENDA - Agenda Zaragoza de ocio y eventos
REFRESH-INTERVAL;VALUE=DURATION:PT1H
X-Robots-Tag:noindex
X-PUBLISHED-TTL:PT1H
BEGIN:VTIMEZONE
TZID:Europe/Madrid
BEGIN:DAYLIGHT
TZOFFSETFROM:+0100
TZOFFSETTO:+0200
TZNAME:CEST
DTSTART:20210328T010000
END:DAYLIGHT
BEGIN:STANDARD
TZOFFSETFROM:+0200
TZOFFSETTO:+0100
TZNAME:CET
DTSTART:20211031T010000
END:STANDARD
BEGIN:DAYLIGHT
TZOFFSETFROM:+0100
TZOFFSETTO:+0200
TZNAME:CEST
DTSTART:20220327T010000
END:DAYLIGHT
BEGIN:STANDARD
TZOFFSETFROM:+0200
TZOFFSETTO:+0100
TZNAME:CET
DTSTART:20221030T010000
END:STANDARD
BEGIN:DAYLIGHT
TZOFFSETFROM:+0100
TZOFFSETTO:+0200
TZNAME:CEST
DTSTART:20230326T010000
END:DAYLIGHT
BEGIN:STANDARD
TZOFFSETFROM:+0200
TZOFFSETTO:+0100
TZNAME:CET
DTSTART:20231029T010000
END:STANDARD
END:VTIMEZONE
BEGIN:VEVENT
DTSTART;TZID=Europe/Madrid:20220514T210000
DTEND;TZID=Europe/Madrid:20220515T010000
DTSTAMP:20260421T153924
CREATED:20220507T101424Z
LAST-MODIFIED:20230208T170330Z
UID:10005573-1652562000-1652576400@zaragenda.com
SUMMARY:Trilogía Pandémica + Martanuelle dj
DESCRIPTION:Por fin la «noche Trash» de la IX edición de nuestro Ciclo De Cine de Terror ‘Año 13’. Este año a cargo de la productora madrileña FIVE FILMS\, presentando su ‘TRILOGÍA PANDÉMICA’: \nCon la proyección de… \n1. PAURA NELLA CITTÁ INFETTA. REBROTE CANÍBAL (cortometraje) \n2. PANDÉMIE SATANIQUE (cortometraje) \n3. REBROTE CANÍBAL 2 (mediometraje\, presentado en la sección Brigadoon en el pasado Festival de Sitges) \nY la presencia y los vinilos de la embajadora de Five Films… MARTANUELLE. \nSerie B | Exploitation | Serie Z | Retro | Cine S | 70’s
URL:https://zaragenda.com/evento-zaragoza/trilogia-pandemica-martanuelle-dj/
LOCATION:El Corazón Verde Terraza-Bar\, Calle África\, 8\, Zaragoza\, Zaragoza\, 50007
CATEGORIES:Cine,Música
ATTACH;FMTTYPE=image/jpeg:https://zaragenda.com/wp-content/uploads/2022/05/MARTA-TRASH.jpg
GEO:41.6300963;-0.8915959
X-APPLE-STRUCTURED-LOCATION;VALUE=URI;X-ADDRESS=El Corazón Verde Terraza-Bar Calle África 8 Zaragoza Zaragoza 50007;X-APPLE-RADIUS=500;X-TITLE=Calle África\, 8:geo:-0.8915959,41.6300963
END:VEVENT
END:VCALENDAR