BEGIN:VCALENDAR
VERSION:2.0
PRODID:-//ZARAGENDA - Agenda Zaragoza de ocio y eventos - ECPv6.15.16//NONSGML v1.0//EN
CALSCALE:GREGORIAN
METHOD:PUBLISH
X-ORIGINAL-URL:https://zaragenda.com
X-WR-CALDESC:Eventos para ZARAGENDA - Agenda Zaragoza de ocio y eventos
REFRESH-INTERVAL;VALUE=DURATION:PT1H
X-Robots-Tag:noindex
X-PUBLISHED-TTL:PT1H
BEGIN:VTIMEZONE
TZID:Europe/Madrid
BEGIN:DAYLIGHT
TZOFFSETFROM:+0100
TZOFFSETTO:+0200
TZNAME:CEST
DTSTART:20200329T010000
END:DAYLIGHT
BEGIN:STANDARD
TZOFFSETFROM:+0200
TZOFFSETTO:+0100
TZNAME:CET
DTSTART:20201025T010000
END:STANDARD
BEGIN:DAYLIGHT
TZOFFSETFROM:+0100
TZOFFSETTO:+0200
TZNAME:CEST
DTSTART:20210328T010000
END:DAYLIGHT
BEGIN:STANDARD
TZOFFSETFROM:+0200
TZOFFSETTO:+0100
TZNAME:CET
DTSTART:20211031T010000
END:STANDARD
BEGIN:DAYLIGHT
TZOFFSETFROM:+0100
TZOFFSETTO:+0200
TZNAME:CEST
DTSTART:20220327T010000
END:DAYLIGHT
BEGIN:STANDARD
TZOFFSETFROM:+0200
TZOFFSETTO:+0100
TZNAME:CET
DTSTART:20221030T010000
END:STANDARD
BEGIN:DAYLIGHT
TZOFFSETFROM:+0100
TZOFFSETTO:+0200
TZNAME:CEST
DTSTART:20230326T010000
END:DAYLIGHT
BEGIN:STANDARD
TZOFFSETFROM:+0200
TZOFFSETTO:+0100
TZNAME:CET
DTSTART:20231029T010000
END:STANDARD
END:VTIMEZONE
BEGIN:VEVENT
DTSTART;TZID=Europe/Madrid:20220316T193000
DTEND;TZID=Europe/Madrid:20220316T220000
DTSTAMP:20260419T202340
CREATED:20220226T135734Z
LAST-MODIFIED:20230208T164414Z
UID:10004919-1647459000-1647468000@zaragenda.com
SUMMARY:TALLER DE SUSHI
DESCRIPTION:Chef: Eduardo J. Comín – Profe de cocina y Vicepresidente de la Asociación de cocineros de Aragón. \nObjetivo del taller:\nEn este taller\, vamos a aprender a hacer los bocados japoneses más de moda del momento. Desde los más básicos (no por ello menos deliciosos) como el Niguiri\, que es la pieza de sushi más tradicional\, hasta las versiones fusionadas con la cultura californiana y nikkei. \nFecha: miércoles 16 de marzo de 2022 \nHorario: 19:30-22:00h \nPrecio: 38€/p – Incluye curso\, cena y bebida.
URL:https://zaragenda.com/evento-zaragoza/taller-de-sushi-2/
LOCATION:Espacio Kiwiki\, Calle Sta. Teresa de Jesús\, 6\, Local Izquierdo\, Zaragoza\, Zaragoza\, 50006\, España
CATEGORIES:Gastronomía,Talleres
ATTACH;FMTTYPE=image/jpeg:https://zaragenda.com/wp-content/uploads/2022/02/News-sushi.jpg
GEO:41.6421215;-0.8919027
X-APPLE-STRUCTURED-LOCATION;VALUE=URI;X-ADDRESS=Espacio Kiwiki Calle Sta. Teresa de Jesús 6 Local Izquierdo Zaragoza Zaragoza 50006 España;X-APPLE-RADIUS=500;X-TITLE=Calle Sta. Teresa de Jesús\, 6\, Local Izquierdo:geo:-0.8919027,41.6421215
END:VEVENT
BEGIN:VEVENT
DTSTART;TZID=Europe/Madrid:20210720T190000
DTEND;TZID=Europe/Madrid:20210720T190000
DTSTAMP:20260419T202340
CREATED:20210608T095847Z
LAST-MODIFIED:20230208T142330Z
UID:10002572-1626807600-1626807600@zaragenda.com
SUMMARY:INICIACIÓN AL SUSHI
DESCRIPTION:Menú: \n\nArroz para sushi\nMaguro Takuan Maki\nTamagoyaki Shiitake Maki\nRainbow Uramaki\n\nEsta experiencia incluye curso\,bebida y degustación. \n 
URL:https://zaragenda.com/evento-zaragoza/iniciacion-al-sushi/
LOCATION:La Zarola\, Calle San Miguel 35\, Zaragoza\, Zaragoza\, 50001\, España
CATEGORIES:Talleres
ATTACH;FMTTYPE=image/png:https://zaragenda.com/wp-content/uploads/2021/06/Iniciacion-al-sushi.png
GEO:41.65028;-0.87806
X-APPLE-STRUCTURED-LOCATION;VALUE=URI;X-ADDRESS=La Zarola Calle San Miguel 35 Zaragoza Zaragoza 50001 España;X-APPLE-RADIUS=500;X-TITLE=Calle San Miguel 35:geo:-0.87806,41.65028
END:VEVENT
END:VCALENDAR