BEGIN:VCALENDAR
VERSION:2.0
PRODID:-//ZARAGENDA - Agenda Zaragoza de ocio y eventos - ECPv6.15.16//NONSGML v1.0//EN
CALSCALE:GREGORIAN
METHOD:PUBLISH
X-ORIGINAL-URL:https://zaragenda.com
X-WR-CALDESC:Eventos para ZARAGENDA - Agenda Zaragoza de ocio y eventos
REFRESH-INTERVAL;VALUE=DURATION:PT1H
X-Robots-Tag:noindex
X-PUBLISHED-TTL:PT1H
BEGIN:VTIMEZONE
TZID:Europe/Madrid
BEGIN:DAYLIGHT
TZOFFSETFROM:+0100
TZOFFSETTO:+0200
TZNAME:CEST
DTSTART:20200329T010000
END:DAYLIGHT
BEGIN:STANDARD
TZOFFSETFROM:+0200
TZOFFSETTO:+0100
TZNAME:CET
DTSTART:20201025T010000
END:STANDARD
BEGIN:DAYLIGHT
TZOFFSETFROM:+0100
TZOFFSETTO:+0200
TZNAME:CEST
DTSTART:20210328T010000
END:DAYLIGHT
BEGIN:STANDARD
TZOFFSETFROM:+0200
TZOFFSETTO:+0100
TZNAME:CET
DTSTART:20211031T010000
END:STANDARD
BEGIN:DAYLIGHT
TZOFFSETFROM:+0100
TZOFFSETTO:+0200
TZNAME:CEST
DTSTART:20220327T010000
END:DAYLIGHT
BEGIN:STANDARD
TZOFFSETFROM:+0200
TZOFFSETTO:+0100
TZNAME:CET
DTSTART:20221030T010000
END:STANDARD
END:VTIMEZONE
BEGIN:VEVENT
DTSTART;TZID=Europe/Madrid:20211121T180000
DTEND;TZID=Europe/Madrid:20211121T190000
DTSTAMP:20260421T230231
CREATED:20211118T083329Z
LAST-MODIFIED:20230208T161329Z
UID:10004505-1637517600-1637521200@zaragenda.com
SUMMARY:Adragón\, tierra de leyenda
DESCRIPTION:El reyno de Adragón pasa por tiempos convulsos\, han llegado al poder los Grandes Señores llenos de ambición. Jota y Pe\, dos jóvenes guerreros de Zaragusta\, custodian secretos dentro de secretos\, a la vez que buscan la pasión de la vida a través de la aventura y el AMOR. \nMientras espera noticias de su amante en el pozo de San Lázaro\, Ara\, un ser fantástico y algo cotilla\, hará de improvisada Celestina. Un flemático correo será el enlace e hilo conductor en una búsqueda envenenada por los territorios de ADRAGÓN. \nMúsica en directo con las más famosas romanzas y dúos de zarzuela aragonesa\, y alguna jota!!!. Una loca y muy divertida interpretación de los orígenes de una leyenda. Un paseo escénico por el patrimonio invisible y efímero de nuestra querida TIERRA. \n************************************************************ \nLas leyendas que nos llegan a través del tiempo\, tuvieron unos PROTAGONISTAS reales. A partir de ellos construimos nuestro imaginario colectivo. \nY aunque en Occidente los DRAGONES quedaron como representantes del mal\, en algún momento sus orgullosas cabezas lucieron en ARAGÓN como cimeras de reyes\, y fueron señal de dignidad REAL. En Oriente siguen siendo baluarte de SABIDURÍA. \nGUERREROS y dragones con música en directo de las ZARZUELAS más famosas de temática ARAGONESA. Piano y tres voces líricas para encantar a todos los públicos! \nSELECCIÓN MUSICAL => Zarzuela * intérpretes * obra\nLa Dolores * Soprano\, mezzo y tenor “Grande como el mismo sol”\nGigantes y cabezudos * Mezzo “¡Esta en su carta!”\nGigantes y cabezudos * Mezzo y soprano “Si las mujeres mandasen”.\nLos de Aragón * Tenor “Los de Aragón”\nLos de Aragón * Mezzo “Palomica aragonesa”\nLa Dolorosa * Mezzo y tenor “Dejame besar tu mano generosa”\nLa Dolorosa * Tenor “La roca fria del calvario”\nLa Dolorosa * Soprano y tenor “Tú verás cuando me ponga..”\nJota * Soprano «S’ha feito de nuei»\nJota * Soprano «Que la fiera ya murió» \nDuración : 60 minutos aprox\nTODOS PÚBLICOS (niños a partir 6 años) \nDomingo 21 de noviembre a las 12 h. y 18 h. \nC.C. Estación del Norte. \nEntrada 7€. Reservas en mikropera@hotmail.com y en taquilla desde una hora antes de cada función.
URL:https://zaragenda.com/evento-zaragoza/adragon-tierra-de-leyenda-2/2021-11-21/2/
LOCATION:Centro Cívico Estación del Norte\, Perdiguera\, 7\, Zaragoza\, Zaragoza\, España
CATEGORIES:Espectáculos
ATTACH;FMTTYPE=image/png:https://zaragenda.com/wp-content/uploads/2021/11/adragon-Sc30k6.tmp_.png
GEO:41.6601041;-0.871759
X-APPLE-STRUCTURED-LOCATION;VALUE=URI;X-ADDRESS=Centro Cívico Estación del Norte Perdiguera 7 Zaragoza Zaragoza España;X-APPLE-RADIUS=500;X-TITLE=Perdiguera\, 7:geo:-0.871759,41.6601041
END:VEVENT
END:VCALENDAR