BEGIN:VCALENDAR
VERSION:2.0
PRODID:-//ZARAGENDA - Agenda Zaragoza de ocio y eventos - ECPv6.15.16//NONSGML v1.0//EN
CALSCALE:GREGORIAN
METHOD:PUBLISH
X-ORIGINAL-URL:https://zaragenda.com
X-WR-CALDESC:Eventos para ZARAGENDA - Agenda Zaragoza de ocio y eventos
REFRESH-INTERVAL;VALUE=DURATION:PT1H
X-Robots-Tag:noindex
X-PUBLISHED-TTL:PT1H
BEGIN:VTIMEZONE
TZID:Europe/Madrid
BEGIN:DAYLIGHT
TZOFFSETFROM:+0100
TZOFFSETTO:+0200
TZNAME:CEST
DTSTART:20200329T010000
END:DAYLIGHT
BEGIN:STANDARD
TZOFFSETFROM:+0200
TZOFFSETTO:+0100
TZNAME:CET
DTSTART:20201025T010000
END:STANDARD
BEGIN:DAYLIGHT
TZOFFSETFROM:+0100
TZOFFSETTO:+0200
TZNAME:CEST
DTSTART:20210328T010000
END:DAYLIGHT
BEGIN:STANDARD
TZOFFSETFROM:+0200
TZOFFSETTO:+0100
TZNAME:CET
DTSTART:20211031T010000
END:STANDARD
BEGIN:DAYLIGHT
TZOFFSETFROM:+0100
TZOFFSETTO:+0200
TZNAME:CEST
DTSTART:20220327T010000
END:DAYLIGHT
BEGIN:STANDARD
TZOFFSETFROM:+0200
TZOFFSETTO:+0100
TZNAME:CET
DTSTART:20221030T010000
END:STANDARD
END:VTIMEZONE
BEGIN:VEVENT
DTSTART;TZID=Europe/Madrid:20211211T180000
DTEND;TZID=Europe/Madrid:20211211T200000
DTSTAMP:20260425T163929
CREATED:20211209T084022Z
LAST-MODIFIED:20230208T162308Z
UID:10004610-1639245600-1639252800@zaragenda.com
SUMMARY:Leyendas del Basquet Solidarias
DESCRIPTION:Leyendas del baloncesto de Real Madrid\, FC Barcelona\, CB Canarias y Basket Zaragoza se reúnen en Zaragoza para recaudar fondos para los afectados por el volcán en La Palma. Será el 11 de diciembre de 2021 en el pabellón «Príncipe Felipe». Entradas a la venta a 3 y 5 Euros. \n\n\n\nFECHA: 11/12/2021 \n\n\nHORA: 18:00 horas \n\n\nLUGAR: Pabellón «Príncipe Felipe» \nCon el acto de presentación\, ha comenzado a andar el encuentro benéfico de «Leyendas Solidarias del basket» que organizan la Fundación Basket Zaragoza\, Give and Go\, Zaragoza Deporte y la Federación Aragonesa de Baloncesto y que tendrá lugar el próximo sábado 11 de diciembre a las 18.00 horas en el pabellón Príncipe Felipe. \nEl precio de las entradas será de 3€ y 5€\, y cuya recaudación será íntegra para los damnificados por la erupción volcánica de la isla de La Palma. Además\, La Fundación Basket Zaragzaa realizará un rastrillo benéfico en el que recaudará fondos para los proyectos de Atades. \nAdemás\, se ha habilitado una fila 0\, para colaborar a través de transferencia bancaria: ES78 1491 0001 2030 0013 7649 o mediante Bizum: nº 01759. \nParticipantes: Matías Lescano\, Diego Ciorciari\, Renaldas Seibutis\, Fran Vázquez\, Carlos Cabezas o Jesús Cilla entre otros ex rojillos de Basket Zaragoza\, reforzados por otros ex jugadores del CBZ como José Luis Maluenda o Paco Zapata\, bien de corto o presencialmente\, ayudarán a la causa de un equipo que dirigirán Chuchi Carrera\, Fernando y Pepe Arcega. \nEnfrente\, Joe Arlauckas\, Juán Corbalán o Fernando Romay de blanco\, mientras que en el FC Barcelona estarán Ferrán Martínez\, Erazem Lorbek o Roger Esteller y en el CB Canarias 1939\, Salva Diez\, Quique Ruiz Paz o el zaragozano Alfredo Fabón.
URL:https://zaragenda.com/evento-zaragoza/leyendas-del-basquet-solidarias/
LOCATION:Pabellón Príncipe Felipe\, Avda. Cesáreo Alierta\, 120\, Zaragoza\, 50013\, España
ATTACH;FMTTYPE=image/jpeg:https://zaragenda.com/wp-content/uploads/2021/12/leyendas_del_basket-9pVeu2.tmp_.jpg
GEO:41.6352671;-0.8660997
X-APPLE-STRUCTURED-LOCATION;VALUE=URI;X-ADDRESS=Pabellón Príncipe Felipe Avda. Cesáreo Alierta 120 Zaragoza 50013 España;X-APPLE-RADIUS=500;X-TITLE=Avda. Cesáreo Alierta\, 120:geo:-0.8660997,41.6352671
END:VEVENT
END:VCALENDAR