BEGIN:VCALENDAR
VERSION:2.0
PRODID:-//ZARAGENDA - Agenda Zaragoza de ocio y eventos - ECPv6.15.16//NONSGML v1.0//EN
CALSCALE:GREGORIAN
METHOD:PUBLISH
X-WR-CALNAME:ZARAGENDA - Agenda Zaragoza de ocio y eventos
X-ORIGINAL-URL:https://zaragenda.com
X-WR-CALDESC:Eventos para ZARAGENDA - Agenda Zaragoza de ocio y eventos
REFRESH-INTERVAL;VALUE=DURATION:PT1H
X-Robots-Tag:noindex
X-PUBLISHED-TTL:PT1H
BEGIN:VTIMEZONE
TZID:Europe/Madrid
BEGIN:DAYLIGHT
TZOFFSETFROM:+0100
TZOFFSETTO:+0200
TZNAME:CEST
DTSTART:20200329T010000
END:DAYLIGHT
BEGIN:STANDARD
TZOFFSETFROM:+0200
TZOFFSETTO:+0100
TZNAME:CET
DTSTART:20201025T010000
END:STANDARD
BEGIN:DAYLIGHT
TZOFFSETFROM:+0100
TZOFFSETTO:+0200
TZNAME:CEST
DTSTART:20210328T010000
END:DAYLIGHT
BEGIN:STANDARD
TZOFFSETFROM:+0200
TZOFFSETTO:+0100
TZNAME:CET
DTSTART:20211031T010000
END:STANDARD
BEGIN:DAYLIGHT
TZOFFSETFROM:+0100
TZOFFSETTO:+0200
TZNAME:CEST
DTSTART:20220327T010000
END:DAYLIGHT
BEGIN:STANDARD
TZOFFSETFROM:+0200
TZOFFSETTO:+0100
TZNAME:CET
DTSTART:20221030T010000
END:STANDARD
END:VTIMEZONE
BEGIN:VEVENT
DTSTART;TZID=Europe/Madrid:20210508T180000
DTEND;TZID=Europe/Madrid:20210508T200000
DTSTAMP:20260422T190112
CREATED:20210429T085220Z
LAST-MODIFIED:20230208T134448Z
UID:10002327-1620496800-1620504000@zaragenda.com
SUMMARY:DESCUBRE LA ZARAGOZA ESCONDIDA – LOS MENSAJES OCULTOS DEL RENACIMIENTO EN ZARAGOZA
DESCRIPTION:¿Qué hacen unos elefantes en la fachada de la Audiencia? ¿Y el juicio de Salomón en una ventana de la casa de los Morlanes? ¿Os habéis fijado alguna vez en todos los personajes que hay en la portada de la iglesia de Santa Engracia? Los edificios zaragozanos del Renacimiento están llenos de mensajes ocultos que llevan siglos esperando a que los descifremos. Los hombres y mujeres del siglo XVI\, por lo menos los más cultos\, podían entenderlos\, pero poco a poco hemos ido olvidado las claves de aquel lenguaje de imágenes (ellos tampoco entenderían las nuestras si no las estudiaran\, en cualquier caso). ¿Os venís a descubrirlos con nosotros? \nCuándo – Domingo 8 de mayo a las 18:00 horas \nDónde – Delante de la Casa de los Morlanes (plaza de San Carlos) \nPrecio – 13€ \nUSO OBLIGATORIO DE MASCARILLA
URL:https://zaragenda.com/evento-zaragoza/descubre-la-zaragoza-escondida-los-mensajes-ocultos-del-renacimiento-en-zaragoza/
LOCATION:Casa de los Morlanes\, Plaza San Carlos\, 4\, Zaragoza\, Zaragoza\, 50001\, España
CATEGORIES:rutas guiadas
ATTACH;FMTTYPE=image/jpeg:https://zaragenda.com/wp-content/uploads/2021/04/Audiencia.jpg
GEO:41.6516439;-0.8756944
X-APPLE-STRUCTURED-LOCATION;VALUE=URI;X-ADDRESS=Casa de los Morlanes Plaza San Carlos 4 Zaragoza Zaragoza 50001 España;X-APPLE-RADIUS=500;X-TITLE=Plaza San Carlos\, 4:geo:-0.8756944,41.6516439
END:VEVENT
BEGIN:VEVENT
DTSTART;TZID=Europe/Madrid:20210502T110000
DTEND;TZID=Europe/Madrid:20210502T130000
DTSTAMP:20260422T190112
CREATED:20210429T085321Z
LAST-MODIFIED:20230208T134525Z
UID:10002330-1619953200-1619960400@zaragenda.com
SUMMARY:TOUR VIRTUAL – EL CADIZ DE LA PEPA
DESCRIPTION:En 1717 tuvo lugar el traslado de la Casa de Contratación de Sevilla a Cádiz\, con lo que su puerto se convirtió en uno de los más importantes del mundo.\nSe creó también la Escuela de Guardias Marinas\, el Real Observatorio de la Armada…\nLos barcos que atravesaban todos los Océanos echaban el ancla en la bahía\, trayendo en sus bodegas especias\, tabaco\, azúcar\, cantes… y también esclavos\, como nos recuerda el “callejón de los negros”\, a un paso de la antigua fábrica de tabacos. Los comerciantes gaditanos arriesgaban su dinero en aquellos grandes viajes\, y aunque alguna vez perdían muchas ganaban\, e iban construyendo esa ciudad maravillosa que vemos hoy\, una “cápsula del tiempo” en la que ha quedado atrapado ese siglo de oro en el que Cádiz fue la ciudad más moderna y abierta al mundo de España.\nAquello convirtió a Cádiz en la ciudad más americana de España (aunque como dicen ellos\, que son gente sabia\, es América el continente más gaditano)\, culta\, abierta\, liberal\, rica… y muy especial\, sobre todo por su geografía\, porque… ¿sabíais que Cádiz es una isla? \nPues sí\, y eso la convirtió en el último reducto que los franceses no pudieron conquistar en la guerra de la Independencia. Y por esa razón las Cortes se reunieron aquí a elaborar una Constitución que sería la tercera del mundo: la primera vez en la que nos reunimos todos (españoles de España y españoles de América\, nobles y no\, liberales y conservadores\, gentes de Iglesia y laicos) a debatir sobre cómo queríamos que fuera nuestro futuro. \n¿Os venís con nosotros al Cádiz de las Cortes? Una ciudad pequeña (no tiene más espacio) pero grande\, sitiada por los franceses (que viven bastante peor que los sitiados) pero con un puerto abierto por el que sigue llegando de todo\, que canta sus penas (no hay nada más gaditano que eso) y sus alegría (un palo del flamenco que nace de las jotas que llevaron allí los aragoneses)… En fin\, una ciudad apasionante en la que está ocurriendo algo emocionante de verdad\, que culmina el 19 de marzo de 1812 con la proclamación de la Constitución al grito de ¡¡¡VIVA LA PEPA!!!
URL:https://zaragenda.com/evento-zaragoza/tour-virtual-el-cadiz-de-la-pepa/
LOCATION:Zaragoza\, Zaragoza\, España
CATEGORIES:rutas guiadas
ATTACH;FMTTYPE=image/jpeg:https://zaragenda.com/wp-content/uploads/2021/04/Cadiz-vista-aerea-2.jpg
GEO:41.6488226;-0.8890853
END:VEVENT
BEGIN:VEVENT
DTSTART;TZID=Europe/Madrid:20210501T191500
DTEND;TZID=Europe/Madrid:20210501T211500
DTSTAMP:20260422T190112
CREATED:20210429T085310Z
LAST-MODIFIED:20230208T134515Z
UID:10002329-1619896500-1619903700@zaragenda.com
SUMMARY:Tour virtual – LAS PIRÁMIDES
DESCRIPTION:El Egipto faraónico nos ha dejado una herencia increíble que cada día nos sigue sorprendiendo con nuevos descubrimientos\, pero de todo\, lo más sorprendente\, desde siempre\, son las pirámides\, y muy especialmente las que hay en la llanura de Guiza\, junto a El Cairo. Desde que los antiguos las incluyeron entre las siete maravillas de su mundo hasta hoy\, pasando por Napoleón subido a lo alto de la pirámide de Keops y pronunciando una frase para la Historia: “Desde lo alto de estas pirámides cuarenta siglos nos contemplan”. Lo dijo un poco a ojo y era alguno más\, pero no le pudo quedar más solemne y contundente.\nSi queréis saber mucho más sobre estas construcciones\, intentar entender para qué las hicieron y cómo lograron levantarlas\, descubrir la relación de los egipcios con la Muerte… no os lo podéis perder. Pero si lo que esperáis es oír que fue imprescindible la ayuda de los extraterrestres y de seres “superiores”\, porque los egipcios jamás hubieran sido incapaces de levantar algo así ellos solos… pues entonces no\, la verdad.
URL:https://zaragenda.com/evento-zaragoza/tour-virtual-las-piramides/
LOCATION:Zaragoza\, Zaragoza\, España
CATEGORIES:rutas guiadas
ATTACH;FMTTYPE=image/jpeg:https://zaragenda.com/wp-content/uploads/2021/04/PIRAMIDES.jpg
GEO:41.6488226;-0.8890853
END:VEVENT
BEGIN:VEVENT
DTSTART;TZID=Europe/Madrid:20210501T180000
DTEND;TZID=Europe/Madrid:20210501T200000
DTSTAMP:20260422T190112
CREATED:20210429T085107Z
LAST-MODIFIED:20230208T134350Z
UID:10002325-1619892000-1619899200@zaragenda.com
SUMMARY:RUTA DE LOS SITIOS: A VENCER O MORIR
DESCRIPTION:Junio de 1808. Los franceses se presentan ante las puertas de Zaragoza esperando entrar en uno o dos días. \nEse día empieza el primero de los dos asedios que hicieron famosa a la ciudad en el mundo entero\, y que hicieron exclamar al general Montgomery que hasta Estalingrado no había habido nada en la historia de la Humanidad comparable a lo que se había vivido en Zaragoza. \nOs proponemos un recorrido en el que se mezclan el heroísmo y la traición\, la gloria y la miseria\, la muerte y la inmortalidad. Los extremos que se tocan\, como ellos mismos escribieron en uno de los reductos que defendieron desesperadamente contra el mejor ejército del mundo: ¡A vencer\, o morir! \nDónde – Plaza de Los Sitios (junto a la fuente) \nCuándo – sábado 01 de mayo a las 18’00 \nPrecio – 13€ \nUSO OBLIGATORIO DE MASCARILLA
URL:https://zaragenda.com/evento-zaragoza/ruta-de-los-sitios-a-vencer-o-morir/
LOCATION:Plaza de los Sitios\, Plaza de los sitios\, zaragoza\, Zaragoza\, 50001\, España
CATEGORIES:Rutas
ATTACH;FMTTYPE=image/jpeg:https://zaragenda.com/wp-content/uploads/2021/04/ruta-de-los-sitios.jpg
GEO:41.6487316;-0.8788069
X-APPLE-STRUCTURED-LOCATION;VALUE=URI;X-ADDRESS=Plaza de los Sitios Plaza de los sitios zaragoza Zaragoza 50001 España;X-APPLE-RADIUS=500;X-TITLE=Plaza de los sitios:geo:-0.8788069,41.6487316
END:VEVENT
BEGIN:VEVENT
DTSTART;TZID=Europe/Madrid:20210501T180000
DTEND;TZID=Europe/Madrid:20210501T200000
DTSTAMP:20260422T190112
CREATED:20210429T085036Z
LAST-MODIFIED:20230208T134348Z
UID:10002324-1619892000-1619899200@zaragenda.com
SUMMARY:La Modernidad llega en tranvía: un paseo por San José y Montemolín
DESCRIPTION:Más allá de los límites de la ciudad histórica\, la que encerraban las murallas medievales\, también se conserva un importantísimo patrimonio.\nEl barrio de San José\, concretamente\, está lleno de cosas interesantes\, y nos vamos a descubrirlas.\nPor cierto\, ¿por qué se llama de San José? Descubriremos el lugar en el que estuvo el antiguo convento dedicado al santo y que acabó dando el nombre a toda la zona\, pero también edificios tan interesantes como el de las Hermanitas de los pobres o el matadero\, ambos de Ricardo Magdalena\, el más que centenario colegio Tomás Alvira\, la estación de Utrillas\, la fábrica de Giesa/Schindler\, la desaparecida Granja Agrícola Experimental (todo exteriores)… A través de ellos conoceremos la historia del barrio y las transformaciones que han tenido lugar desde el siglo XIX en la zona de Montemolín\, en la frontera entre el barrio de San José y el de las Fuentes. ¿Pensáis que por allí no hay nada interesante? Pues nada más lejos de la realidad. Venid con nosotros y os contaremos un montón de historias. descubriendo\, como decíamos al principio\, que el patrimonio de Zaragoza es muchísimo mayor de lo que se imaginan muchos zaragozanos.\nCuándo – Sábado 01 de mayo a las 18:00 horas \nDónde – Esquina de Miguel Servet con Compromiso de Caspe (delante de Muebles Rey). (líneas 24\, 38\, 39\, 40 de bus urbano) \nPrecio – 13€ \nUSO OBLIGATORIO DE MASCARILLA
URL:https://zaragenda.com/evento-zaragoza/la-modernidad-llega-en-tranvia-un-paseo-por-san-jose-y-montemolin/
LOCATION:Miguel Servet\, C/ Miguel Servet\, Zaragoza\, Zaragoza\, España
CATEGORIES:Visitas Guiadas
ATTACH;FMTTYPE=image/png:https://zaragenda.com/wp-content/uploads/2021/04/la-modernidad-viene-en-tranvia.png
GEO:41.6426765;-0.8686805
X-APPLE-STRUCTURED-LOCATION;VALUE=URI;X-ADDRESS=Miguel Servet C/ Miguel Servet Zaragoza Zaragoza España;X-APPLE-RADIUS=500;X-TITLE=C/ Miguel Servet:geo:-0.8686805,41.6426765
END:VEVENT
BEGIN:VEVENT
DTSTART;TZID=Europe/Madrid:20210501T164500
DTEND;TZID=Europe/Madrid:20210501T184500
DTSTAMP:20260422T190112
CREATED:20210429T085257Z
LAST-MODIFIED:20230208T134508Z
UID:10002328-1619887500-1619894700@zaragenda.com
SUMMARY:Tour virtual – LOS SITIOS DE ZARAGOZA
DESCRIPTION:Zaragoza fue la capital de un estado\, la Corona de Aragón\, que dominó el Mediterráneo occidental durante siglos; fue la ciudad de Goya\, un pintor de fama universal; pero si hay algo que llevó su nombre por todo el mundo fue la resistencia de los zaragozanos a las tropas de Napoléon\, el mejor ejército del mundo en la época. El mismísimo general británico Montgomery proclamó que hasta Stalingrado no había habido en la historia de la Humanidad nada comparable a lo que se había vivido en Zaragoza\, tanto que después del primer Sitio\, en una época en la que no había teléfono ni cosa parecida\, se compuso en Nueva York una marcha dedicada a Palafox. \nDurante los dos asedios que se extendieron entre junio de 1808 y febrero de 1809 los zaragozanos lucharon hasta mucho más allá de lo razonable\, implicándose en la defensa de la ciudad toda la población: hombres\, mujeres y niños\, cuyos nombres repetía la resistencia contra Napoleón en toda Europa. A aquellos héroes (que lo fueron\, al margen de lo que cada uno opine de por qué lo hicieron o lo dejaron de hacer) se les han dedicado versos\, novelas\, pinturas\, películas… ¿Qué es lo que les llevó a hacer algo así? Es una opinión personal\, pero creo que nadie lucharía de esa manera tan loca\, tan épica\, tan extraordinaria y probablemente tan insensata\, por conceptos abstractos y románticos Yo creo más bien que aquella gente luchó por su forma de vivir\, de entender el mundo\, por sus casas\, por las tumbas de sus abuelos… Muchos de ellos incluso estando de acuerdo con las ideas que traían los franceses\, pero totalmente en desacuerdo con la forma que tenían de traerlas\, en la punta de las bayonetas. \nEn fin\, que si queréis conocer esta historia que podría parecer ficción (pero que no lo es)\, os esperamos
URL:https://zaragenda.com/evento-zaragoza/tour-virtual-los-sitios-de-zaragoza/
LOCATION:Zaragoza\, Zaragoza\, España
CATEGORIES:rutas guiadas
ATTACH;FMTTYPE=image/jpeg:https://zaragenda.com/wp-content/uploads/2021/04/goya_que_valor.jpg
GEO:41.6488226;-0.8890853
END:VEVENT
END:VCALENDAR