BEGIN:VCALENDAR
VERSION:2.0
PRODID:-//ZARAGENDA - Agenda Zaragoza de ocio y eventos - ECPv6.15.16//NONSGML v1.0//EN
CALSCALE:GREGORIAN
METHOD:PUBLISH
X-WR-CALNAME:ZARAGENDA - Agenda Zaragoza de ocio y eventos
X-ORIGINAL-URL:https://zaragenda.com
X-WR-CALDESC:Eventos para ZARAGENDA - Agenda Zaragoza de ocio y eventos
REFRESH-INTERVAL;VALUE=DURATION:PT1H
X-Robots-Tag:noindex
X-PUBLISHED-TTL:PT1H
BEGIN:VTIMEZONE
TZID:Europe/Madrid
BEGIN:DAYLIGHT
TZOFFSETFROM:+0100
TZOFFSETTO:+0200
TZNAME:CEST
DTSTART:20210328T010000
END:DAYLIGHT
BEGIN:STANDARD
TZOFFSETFROM:+0200
TZOFFSETTO:+0100
TZNAME:CET
DTSTART:20211031T010000
END:STANDARD
BEGIN:DAYLIGHT
TZOFFSETFROM:+0100
TZOFFSETTO:+0200
TZNAME:CEST
DTSTART:20220327T010000
END:DAYLIGHT
BEGIN:STANDARD
TZOFFSETFROM:+0200
TZOFFSETTO:+0100
TZNAME:CET
DTSTART:20221030T010000
END:STANDARD
BEGIN:DAYLIGHT
TZOFFSETFROM:+0100
TZOFFSETTO:+0200
TZNAME:CEST
DTSTART:20230326T010000
END:DAYLIGHT
BEGIN:STANDARD
TZOFFSETFROM:+0200
TZOFFSETTO:+0100
TZNAME:CET
DTSTART:20231029T010000
END:STANDARD
BEGIN:DAYLIGHT
TZOFFSETFROM:+0100
TZOFFSETTO:+0200
TZNAME:CEST
DTSTART:20240331T010000
END:DAYLIGHT
BEGIN:STANDARD
TZOFFSETFROM:+0200
TZOFFSETTO:+0100
TZNAME:CET
DTSTART:20241027T010000
END:STANDARD
END:VTIMEZONE
BEGIN:VEVENT
DTSTART;TZID=Europe/Madrid:20230421T190000
DTEND;TZID=Europe/Madrid:20230421T190000
DTSTAMP:20260421T235808
CREATED:20230420T071703Z
LAST-MODIFIED:20230511T091246Z
UID:10007564-1682103600-1682103600@zaragenda.com
SUMMARY:PRESENTACIÓN EXPOSICIÓN “CHROMATICALLY ARCHITECTURE” de PAULA CANDELA
DESCRIPTION:El viernes 21 de abril\, a las 19:00 h. nos visita @paulacandelag la artista madrileña que expone actualmente en nuestro espacio.  Charlaremos con ella y descubriremos de su mano este proyecto de arte transdisciplinar en tres actos: fotografía\, diseño y arte: Chromatically Architecture. \nEn esta colección se aplica el concepto Chromatically para transformar la realidad arquitectónica de distintas ciudades europeas y crear nuevos escenarios disruptivos en los que reina la geometría y el #color. La colección se inicia en un viaje por ciudades de Suecia\, Finlandia\, Estonia y Rusia\, pero\, con motivo de la inauguración de sus exposiciones en España\, la artista ha lanzado dos colecciones cápsula inéditas centradas en las ciudades de #Barcelona y #Madrid. \nPaula Candela es doble graduada en Ingeniería en Diseño Industrial y Desarrollo del Producto y Bellas Artes por la Universidad Nebrija de Madrid. Además\, completó sus estudios durante un año en San Diego State University donde se especializó en Diseño Gráfico y Arte Experimental. \nSus proyectos siempre han buscado ser transdisciplinares y eclécticos\, aprovechando la oportunidad de poder abordar distintos medios y técnicas\, explorando las conexiones que pudieran surgir. \nEn su faceta de artista\, concibe que existan territorios híbridos donde las disciplinas pueden dialogar\, consiguiendo que se relacionen. Generando así\, un intercambio en constante aprendizaje y transferencia de conocimiento capaz de transmitir sensaciones. \nEn su faceta de diseñadora\, aspira a dar respuesta a las necesidades de las empresas y las personas. Con el propósito de aportar valor y generar impacto creando y desarrollando conceptos\, productos y servicios a través de la innovación\, la estrategia y la creatividad.
URL:https://zaragenda.com/evento-zaragoza/presentacion-exposicion-chromatically-architecture-de-paula-candela/
LOCATION:Le Petit Coin\, Paseo Ruiseñores\, 13\,\, Zaragoza\, Zaragoza\, 50006\, España
CATEGORIES:Exposiciones
ATTACH;FMTTYPE=image/jpeg:https://zaragenda.com/wp-content/uploads/2023/04/Le-Petit-Coin-presentacion-Chromatically-Architecture-aoUSIC.tmp_.jpg
GEO:41.6376105;-0.8874609
X-APPLE-STRUCTURED-LOCATION;VALUE=URI;X-ADDRESS=Le Petit Coin Paseo Ruiseñores 13 Zaragoza Zaragoza 50006 España;X-APPLE-RADIUS=500;X-TITLE=Paseo Ruiseñores\, 13\,:geo:-0.8874609,41.6376105
END:VEVENT
BEGIN:VEVENT
DTSTART;TZID=Europe/Madrid:20220208T200000
DTEND;TZID=Europe/Madrid:20220208T210000
DTSTAMP:20260421T235808
CREATED:20220207T114056Z
LAST-MODIFIED:20230208T163621Z
UID:10004857-1644350400-1644354000@zaragenda.com
SUMMARY:Proyección de ‘La sombra de quien fui’
DESCRIPTION:El próximo 8 de febrero a las 20:00 h. Le Petit Coin proyecta el tercer corto de un joven director aragonés: Álvaro Sancho. «La sombra de quien fui» es una perturbadora obra protagonizada por @adesentre \, que ya ha recibido varios premios y reconocimientos nacionales e internacionales. \nÉl mismo\, junto a Alfonso Desentre\, presentarán la proyección y podremos charlar con ellos de su realización. \nTrailer: https://www.youtube.com/watch?v=yJftKRS7FRA \nGente muy joven\, con mucho talento\, haciendo cosas muy buenas y sin salir de la ciudad.
URL:https://zaragenda.com/evento-zaragoza/proyeccion-de-la-sombra-de-quien-fui/
LOCATION:Le Petit Coin\, Paseo Ruiseñores\, 13\,\, Zaragoza\, Zaragoza\, 50006\, España
CATEGORIES:Cine
ATTACH;FMTTYPE=image/jpeg:https://zaragenda.com/wp-content/uploads/2022/02/le_petit_coin_la_sombra_de_quien_fui-qWzUxu.tmp_.jpg
GEO:41.6376105;-0.8874609
X-APPLE-STRUCTURED-LOCATION;VALUE=URI;X-ADDRESS=Le Petit Coin Paseo Ruiseñores 13 Zaragoza Zaragoza 50006 España;X-APPLE-RADIUS=500;X-TITLE=Paseo Ruiseñores\, 13\,:geo:-0.8874609,41.6376105
END:VEVENT
END:VCALENDAR