BEGIN:VCALENDAR
VERSION:2.0
PRODID:-//ZARAGENDA - Agenda Zaragoza de ocio y eventos - ECPv6.15.16//NONSGML v1.0//EN
CALSCALE:GREGORIAN
METHOD:PUBLISH
X-ORIGINAL-URL:https://zaragenda.com
X-WR-CALDESC:Eventos para ZARAGENDA - Agenda Zaragoza de ocio y eventos
REFRESH-INTERVAL;VALUE=DURATION:PT1H
X-Robots-Tag:noindex
X-PUBLISHED-TTL:PT1H
BEGIN:VTIMEZONE
TZID:Europe/Madrid
BEGIN:DAYLIGHT
TZOFFSETFROM:+0100
TZOFFSETTO:+0200
TZNAME:CEST
DTSTART:20200329T010000
END:DAYLIGHT
BEGIN:STANDARD
TZOFFSETFROM:+0200
TZOFFSETTO:+0100
TZNAME:CET
DTSTART:20201025T010000
END:STANDARD
BEGIN:DAYLIGHT
TZOFFSETFROM:+0100
TZOFFSETTO:+0200
TZNAME:CEST
DTSTART:20210328T010000
END:DAYLIGHT
BEGIN:STANDARD
TZOFFSETFROM:+0200
TZOFFSETTO:+0100
TZNAME:CET
DTSTART:20211031T010000
END:STANDARD
BEGIN:DAYLIGHT
TZOFFSETFROM:+0100
TZOFFSETTO:+0200
TZNAME:CEST
DTSTART:20220327T010000
END:DAYLIGHT
BEGIN:STANDARD
TZOFFSETFROM:+0200
TZOFFSETTO:+0100
TZNAME:CET
DTSTART:20221030T010000
END:STANDARD
END:VTIMEZONE
BEGIN:VEVENT
DTSTART;TZID=Europe/Madrid:20211205T130000
DTEND;TZID=Europe/Madrid:20211205T143000
DTSTAMP:20260423T194628
CREATED:20211130T123817Z
LAST-MODIFIED:20230208T161829Z
UID:10004570-1638709200-1638714600@zaragenda.com
SUMMARY:Moliner 7: Open Mic
DESCRIPTION:Moliner 7 y el músico Diego Meléndez organizan el domingo 5 de diciembre una sesión de Open Mic (micrófono abierto) a partir de las 13:00 h. \nEntrada libre. \nPara participar como músico\, apuntarse en instagram (@openmiczgz) o por whatsapp 675313686
URL:https://zaragenda.com/evento-zaragoza/moliner-7-open-mic/
LOCATION:Moliner 7\, María Moliner\, 7\, Zaragoza\, Zaragoza\, 50007\, España
CATEGORIES:Música
ATTACH;FMTTYPE=image/jpeg:https://zaragenda.com/wp-content/uploads/2021/11/16684099_862936087181057_1815853987617419420_n1-d9S8kj.tmp_.jpg
GEO:41.6393374;-0.8853299
X-APPLE-STRUCTURED-LOCATION;VALUE=URI;X-ADDRESS=Moliner 7 María Moliner 7 Zaragoza Zaragoza 50007 España;X-APPLE-RADIUS=500;X-TITLE=María Moliner\, 7:geo:-0.8853299,41.6393374
END:VEVENT
END:VCALENDAR