BEGIN:VCALENDAR
VERSION:2.0
PRODID:-//ZARAGENDA - Agenda Zaragoza de ocio y eventos - ECPv6.15.16//NONSGML v1.0//EN
CALSCALE:GREGORIAN
METHOD:PUBLISH
X-WR-CALNAME:ZARAGENDA - Agenda Zaragoza de ocio y eventos
X-ORIGINAL-URL:https://zaragenda.com
X-WR-CALDESC:Eventos para ZARAGENDA - Agenda Zaragoza de ocio y eventos
REFRESH-INTERVAL;VALUE=DURATION:PT1H
X-Robots-Tag:noindex
X-PUBLISHED-TTL:PT1H
BEGIN:VTIMEZONE
TZID:Europe/Madrid
BEGIN:DAYLIGHT
TZOFFSETFROM:+0100
TZOFFSETTO:+0200
TZNAME:CEST
DTSTART:20200329T010000
END:DAYLIGHT
BEGIN:STANDARD
TZOFFSETFROM:+0200
TZOFFSETTO:+0100
TZNAME:CET
DTSTART:20201025T010000
END:STANDARD
BEGIN:DAYLIGHT
TZOFFSETFROM:+0100
TZOFFSETTO:+0200
TZNAME:CEST
DTSTART:20210328T010000
END:DAYLIGHT
BEGIN:STANDARD
TZOFFSETFROM:+0200
TZOFFSETTO:+0100
TZNAME:CET
DTSTART:20211031T010000
END:STANDARD
BEGIN:DAYLIGHT
TZOFFSETFROM:+0100
TZOFFSETTO:+0200
TZNAME:CEST
DTSTART:20220327T010000
END:DAYLIGHT
BEGIN:STANDARD
TZOFFSETFROM:+0200
TZOFFSETTO:+0100
TZNAME:CET
DTSTART:20221030T010000
END:STANDARD
BEGIN:DAYLIGHT
TZOFFSETFROM:+0100
TZOFFSETTO:+0200
TZNAME:CEST
DTSTART:20230326T010000
END:DAYLIGHT
BEGIN:STANDARD
TZOFFSETFROM:+0200
TZOFFSETTO:+0100
TZNAME:CET
DTSTART:20231029T010000
END:STANDARD
END:VTIMEZONE
BEGIN:VEVENT
DTSTART;TZID=Europe/Madrid:20221002T173000
DTEND;TZID=Europe/Madrid:20221002T200000
DTSTAMP:20260420T161306
CREATED:20220927T080704Z
LAST-MODIFIED:20230208T173536Z
UID:10006018-1664731800-1664740800@zaragenda.com
SUMMARY:¡Juega a Fútbol Americano! · Captación de Sparrows Zaragoza y Mercenarios de Villamayor
DESCRIPTION:¿Quieres conocer el Fútbol Americano? Sparrows Zaragoza y Mercenarios de Villamayor nos juntamos para enseñártelo.\nTe esperamos este domingo 2 de octubre a las 17:30 en el parque grande para realizar una captación y demostrarte lo mejor del Fútbol Americano y el Flag Fútbol para que te pruebes a ti mism@ superando diferentes pruebas y actividades relacionadas con este deporte.\n¿Te atreves a venir? No olvides traer ropa deportiva… ¡Te esperamos!
URL:https://zaragenda.com/evento-zaragoza/juega-a-futbol-americano-%c2%b7-captacion-de-sparrows-zaragoza-y-mercenarios-de-villamayor/
LOCATION:Parque Grande Jose Antonio Labordeta\, Parque Grande José Antonio Labordeta\, s/n\, Zaragoza\, Zaragoza\, 50000\, España
ATTACH;FMTTYPE=image/jpeg:https://zaragenda.com/wp-content/uploads/2022/09/ENTRENAMIENTO-CONJUNTO-DRAGONS-SPARROWS-20.11.21-1.jpg
ORGANIZER;CN="Sparrows Zaragoza":MAILTO:sparrowszaragoza@gmail.com
GEO:41.6330573;-0.8955496
X-APPLE-STRUCTURED-LOCATION;VALUE=URI;X-ADDRESS=Parque Grande Jose Antonio Labordeta Parque Grande José Antonio Labordeta s/n Zaragoza Zaragoza 50000 España;X-APPLE-RADIUS=500;X-TITLE=Parque Grande José Antonio Labordeta\, s/n:geo:-0.8955496,41.6330573
END:VEVENT
BEGIN:VEVENT
DTSTART;TZID=Europe/Madrid:20211004T190000
DTEND;TZID=Europe/Madrid:20211027T210000
DTSTAMP:20260420T161306
CREATED:20210927T113527Z
LAST-MODIFIED:20230208T145847Z
UID:10003431-1633374000-1635368400@zaragenda.com
SUMMARY:Puertas Abiertas | Prueba el Football Americano Femenino
DESCRIPTION:¿Eres mujer y tienes más de 16 años?\n¡Prueba el Football Americano con Sparrows Zaragoza!\nDurante el mes de octubre podrás disfrutar gratuitamente de este deporte lleno de adrenalina y conocer a nuestro equipo en el que te sentirás acogida desde el primer día.\nNuestro equipo femenino está formado de mujeres de todas las edades.\n¡Solo necesitas ropa de deporte y ganas de pasártelo bien!\nTe esperamos los lunes y miércoles en el CDM La Granja de 19:00 a 21:00.\n¡No dudes en escribirnos!
URL:https://zaragenda.com/evento-zaragoza/puertas-abiertas-prueba-el-football-americano-femenino/
LOCATION:Zaragoza\, Zaragoza\, España
CATEGORIES:Deporte
ATTACH;FMTTYPE=image/jpeg:https://zaragenda.com/wp-content/uploads/2021/09/Puertas-abiertas-todo-octubre-SPARROWS-ZGZ.jpg
ORGANIZER;CN="Sparrows Zaragoza":MAILTO:sparrowszaragoza@gmail.com
GEO:41.6488226;-0.8890853
END:VEVENT
BEGIN:VEVENT
DTSTART;TZID=Europe/Madrid:20210921T190000
DTEND;TZID=Europe/Madrid:20210921T210000
DTSTAMP:20260420T161306
CREATED:20210920T120633Z
LAST-MODIFIED:20230208T144531Z
UID:10003184-1632250800-1632258000@zaragenda.com
SUMMARY:PRUEBA EL FOOTBALL FLAG CON SPARROWS ZARAGOZA
DESCRIPTION:¿Tienes de 6 a 17 años? ¿Buscas un deporte diferente e increíble? Sparrows Zaragoza te trae el Football Flag\, un deporte ideal y poco conocido que cambiará tu vida.\nEste martes 21 de 19:00 a 21:00 ven a jugar a Flag de forma gratuita en el CDM La Granja.\nNo te pierdas esta oportunidad de aprender y divertirte a través de este deporte que te ayudará a desarrollar:\n🏈 Agilidad\n🏈 Motricidad\n🏈 Habilidades sociales y de cooperación\n🏈 Reflejos\n🏈 Toma de decisiones\n🏈 Disciplina\n🏈 Y mucho amor por el deporte\n¡Escríbenos para saber más! ¡Te esperamos!
URL:https://zaragenda.com/evento-zaragoza/prueba-el-football-flag-con-sparrows-zaragoza/
LOCATION:Zaragoza\, Zaragoza\, España
CATEGORIES:Actividades para niños,Deporte,Infantil
ATTACH;FMTTYPE=image/jpeg:https://zaragenda.com/wp-content/uploads/2021/09/WhatsApp-Image-2021-09-17-at-17.45.52.jpeg
ORGANIZER;CN="Sparrows Zaragoza":MAILTO:sparrowszaragoza@gmail.com
GEO:41.6488226;-0.8890853
END:VEVENT
BEGIN:VEVENT
DTSTART;TZID=Europe/Madrid:20210416T170000
DTEND;TZID=Europe/Madrid:20210416T190000
DTSTAMP:20260420T161306
CREATED:20210407T121458Z
LAST-MODIFIED:20230208T131036Z
UID:10000167-1618592400-1618599600@zaragenda.com
SUMMARY:Puertas abiertas: ven a probar gratis el Football Flag y el Football Americano
DESCRIPTION:¿Quieres probar un deporte diferente?\n¡Sparrows Zaragoza te invita a conocer el Football Flag y el Football Americano!\nSea cual sea tu edad tenemos una categoría para ti:\n*)Football Americano: cadete mixto (de 14 a 17 años) y senior femenino (+16 años).\n*)Football Flag: a partir de los seis años\, categorías junior mixto (de 16 a 16 años) y senior mixto (a partir de 16 años).\nSolo debes traer tu ropa de deporte\, tu propia botella de agua y muchas ganas de pasártelo bien.\nTe esperamos en el campo de tierra del Parque Tío Jorge (C/Sixto Celorrio\, 50015\, Zaragoza). Cumplimos todas las medidas sanitarias y de seguridad.\n¿Te lo vas a perder?\nContáctanos para cualquier duda.
URL:https://zaragenda.com/evento-zaragoza/puertas-abiertas-ven-a-probar-gratis-el-football-flag-y-el-football-americano/
LOCATION:Parque del Tío Jorge\, Calle Valle de Broto\, s/n\, Zaragoza\, Zaragoza\, 50015\, España
CATEGORIES:Deporte,encuentros,Otras Actividades
ATTACH;FMTTYPE=image/jpeg:https://zaragenda.com/wp-content/uploads/2021/04/PUERTAS-ABIERTAS-2.jpg
ORGANIZER;CN="Sparrows Zaragoza":MAILTO:sparrowszaragoza@gmail.com
GEO:41.6666;-0.8803305
X-APPLE-STRUCTURED-LOCATION;VALUE=URI;X-ADDRESS=Parque del Tío Jorge Calle Valle de Broto s/n Zaragoza Zaragoza 50015 España;X-APPLE-RADIUS=500;X-TITLE=Calle Valle de Broto\, s/n:geo:-0.8803305,41.6666
END:VEVENT
END:VCALENDAR