BEGIN:VCALENDAR
VERSION:2.0
PRODID:-//ZARAGENDA - Agenda Zaragoza de ocio y eventos - ECPv6.15.16//NONSGML v1.0//EN
CALSCALE:GREGORIAN
METHOD:PUBLISH
X-WR-CALNAME:ZARAGENDA - Agenda Zaragoza de ocio y eventos
X-ORIGINAL-URL:https://zaragenda.com
X-WR-CALDESC:Eventos para ZARAGENDA - Agenda Zaragoza de ocio y eventos
REFRESH-INTERVAL;VALUE=DURATION:PT1H
X-Robots-Tag:noindex
X-PUBLISHED-TTL:PT1H
BEGIN:VTIMEZONE
TZID:Europe/Madrid
BEGIN:DAYLIGHT
TZOFFSETFROM:+0100
TZOFFSETTO:+0200
TZNAME:CEST
DTSTART:20200329T010000
END:DAYLIGHT
BEGIN:STANDARD
TZOFFSETFROM:+0200
TZOFFSETTO:+0100
TZNAME:CET
DTSTART:20201025T010000
END:STANDARD
BEGIN:DAYLIGHT
TZOFFSETFROM:+0100
TZOFFSETTO:+0200
TZNAME:CEST
DTSTART:20210328T010000
END:DAYLIGHT
BEGIN:STANDARD
TZOFFSETFROM:+0200
TZOFFSETTO:+0100
TZNAME:CET
DTSTART:20211031T010000
END:STANDARD
BEGIN:DAYLIGHT
TZOFFSETFROM:+0100
TZOFFSETTO:+0200
TZNAME:CEST
DTSTART:20220327T010000
END:DAYLIGHT
BEGIN:STANDARD
TZOFFSETFROM:+0200
TZOFFSETTO:+0100
TZNAME:CET
DTSTART:20221030T010000
END:STANDARD
BEGIN:DAYLIGHT
TZOFFSETFROM:+0100
TZOFFSETTO:+0200
TZNAME:CEST
DTSTART:20230326T010000
END:DAYLIGHT
BEGIN:STANDARD
TZOFFSETFROM:+0200
TZOFFSETTO:+0100
TZNAME:CET
DTSTART:20231029T010000
END:STANDARD
END:VTIMEZONE
BEGIN:VEVENT
DTSTART;TZID=Europe/Madrid:20220104T190000
DTEND;TZID=Europe/Madrid:20220104T203000
DTSTAMP:20260420T084206
CREATED:20220103T124700Z
LAST-MODIFIED:20230208T162834Z
UID:10004702-1641322800-1641328200@zaragenda.com
SUMMARY:PRESENTACIÓN DEL LIBRO PASIONARIA. LA VIDA INESPERADA DE DOLORES IBÁRRURI (DIEGO DÍAZ\, HOJA DE LATA 2021)
DESCRIPTION:El día 04 de enero a las 19 h. tendrá lugar la presentación del libro Pasionaria. La vida inesperada de Dolores Ibárruri (Hoja de Lata\, 2021) en la librería La Montonera (c/San Pablo 26) de la mano de su autor\, el historiador Diego Díaz. El autor estará acompañado por la historiadora Sescún Marías y por Alberto Cubero. \nDonde: La Montonera Librería (c/San Pablo 26).\nDía: 04 de enero\nHora: 19 h.
URL:https://zaragenda.com/evento-zaragoza/presentacion-del-libro-pasionaria-la-vida-inesperada-de-dolores-ibarruri-diego-diaz-hoja-de-lata-2021/
LOCATION:Zaragoza\, Zaragoza\, España
CATEGORIES:Libros
ATTACH;FMTTYPE=image/png:https://zaragenda.com/wp-content/uploads/2022/01/PRESENTACION-2.png
GEO:41.6488226;-0.8890853
END:VEVENT
BEGIN:VEVENT
DTSTART;TZID=Europe/Madrid:20211223T190000
DTEND;TZID=Europe/Madrid:20211223T203000
DTSTAMP:20260420T084206
CREATED:20211213T114655Z
LAST-MODIFIED:20230208T162501Z
UID:10004634-1640286000-1640291400@zaragenda.com
SUMMARY:Artistas del Gremio en concierto
DESCRIPTION:Artistas del Gremio y Fundación Caja Rural de Aragón se unen para ofrecer un show para público familiar\, cargado de la música y la diversión de Artistas del Gremio\, que llevarán sus mejores faldas de cara a estas Navidades.
URL:https://zaragenda.com/evento-zaragoza/artistas-del-gremio-en-concierto/
LOCATION:Zaragoza\, Zaragoza\, España
CATEGORIES:Concierto,Conciertos,Música
ATTACH;FMTTYPE=image/png:https://zaragenda.com/wp-content/uploads/2021/12/CONCIERTO-ADG-EN-CRA-1.png
GEO:41.6488226;-0.8890853
END:VEVENT
BEGIN:VEVENT
DTSTART;TZID=Europe/Madrid:20211217T193000
DTEND;TZID=Europe/Madrid:20211217T203000
DTSTAMP:20260420T084206
CREATED:20211214T174707Z
LAST-MODIFIED:20230208T162526Z
UID:10004667-1639769400-1639773000@zaragenda.com
SUMMARY:CONCIERTO DE INVIERNO DE LA ORQUESTA CLÑASICA ANDALÁN Y EL CORO ÍTACA
DESCRIPTION:Como viene siendo tradicional LA ORQUESTA CLÁSICA ANDALÁN Y EL CORO ÍTACA realizarán un concierto con obras clásicas y villancicos tradicionales.\nEn esta ocasión en el Real Seminario de San Carlos. Día 17 a las 19\,30 h.
URL:https://zaragenda.com/evento-zaragoza/concierto-de-invierno-de-la-orquesta-clnasica-andalan-y-el-coro-itaca/
LOCATION:Zaragoza\, Zaragoza\, España
CATEGORIES:Concierto
ATTACH;FMTTYPE=image/jpeg:https://zaragenda.com/wp-content/uploads/2021/12/CARTEL-NAVIDAD-andalan-FINAL.jpg
GEO:41.6488226;-0.8890853
END:VEVENT
BEGIN:VEVENT
DTSTART;TZID=Europe/Madrid:20211212T110000
DTEND;TZID=Europe/Madrid:20211212T123000
DTSTAMP:20260420T084206
CREATED:20211209T083012Z
LAST-MODIFIED:20230208T162136Z
UID:10004601-1639306800-1639312200@zaragenda.com
SUMMARY:EDUCACUENTOS
DESCRIPTION:Sesión lúdico-pedagógica a través de cuentos y música para trabajar las emociones y las habilidades sociales.
URL:https://zaragenda.com/evento-zaragoza/educacuentos-3/
LOCATION:Zaragoza\, Zaragoza\, España
CATEGORIES:Actividades,Cuentacuentos,Talleres para niños
ATTACH;FMTTYPE=image/jpeg:https://zaragenda.com/wp-content/uploads/2021/12/PLANTILLAS5-2-1.jpg
GEO:41.6488226;-0.8890853
END:VEVENT
BEGIN:VEVENT
DTSTART;TZID=Europe/Madrid:20211210T193000
DTEND;TZID=Europe/Madrid:20211219T213000
DTSTAMP:20260420T084206
CREATED:20211201T193155Z
LAST-MODIFIED:20230208T162031Z
UID:10004584-1639164600-1639949400@zaragenda.com
SUMMARY:Exposición “Retratos de una Era” de Rara Avis. Del 10 de Diciembre a las 19.30h al 19 de Diciembre a las 14:00h
DESCRIPTION:El colectivo “Rara Avis. Fotografía en extinción” formado por Cristina Rico y Luisa Monleón presentan la inauguración de su proyecto fotográfico Retratos de una Era. \nDurante el otoño de 2021 han recorrido diez barrios de Zaragoza para retratar a sus habitantes con “Tristana”\, una cámara minutera de fabricación propia similar a las que utilizaban los fotógrafos ambulantes de principios del s.XX. \nEn esta exposición\, se pueden ver una selección de 40 retratos originales de los más de 150 obtenidos durante el proyecto además de un mural con todas las fotografías y postales. \nInstagram:\n@raraavis_fotografia\n@retratosdeunaera
URL:https://zaragenda.com/evento-zaragoza/exposicion-retratos-de-una-era-de-rara-avis-del-10-de-diciembre-a-las-19-30h-al-19-de-diciembre-a-las-1400h/
LOCATION:Zaragoza\, Zaragoza\, España
CATEGORIES:Exposiciones
ATTACH;FMTTYPE=image/jpeg:https://zaragenda.com/wp-content/uploads/2021/12/POSTER_RETRATOS_DE_UNA_ERA.jpg
GEO:41.6488226;-0.8890853
END:VEVENT
BEGIN:VEVENT
DTSTART;TZID=Europe/Madrid:20211204T110000
DTEND;TZID=Europe/Madrid:20211204T123000
DTSTAMP:20260420T084206
CREATED:20211201T193842Z
LAST-MODIFIED:20230208T161919Z
UID:10004587-1638615600-1638621000@zaragenda.com
SUMMARY:EDUCACUENTOS
DESCRIPTION:Sesiones lúdico-pedagógicas a través de cuentos y música para trabajar las Emociones y Habilidades Sociales.
URL:https://zaragenda.com/evento-zaragoza/educacuentos-2/
LOCATION:Zaragoza\, Zaragoza\, España
CATEGORIES:Cuentacuentos,Juegos para niños
ATTACH;FMTTYPE=image/jpeg:https://zaragenda.com/wp-content/uploads/2021/12/PLANTILLAS4-1-1.jpg
GEO:41.6488226;-0.8890853
END:VEVENT
BEGIN:VEVENT
DTSTART;TZID=Europe/Madrid:20211204T100000
DTEND;TZID=Europe/Madrid:20211208T200000
DTSTAMP:20260420T084206
CREATED:20211116T101056Z
LAST-MODIFIED:20230208T161235Z
UID:10004496-1638612000-1638993600@zaragenda.com
SUMMARY:Rastrillo Solidario
DESCRIPTION:Celebración de rastrillo para recaudar fondos para la realización de actividades con familias en riesgo de exclusión social en Zaragoza. Venta de productos nuevos y de segunda mano: productos de peluquería\, libros\, complementos\, flores\, juguetes\, artículos navideños… y sorteo de cesta de navidad.
URL:https://zaragenda.com/evento-zaragoza/rastrillo-solidario-2/
LOCATION:Zaragoza\, Zaragoza\, España
CATEGORIES:Mercadillos
ATTACH;FMTTYPE=image/jpeg:https://zaragenda.com/wp-content/uploads/2021/11/D4-CARTEL-2021_page-0001.jpg
GEO:41.6488226;-0.8890853
END:VEVENT
BEGIN:VEVENT
DTSTART;TZID=Europe/Madrid:20211203T203000
DTEND;TZID=Europe/Madrid:20211203T220000
DTSTAMP:20260420T084206
CREATED:20211130T123022Z
LAST-MODIFIED:20230208T161815Z
UID:10004562-1638563400-1638568800@zaragenda.com
SUMMARY:TSin pena y con Gloria
DESCRIPTION:Gloria fue una superviviente: 3 años de guerra\, 36 de de dictadura y 40 de programes infantiles. Su escritura para el público menudo\, así como sus apariciones televisivas la consagraron por su cercanía y respeto hacia las niñas y los niños. Pero nosotros estamos fascinados por la Gloria adulta\, cautivados por la Gloria que sufre\, ama\, denuncia y vive\, la niña solitaria que a fuerza de inventar alter egos para distraer su tristeza creó personajes como Carmencita\, Pepinita y Coleta. La Gloria inclasificable\, la Gloria obrera\, marginada y contestataria\, que no se casaba con nadie\, la Gloria milagro que logró colar su perfil de buenaza (que sin duda lo sería) a la más rancia España de la dictadura\, la posguerra\, la transición y la democracia siendo ella bisexual y con un aspecto tan poco convencional para la época\, la gloria feminista y pacifista\, la Gloria surrealista… esas son las Glorias que más nos gustan\, las más desconocidas y las que podrás conocer en este espectáculo.
URL:https://zaragenda.com/evento-zaragoza/tsin-pena-y-con-gloria/
LOCATION:Zaragoza\, Zaragoza\, España
CATEGORIES:Teatro
ATTACH;FMTTYPE=image/jpeg:https://zaragenda.com/wp-content/uploads/2021/11/sin_pena_y_con_gloria_arbole_-scaled-nKhPbe.tmp_.jpg
GEO:41.6488226;-0.8890853
END:VEVENT
BEGIN:VEVENT
DTSTART;TZID=Europe/Madrid:20211201T080000
DTEND;TZID=Europe/Madrid:20211215T200000
DTSTAMP:20260420T084206
CREATED:20211201T104840Z
LAST-MODIFIED:20230208T161922Z
UID:10004579-1638345600-1639598400@zaragenda.com
SUMMARY:Una exposición atrevida de “Objetos singulares y mobiliario moderno”
DESCRIPTION:Travika Creativa y MissContainer humanizan el objeto cotidiano creando piezas modernas de madera con técnicas tradicionales \nDel día 1 al 14 de diciembre\, en la calle Ossau nº4\, se podrá visitar la exposición de dos creadores aragoneses dedicada a mobiliario moderno y objetos singulares para la decoración. Se trata de una exposición conjunta\, de Travika Creativa y MissContainer\, que tiene como nexo de unión el uso artesanal de la madera. \nCada uno de los creadores muestra sus peculiaridades pero ambos se caracterizan por la realización de piezas únicas\, poniendo el foco en la calidad de los materiales y en la atención al detalle. Aunque sus referentes son muy distintos\, coinciden en su filosofía de trabajo: técnicas tradicionales de artesanía adaptadas a estilos contemporáneos\, huyendo de los actuales sistemas de fabricación en serie que deshumanizan los objetos artísticos. \nLa inauguración está prevista para el sábado día 4 a partir de las 12:30. Con la madera como nexo de unión\, Travika Creativa (Dámaso Miranda) y MissContainer (Salvador Forcén) se dan la mano para mostrar una parte de su obra. Ambos creadores se conocen en un curso de la iniciativa Zaragoza Activa para nuevos emprendedores. \nLos autores: \nSalvador Forcén (Miss Container): Estudió restauración de muebles y talla de madera. Hace dos años volvió de Madrid y abrió su taller en el zaragozano barrio de Las Fuentes. Trabaja materiales como la madera\, el vidrio\, la cerámica\, el pan de oro y diferentes tipos de textiles. MissContainer es un taller donde recuperan piezas y les aportan soluciones estéticas\, reconvirtiéndolas en obras de arte para el hogar con un estilo muy colorido. \nDámaso Miranda (Travika Creativa): Estudió bachiller artístico en la antigua Escuela de Artes y Oficios de Zaragoza y es diplomado en Magisterio Musical. Tras un curso de escultura en el espacio El Arquetipo se lanza a crear su propio taller encontrando en la madera su oportunidad para desarrollar su propio lenguaje y afán creativo. Con el aprendizaje continuo como motor principal\, elabora muebles y objetos de decoración con maderas nobles como el roble\, el cerezo o el castaño e imparte cursos para niños y adultos.
URL:https://zaragenda.com/evento-zaragoza/una-exposicion-atrevida-de-objetos-singulares-y-mobiliario-moderno/
LOCATION:Zaragoza\, Zaragoza\, España
CATEGORIES:Exposiciones,Navidad
ATTACH;FMTTYPE=image/jpeg:https://zaragenda.com/wp-content/uploads/2021/12/gran-ina.jpg
GEO:41.6488226;-0.8890853
END:VEVENT
BEGIN:VEVENT
DTSTART;TZID=Europe/Madrid:20211130T200000
DTEND;TZID=Europe/Madrid:20211228T213000
DTSTAMP:20260420T084206
CREATED:20211019T073300Z
LAST-MODIFIED:20230208T154715Z
UID:10004070-1638302400-1640727000@zaragenda.com
SUMMARY:RISOTERAPIA
DESCRIPTION:Taller de risoterapia nivel iniciacion\, donde descubriremos nuestra risa. Aprenderemos los beneficios que nos proporciona la risa a nivel fisico\, psicologico y emocinal. Aprenderemos\, mediante juegos y dinamicas\, aquellas herramientas que nos ayudaran en nuestra vida a hacer y ser mas felices.
URL:https://zaragenda.com/evento-zaragoza/risoterapia-2/2021-11-30/
LOCATION:Zaragoza\, Zaragoza\, España
CATEGORIES:Actividades
ATTACH;FMTTYPE=image/jpeg:https://zaragenda.com/wp-content/uploads/2021/10/CARTEL-RISO-NIVEL-novim.-21p.jpg
GEO:41.6488226;-0.8890853
END:VEVENT
BEGIN:VEVENT
DTSTART;TZID=Europe/Madrid:20211127T103000
DTEND;TZID=Europe/Madrid:20211127T133000
DTSTAMP:20260420T084206
CREATED:20211112T082803Z
LAST-MODIFIED:20230208T160958Z
UID:10004483-1638009000-1638019800@zaragenda.com
SUMMARY:CURSO INICIACIÓN MARCHA NÓRDICA
DESCRIPTION:¡INÍCIATE EN LA MARCHA NÓRDICA!🥢👟👟\n📆 Próximo 27 de noviembre; a las ⏰ 10:30 en el Parque José Antonio Labordeta (a pie fuentes del Batallador).\n🥢👟👟 ¿Te has planteado empezar con esta actividad deportiva?\n🥢👟👟 ¿Conoces parte o todos sus beneficios?\n🥢👟👟 ¿Te gustaría empezar con un deporte de bajo impacto para tus objetivos?\n🥢👟👟 ¿Quieres aprender un deporte con práctica en el medio natural\, urbano y… más?\nSi tu respuesta a alguna de estas preguntas es SÍ aquí tienes una sesión especial:\n🔘 3 horas en las que podrás aprender e introducirte en esta disciplina.\n🔘 Descubre sus beneficios y aporte deportivo.\n🔘 Pondrás en práctica lo aprendido.\n🔘 Préstamo de bastones🥢 incluídos (protocolos COVID-19)\n🔘 Seguros de RC y accidentes incluídos gracias a AENWC Inwa Spain. Seguro RC profesional individual.\n🔘 Protocolos COVID-19 🌡🧴\n¡Todo un GO que no puedes dejar escapar! \nMÁS INFO E INSCRIPCIONES:\nhttps://bit.ly/3knEs0q
URL:https://zaragenda.com/evento-zaragoza/curso-iniciacion-marcha-nordica/
LOCATION:Zaragoza\, Zaragoza\, España
CATEGORIES:Actividades,Deporte
ATTACH;FMTTYPE=image/jpeg:https://zaragenda.com/wp-content/uploads/2021/11/Iniciacion-NW-27_11_2021_page-0001.jpg
GEO:41.6488226;-0.8890853
END:VEVENT
BEGIN:VEVENT
DTSTART;TZID=Europe/Madrid:20211121T103000
DTEND;TZID=Europe/Madrid:20211121T143000
DTSTAMP:20260420T084206
CREATED:20211118T083251Z
LAST-MODIFIED:20230208T161336Z
UID:10004503-1637490600-1637505000@zaragenda.com
SUMMARY:Mercado de Los Porches
DESCRIPTION:Vuelve el Mercado de los Porches al Centro Comercial Los porches del Audiorama en el barrio de Romareda.\nEn esta edición el mercado se amplía\, habrá más expositores y nuevos puestos.\nLa muestra contará con stands de diseñadores \, delicatesen y comercio local así como pequeñas editoriales independientes como Mala Vida\, Hola Monstruo @holamonstruo1 ó Los libros del Gato Negro.\nAunque queda tiempo aún para Navidades este año queremos concienciar para que las compras se hagan de forma consciente.\nDespacio\, disfrutando del placer de preparar los regalos y eligiendo productos locales.\nPor eso queremos invitaros a pasear este Domingo por el Mercado de los porches y conocer a las personas que crean con sus manos cada objeto y los pequeños comercios que nos acompañan.\nComo Julia artesana de @agui_axelux que elabora lámparas que llenan las estancias de una luz que es pura magia y cuadernos que parecen sacados de un cuento ó Rosa que tiene una pequeña herboristería de barrio Herbolario San Pablo @herbolario_san_pablo_zaragoza donde puedes encontrar deliciosas galletas\, esencias\, inciensos y jabones que huelen de maravilla\nó Rebeca @lacrabanegra que tiene una tienda en Ayerbe con ropa para toda la familia que confecciona ella misma.\nAdemás de 11:30 a 13:30 habrá una sesión de baile social de swing abierta a todo el mundo con @zaraswing academia de Swing de Zaragoza\, amenizada con la mejor música swing de la Dj @scienceartwonder\nOs recordamos también que la entrada es libre y gratuita hasta completar el aforo\nPor supuesto el mercado garantiza la seguridad y el cumplimiento de las medidas sanitarias.\nMás información en www.hojaderuta80.com o en nuestras redes sociales @mercadodelosporcheszgz\n!Nos vemos este Domingo en el Mercado de los porches! 🙂
URL:https://zaragenda.com/evento-zaragoza/mercado-de-los-porches-16/
LOCATION:Zaragoza\, Zaragoza\, España
CATEGORIES:Actividades,ferias,Infantil,Mercadillos
ATTACH;FMTTYPE=image/jpeg:https://zaragenda.com/wp-content/uploads/2021/11/image-16.jpg
GEO:41.6488226;-0.8890853
END:VEVENT
BEGIN:VEVENT
DTSTART;TZID=Europe/Madrid:20211120T180000
DTEND;TZID=Europe/Madrid:20211120T190000
DTSTAMP:20260420T084206
CREATED:20211118T082936Z
LAST-MODIFIED:20230208T161340Z
UID:10004498-1637431200-1637434800@zaragenda.com
SUMMARY:Del otro lado
DESCRIPTION:La compañía Escena Miriñaque (Cantabria) presenta este fin de semana en el Teatro Arbolé de Zaragoza “Del otro lado”\, una emocionante obra que habla de derribar muros y construir puentes\, que invita al juego\, a la reflexión y a la curiosidad. A través de un diálogo «creativo»\, este espectáculo conmueve a los mayores y entretiene a los pequeños. \nUna mañana\, los habitantes del otro lado encontraron\, en lo que ellos llamaban su territorio\, un balón. No era como los suyos\, no estaba hecho igual\, ni la materia ni el color\, no tenía marca. Venía Del Otro Lado. \nUn muro que no separa sino que juega como eje de simetría\, a ambos lados dos personajes se buscan\, juegan\, se necesitan y  comparten idénticas ilusiones los mismos miedos.  Ya era hora de hablar de ello. \nTres funciones: sábado a las 18 horas y domingo a las 12 horas y a las 18 horas. Para público infantil y familiar. Entrada: 8€ (en taquilla y en la web www.teatroarbole.es).
URL:https://zaragenda.com/evento-zaragoza/del-otro-lado/
LOCATION:Zaragoza\, Zaragoza\, España
CATEGORIES:Espectáculos,Infantil
ATTACH;FMTTYPE=image/jpeg:https://zaragenda.com/wp-content/uploads/2021/11/6176bdf38a9b98.97871903.jpg
GEO:41.6488226;-0.8890853
END:VEVENT
BEGIN:VEVENT
DTSTART;TZID=Europe/Madrid:20211111T110000
DTEND;TZID=Europe/Madrid:20211114T200000
DTSTAMP:20260420T084206
CREATED:20211112T081926Z
LAST-MODIFIED:20230208T161133Z
UID:10004458-1636628400-1636920000@zaragenda.com
SUMMARY:Singles Day Puerto Venecia
DESCRIPTION:El ‘Día del Soltero’ o ‘Singles Day’ está a la vuelta de la esquina y para celebrarlo\, Puerto Venecia se ha propuesto ayudar a todo aquel que lo desee a encontrar a su media naranja. Con motivo de esta celebración de origen chino\, el shopping resort ha organizado citas a ciegas al más puro estilo ‘First Dates’ para que varias parejas puedan conocerse mientras disfrutan de un plan en los restaurantes de Puerto Venecia. \nEl ‘Singles Day’\, festividad de origen asiático\, se celebra cada año el 11 de noviembre (11/11) en contraposición a la festividad de San Valentín\, ya que\, en la cultura china\, el número ‘1’ simboliza a una persona sola. \nLas citas a ciegas tendrán lugar del 11 al 14 de noviembre\, en horario de mañana y de tarde. Quienes quieran participar en el ‘Singles Day’ deberán de registrarse en la plataforma de citas del shopping resort antes del 9 de noviembre y cumplimentar un formulario de compatibilidad señalando sus preferencias\, su edad o sus aficiones\, entre otras cosas\, además del día y la hora en la que deseen tener su cita. \nDe esta manera\, los cupidos de Puerto Venecia harán la combinación perfecta buscando a los candidatos que mejor se ajusten para que juntos puedan disfrutar de una comida o una cena en compañía de otro soltero. Una experiencia con la que iniciar una bonita amistad\, o lo que surja. Una vez inscritos\, Puerto Venecia se pondrá en contacto con los participantes para indicarles cuándo y dónde tendrá lugar el encuentro. Tras la cita\, todos los que compartan su vivencia\, recibirán una sorpresa de la mano del shopping resort. \nAdemás de las citas a ciegas\, el ‘Singles Day’ se completará con el evento It’s a Match!\, puesto en marcha por Puerto Venecia y Click and Plan para personas que quieran hacer una quedada en la coctelería Anubis el jueves 11 de noviembre a las 20:00h. Se trata de una reunión en la que un centenar de participantes -solteros o no-\, podrán conocer gente nueva a través de divertidos juegos mientras disfrutan de un cóctel gratuito. Inscribirse no tiene ningún coste y puede hacerse desde la app de Click and Plan.
URL:https://zaragenda.com/evento-zaragoza/singles-day-puerto-venecia/
LOCATION:Zaragoza\, Zaragoza\, España
CATEGORIES:encuentros
ATTACH;FMTTYPE=image/jpeg:https://zaragenda.com/wp-content/uploads/2021/11/0b5cba3e-a781-4e59-b52e-0764c0b63324_16-9-aspect-ratio_default_0_x447y439.jpg
GEO:41.6488226;-0.8890853
END:VEVENT
BEGIN:VEVENT
DTSTART;TZID=Europe/Madrid:20211106T100000
DTEND;TZID=Europe/Madrid:20211107T190000
DTSTAMP:20260420T084206
CREATED:20211105T112759Z
LAST-MODIFIED:20230208T160557Z
UID:10004438-1636192800-1636311600@zaragenda.com
SUMMARY:El Jardín Efímero de Maison Bouture
DESCRIPTION:LAS PLANTAS LLEGAN A ZARAGOZA por un reencuentro muy vegetal \nEncuéntranos el 6 y 7 de noviembre en La Colmena Multiespacio\, en Calle Sor Juana de la Cruz 10.\nVolvemos con toda la energía que nos dan las plantas! \n¡La entrada es libre y gratuita!\nEstamos muy contentos de reencontrarnos y poder mostraros nuestra colección de plantas\, así como de macetas y maceteros!\nAún tenemos tiempo de disfrutar de una de las mejores estaciones para nuestras plantas\, verlas crecer y disfrutar de la naturaleza. ✨ \n__________ \n¿Qué encontrarás?\n🌿 Plantas que canalizan el estrés y oxigenan nuestra vida cotidiana.\n🌿 Plantas fáciles de cuidar para los principiantes y/o olvidadizos.\n🌿 Plantas tropicales para aquellos que siempre quieren viajar.\n🌿 Plantas coloridas y mediterráneas para mantener el verano en tu balcón o jardín.\n🌿 Aromáticas para condimentar tus platos y reverdecer tu cocina.\n🪴🪴 Y muchas otras a bajos precios y adaptadas a la luz de cada habitación de vuestro hogar!\nHay algo para cada gusto y cada nivel de experiencia y\, por supuesto\, nuestro equipo humano están aquí para responder a todas sus preguntas.\nTambién será el momento de descubrir nuestra colección de macetas\, maceteros y herramientas de jardín:\n🪴 Rafia\, mimbre\, cerámica\, hormigón… Hemos hechos una selección de materiales naturales y adaptables a las plantas.\n🧑🏼🌾 Sustrato universal\, sustrato para cactus y suculentas\, abono líquido y orgánico y todo lo esencial para que tus plantas florezcan.\n🛍️ No te olvides de traer tus bolsas para llevar a casa tu compra vegetal!\n♻️ Nuestras plantas provienen de Europa: Holanda\, España\, Sicilia\, Italia… Todos los productores con los que trabajamos tienen la etiqueta MPS\, que permite mejorar los métodos de cultivo para respetar el medio ambiente y las plantas ♻️ \n__________ \n🌾 PARA ENCONTRARNOS FÁCILMENTE 🌾\n📍 Estamos en LA COLMENA MULTIESPACIO\, en C/ Sor Juana de la Cruz\, 10\, 50018 Zaragoza.\n📅 El 6 y 7 de noviembre.\n⏰ Horarios: Sábado de 10:00h a 20:00h y Domingo de 11:00h a 19:00h.\n🤗 Entrada libre y gratuita.\n💳💶 Pago en tarjeta de crédito y efectivo.
URL:https://zaragenda.com/evento-zaragoza/el-jardin-efimero-de-maison-bouture/
LOCATION:Zaragoza\, Zaragoza\, España
CATEGORIES:Exposiciones
ATTACH;FMTTYPE=image/jpeg:https://zaragenda.com/wp-content/uploads/2021/11/evento5.jpg
GEO:41.6488226;-0.8890853
END:VEVENT
BEGIN:VEVENT
DTSTART;TZID=Europe/Madrid:20211027T100000
DTEND;TZID=Europe/Madrid:20211027T120000
DTSTAMP:20260420T084206
CREATED:20211014T202254Z
LAST-MODIFIED:20230208T151630Z
UID:10004008-1635328800-1635336000@zaragenda.com
SUMMARY:Innovación en el sector health. ‘Aragón tierra de emprendimiento e-health’
DESCRIPTION:Te invitamos al evento de Innovación en el sector salud\, «Aragón tierra de emprendimiento e-health» que organizamos desde Grupo Init\, a través de CIEM Zaragoza y en colaboración con Arahealth y Health 2.0 Zaragoza. El evento está enmarcado en la semana del emprendimiento en Aragón que organiza el Gobierno de Aragón a través del Instituto Aragonés de Fomento. \nLa innovación y la aplicación de la tecnología en el ámbito de la salud han contribuido a mejorar el bienestar de las personas\, en una sociedad cambiante\, es por ello\, que el objetivo de este encuentro es conocer cómo se ha innovado en el sector health\, qué tecnologías se han utilizado o se están utilizando y cómo se han implementado en este sector tan específico. Para ello\, contaremos con diversas ponencias por parte de emprendedores aragoneses cómo: Benito Cuezva\, CEO Belerofontech\, Ignacio Barraqué\, CEO Social&Care\, Antonio León\, CEO Etiqmedia\, Pablo Celma\, Gerente Neuroative\, Jorge Álvarez\, CEO Kineativ\, Cristina Escolar\, Product Specialist for Molecular Diagnostic CerTest Biotec\, Clodo González\, CEO Moontech y dos grandes empresas de referencia en el sector e-health\, se trata de Oriol Fuertes\, CEO Qida\, y Juan Carlos Santamaría\, Director de Comunicación Inithealth. \nEste evento\, pone de manifiesto el compromiso desde hace muchos años de Grupo Init por el mundo de la salud digital y el bienestar de las personas\, ámbito que\, sin duda\, ha alcanzado una especial importancia debido a la epidemia de COVID-19 y su impacto en el mundo. \nInscripciones gratuitas\n¡Esperamos veros!
URL:https://zaragenda.com/evento-zaragoza/innovacion-en-el-sector-health-aragon-tierra-de-emprendimiento-e-health/
LOCATION:Zaragoza\, Zaragoza\, España
ATTACH;FMTTYPE=image/jpeg:https://zaragenda.com/wp-content/uploads/2021/10/BANNER-INNOVAVION-EN-EL-SECTOR-HEATLH.jpg
GEO:41.6488226;-0.8890853
END:VEVENT
BEGIN:VEVENT
DTSTART;TZID=Europe/Madrid:20211022T093000
DTEND;TZID=Europe/Madrid:20211022T103000
DTSTAMP:20260420T084206
CREATED:20211014T202534Z
LAST-MODIFIED:20230208T151633Z
UID:10004014-1634895000-1634898600@zaragenda.com
SUMMARY:Café Virtual Coordinadas con Lorena Aznar. Viernes 22 de octubre a las 9.30h.
DESCRIPTION:Te invitamos al Café Virtual Coordinadas que organizamos dentro de la iniciativa Coordinadas impulsada por Grupo Init para el empoderamiento y emprendimiento de las mujeres y del que formas parte\, \nContaremos con la ponencia de Lorena Aznar\, Coach especializada en formación desde hace más de seis años y emprendedora de la comunidad de Coordinadas. Lorena\, alterna sus sesiones individuales con jornadas de formación en empresas o centros educativos\, talleres presenciales y desayunos experienciales. Colabora regularmente en prensa y radio. También ha escrito dos libros enfocados a la crianza desde el empoderamiento femenino. Actualmente está realizando el Master de psicología general ISEB. \n“El conflicto es inherente a la vida social”. Por este motivo\, resulta fundamental saber cómo enfrentarse a ellos de forma adecuada\, ya que pueden complicar mucho una relación con alguien o un negocio. Dependiendo de cómo se trate\, es posible conseguir darle la vuelta y volver a la normalidad\, tener una temporada de mucha tensión\, e incluso\, si se alarga y no se resuelve\, llegar a cerrar o disolver una empresa. \nSi quieres conocer algunas de las claves para evitar los posibles conflictos que puedan surgir y resolverlos te esperamos el próximo viernes 22 de octubre a las 9.30h en el Café Virtual Coordinadas con Lorena Aznar. \nMás información sobre el evento e inscripciones gratuitas en el enlace.\n¡Te esperamos!
URL:https://zaragenda.com/evento-zaragoza/cafe-virtual-coordinadas-con-lorena-aznar-viernes-22-de-octubre-a-las-9-30h/
LOCATION:Zaragoza\, Zaragoza\, España
ATTACH;FMTTYPE=image/jpeg:https://zaragenda.com/wp-content/uploads/2021/10/Coordinadas-banner.jpg
GEO:41.6488226;-0.8890853
END:VEVENT
BEGIN:VEVENT
DTSTART;TZID=Europe/Madrid:20211020T193000
DTEND;TZID=Europe/Madrid:20211020T220000
DTSTAMP:20260420T084206
CREATED:20211015T165251Z
LAST-MODIFIED:20230208T154639Z
UID:10004041-1634758200-1634767200@zaragenda.com
SUMMARY:Taller Street Food para mujeres
DESCRIPTION:En el taller de Street Food además de pasar un rato súper divertido entre chicos\, podremos aprender a hacer recetar veggies de otros paises.\nNuestras propuestas además siempre incluyen sorpresas y dinámicas para conocernos más y poder compartir inquietudes que solo entre nosotras podemos hablar
URL:https://zaragenda.com/evento-zaragoza/taller-street-food-para-mujeres/
LOCATION:Zaragoza\, Zaragoza\, España
ATTACH;FMTTYPE=image/jpeg:https://zaragenda.com/wp-content/uploads/2021/10/WhatsApp-Image-2021-10-15-at-14.29.36.jpeg
GEO:41.6488226;-0.8890853
END:VEVENT
BEGIN:VEVENT
DTSTART;TZID=Europe/Madrid:20211019T190000
DTEND;TZID=Europe/Madrid:20211026T200000
DTSTAMP:20260420T084206
CREATED:20211015T165248Z
LAST-MODIFIED:20230208T154636Z
UID:10004040-1634670000-1635278400@zaragenda.com
SUMMARY:Yoga entre mujeres
DESCRIPTION:Durante el mes de Octubre el Club Juntas+ ofrece dos talleres gratuitos de Yoga para poder conocer el club y sus propuestas healthy disfrutando en compañía con otras mujeres.
URL:https://zaragenda.com/evento-zaragoza/yoga-entre-mujeres/2021-10-19/2/
LOCATION:Zaragoza\, Zaragoza\, España
CATEGORIES:Talleres
ATTACH;FMTTYPE=image/jpeg:https://zaragenda.com/wp-content/uploads/2021/10/WhatsApp-Image-2021-10-15-at-14.10.56.jpeg
GEO:41.6488226;-0.8890853
END:VEVENT
END:VCALENDAR