BEGIN:VCALENDAR
VERSION:2.0
PRODID:-//ZARAGENDA - Agenda Zaragoza de ocio y eventos - ECPv6.15.16//NONSGML v1.0//EN
CALSCALE:GREGORIAN
METHOD:PUBLISH
X-WR-CALNAME:ZARAGENDA - Agenda Zaragoza de ocio y eventos
X-ORIGINAL-URL:https://zaragenda.com
X-WR-CALDESC:Eventos para ZARAGENDA - Agenda Zaragoza de ocio y eventos
REFRESH-INTERVAL;VALUE=DURATION:PT1H
X-Robots-Tag:noindex
X-PUBLISHED-TTL:PT1H
BEGIN:VTIMEZONE
TZID:Europe/Madrid
BEGIN:DAYLIGHT
TZOFFSETFROM:+0100
TZOFFSETTO:+0200
TZNAME:CEST
DTSTART:20200329T010000
END:DAYLIGHT
BEGIN:STANDARD
TZOFFSETFROM:+0200
TZOFFSETTO:+0100
TZNAME:CET
DTSTART:20201025T010000
END:STANDARD
BEGIN:DAYLIGHT
TZOFFSETFROM:+0100
TZOFFSETTO:+0200
TZNAME:CEST
DTSTART:20210328T010000
END:DAYLIGHT
BEGIN:STANDARD
TZOFFSETFROM:+0200
TZOFFSETTO:+0100
TZNAME:CET
DTSTART:20211031T010000
END:STANDARD
BEGIN:DAYLIGHT
TZOFFSETFROM:+0100
TZOFFSETTO:+0200
TZNAME:CEST
DTSTART:20220327T010000
END:DAYLIGHT
BEGIN:STANDARD
TZOFFSETFROM:+0200
TZOFFSETTO:+0100
TZNAME:CET
DTSTART:20221030T010000
END:STANDARD
END:VTIMEZONE
BEGIN:VEVENT
DTSTART;TZID=Europe/Madrid:20210926T110000
DTEND;TZID=Europe/Madrid:20210926T130000
DTSTAMP:20260420T142420
CREATED:20210924T061548Z
LAST-MODIFIED:20221125T121841Z
UID:10003311-1632654000-1632661200@zaragenda.com
SUMMARY:Ruta Guiada: Descubre Zaragoza con niños ‘Cuando el río suena’
DESCRIPTION:Dicen que el Ebro guarda silencio al pasar por el Pilar\, pero… \n¿y si el Ebro hablara? ¡¡¡Madre mía lo que contaría!!! \nImaginad todo lo que habrá visto y escuchado en los más de dos mil años que lleva conviviendo con nuestra ciudad… \nPues bien\, hemos decidido hacerle una visita y preguntarle “al gran abuelo” y ¿sabéis lo que nos ha contado? que por sus aguas han pasado grandes personajes\, seres fantásticos y hasta ¡¡¡vikingos!!!… y a saber qué le queda por contar \nCuándo – Domingos 12 y 26 de septiembre a las 11:00 h. \nDonde: Desde el balcón de San Lázaro (cruzando el puente de piedra). \nPrecio :  7€ \n 
URL:https://zaragenda.com/evento-zaragoza/ruta-guiada-descubre-zaragoza-con-ninos-cuando-el-rio-suena/
LOCATION:Balcón de San Lázaro\, Paseo Echegaray y Caballero\, s/n\, Zaragoza\, Zaragoza\, España
CATEGORIES:Infantil,rutas guiadas
ATTACH;FMTTYPE=:
GEO:41.6551671;-0.8736109
X-APPLE-STRUCTURED-LOCATION;VALUE=URI;X-ADDRESS=Balcón de San Lázaro Paseo Echegaray y Caballero s/n Zaragoza Zaragoza España;X-APPLE-RADIUS=500;X-TITLE=Paseo Echegaray y Caballero\, s/n:geo:-0.8736109,41.6551671
END:VEVENT
END:VCALENDAR