BEGIN:VCALENDAR
VERSION:2.0
PRODID:-//ZARAGENDA - Agenda Zaragoza de ocio y eventos - ECPv6.15.16//NONSGML v1.0//EN
CALSCALE:GREGORIAN
METHOD:PUBLISH
X-WR-CALNAME:ZARAGENDA - Agenda Zaragoza de ocio y eventos
X-ORIGINAL-URL:https://zaragenda.com
X-WR-CALDESC:Eventos para ZARAGENDA - Agenda Zaragoza de ocio y eventos
REFRESH-INTERVAL;VALUE=DURATION:PT1H
X-Robots-Tag:noindex
X-PUBLISHED-TTL:PT1H
BEGIN:VTIMEZONE
TZID:Europe/Madrid
BEGIN:DAYLIGHT
TZOFFSETFROM:+0100
TZOFFSETTO:+0200
TZNAME:CEST
DTSTART:20200329T010000
END:DAYLIGHT
BEGIN:STANDARD
TZOFFSETFROM:+0200
TZOFFSETTO:+0100
TZNAME:CET
DTSTART:20201025T010000
END:STANDARD
BEGIN:DAYLIGHT
TZOFFSETFROM:+0100
TZOFFSETTO:+0200
TZNAME:CEST
DTSTART:20210328T010000
END:DAYLIGHT
BEGIN:STANDARD
TZOFFSETFROM:+0200
TZOFFSETTO:+0100
TZNAME:CET
DTSTART:20211031T010000
END:STANDARD
BEGIN:DAYLIGHT
TZOFFSETFROM:+0100
TZOFFSETTO:+0200
TZNAME:CEST
DTSTART:20220327T010000
END:DAYLIGHT
BEGIN:STANDARD
TZOFFSETFROM:+0200
TZOFFSETTO:+0100
TZNAME:CET
DTSTART:20221030T010000
END:STANDARD
BEGIN:DAYLIGHT
TZOFFSETFROM:+0100
TZOFFSETTO:+0200
TZNAME:CEST
DTSTART:20230326T010000
END:DAYLIGHT
BEGIN:STANDARD
TZOFFSETFROM:+0200
TZOFFSETTO:+0100
TZNAME:CET
DTSTART:20231029T010000
END:STANDARD
BEGIN:DAYLIGHT
TZOFFSETFROM:+0100
TZOFFSETTO:+0200
TZNAME:CEST
DTSTART:20240331T010000
END:DAYLIGHT
BEGIN:STANDARD
TZOFFSETFROM:+0200
TZOFFSETTO:+0100
TZNAME:CET
DTSTART:20241027T010000
END:STANDARD
BEGIN:DAYLIGHT
TZOFFSETFROM:+0100
TZOFFSETTO:+0200
TZNAME:CEST
DTSTART:20250330T010000
END:DAYLIGHT
BEGIN:STANDARD
TZOFFSETFROM:+0200
TZOFFSETTO:+0100
TZNAME:CET
DTSTART:20251026T010000
END:STANDARD
BEGIN:DAYLIGHT
TZOFFSETFROM:+0100
TZOFFSETTO:+0200
TZNAME:CEST
DTSTART:20260329T010000
END:DAYLIGHT
BEGIN:STANDARD
TZOFFSETFROM:+0200
TZOFFSETTO:+0100
TZNAME:CET
DTSTART:20261025T010000
END:STANDARD
END:VTIMEZONE
BEGIN:VEVENT
DTSTART;TZID=Europe/Madrid:20251121T103000
DTEND;TZID=Europe/Madrid:20251123T210000
DTSTAMP:20260419T182817
CREATED:20260223T140026Z
LAST-MODIFIED:20260223T140026Z
UID:10009259-1763721000-1763931600@zaragenda.com
SUMMARY:Mercadillo solidario Estrella de la Mañana
DESCRIPTION:Del 21 al 23 de noviembre\, el espacio de C/ San Pablo\, 59 acoge el Mercadillo Solidario Estrella de la Mañana\, un evento imprescindible para quienes buscan regalos originales y consumo responsable. Habrá artesanía de India\, Nepal y Tíbet\, joyería\, textiles\, moda\, juguetes\, productos gastronómicos y zona de descuentos. \nEl mercadillo incluirá además exposición fotográfica\, actuaciones\, tapas y actividades durante todo el fin de semana.\nLa recaudación se destina al programa de becas universitarias que la ONG desarrolla en India\, apoyando a jóvenes sin recursos. \n🗓️ 21–23 noviembre\n⏰ 10:30–14:30 y 17:00–21:00 h\n📍 C/ San Pablo\, 59 – Zaragoza\nEntrada libre. \nUn plan solidario\, cultural y diferente para disfrutar en familia.
URL:https://zaragenda.com/evento-zaragoza/mercadillo-solidario-estrella-de-la-manana-2/
LOCATION:Calle San Pablo 59\, Zaragoza
CATEGORIES:Economía social y solidaria,ferias,Gastronomía,Libros,Mercadillos,Navidad,Objetivos de Desarrollo Sostenible,Solidaridad
ATTACH;FMTTYPE=image/jpeg:https://zaragenda.com/wp-content/uploads/2025/11/25-nov-cartel-mercadillo-jpg.jpg
GEO:41.6488226;-0.8890853
END:VEVENT
BEGIN:VEVENT
DTSTART;VALUE=DATE:20240924
DTEND;VALUE=DATE:20240925
DTSTAMP:20260419T182817
CREATED:20241024T081843Z
LAST-MODIFIED:20241024T081843Z
UID:10008822-1727136000-1727222399@zaragenda.com
SUMMARY:Mercadillo solidario Estrella de la Mañana
DESCRIPTION:🌟 ¡Ven al Mercadillo Solidario de Estrella de la Mañana y marca la diferencia! 🌟 \nEste 22\, 23 y 24 de noviembre\, te esperamos en el Espacio de San Pablo 59\, en Zaragoza\, para que disfrutes de una experiencia única llena de solidaridad. \nPodrás encontrar textil\, moda y bisutería de India y Tíbet\, artesanía\, decoración\, alimentación\, complementos\, libros\, juguetes ¡y mucho más! Muchos de los productos provienen de pequeños artesanos y fabricantes locales de India y Nepal\, apoyando directamente su economía y contribuyendo a proyectos de cooperación internacional en zonas rurales de India. \nCada compra que hagas en este mercadillo no solo es un regalo para ti o tus seres queridos\, ¡es también una oportunidad para transformar vidas! Con tu apoyo\, colaboras con Estrella de la Mañana para mejorar la educación\, la salud y la situación social de mujeres\, jóvenes y personas con discapacidad en India\, además de dar apoyo a personas refugiadas tibetanas con quien la ONG trabaja. \nEste mercadillo es la principal fuente de financiación para nuestros proyectos en India\, por lo que tu visita significa mucho más de lo que imaginas. \n🤝 ¡Ven a descubrir\, ayudar y ser parte del cambio! \n🗓️ Cuándo: 22\, 23 y 24 de noviembre 📍 Dónde: Espacio San Pablo 59\, Zaragoza \n¡Te esperamos con los brazos abiertos y un mundo de artesanías por descubrir! ✨
URL:https://zaragenda.com/evento-zaragoza/mercadillo-solidario-estrella-de-la-manana/
LOCATION:Calle San Pablo 59\, Zaragoza
CATEGORIES:Consumo responsable,Consumo responsable y economía circular,Economía social y solidaria,Familiar,Feria,Mercadillos,Moda,Objetivos de Desarrollo Sostenible,Solidaridad
ATTACH;FMTTYPE=image/png:https://zaragenda.com/wp-content/uploads/2024/09/24-nov-cartel-mercadillo-san-pablo.png
GEO:41.6488226;-0.8890853
END:VEVENT
BEGIN:VEVENT
DTSTART;TZID=Europe/Madrid:20230519T100000
DTEND;TZID=Europe/Madrid:20230521T210000
DTSTAMP:20260419T182817
CREATED:20230511T075259Z
LAST-MODIFIED:20230511T091117Z
UID:10007588-1684490400-1684702800@zaragenda.com
SUMMARY:MERCADILLO SOLIDARIO POR INDIA
DESCRIPTION:Mercadillo solidario a beneficio de la ONG Estrella de la Mañana y sus proyectos de cooperación al desarrollo en India. \nEl mercadillo será del 19 al 21 de Mayo de 10:30 a 14:30 y 17:00 a 21:00. \nEn un espacio de más de 1000 m2 encontraráas\, Textil\, moda y bisutería de India y Tíbet\, artesanía\, decoración\, alimentación\, complementos\, libros y mucho más. \nConsume de forma justa y responsable.
URL:https://zaragenda.com/evento-zaragoza/mercadillo-solidario-por-india/
LOCATION:Calle San Pablo 59\, Zaragoza
CATEGORIES:Actividades,Feria,Gastronomía,Libros,Mercadillos,Moda,Niños,Social,Solidaridad
ATTACH;FMTTYPE=image/jpeg:https://zaragenda.com/wp-content/uploads/2023/04/2023-Mayo-San-Pablo-Cartel.jpg
GEO:41.6488226;-0.8890853
END:VEVENT
BEGIN:VEVENT
DTSTART;VALUE=DATE:20221210
DTEND;VALUE=DATE:20221212
DTSTAMP:20260419T182817
CREATED:20210608T101906Z
LAST-MODIFIED:20230208T182113Z
UID:10002574-1670630400-1670803199@zaragenda.com
SUMMARY:El Mercado de Las Luces
DESCRIPTION:Se celebrará los días 10 y 11 de diciembre en horario de sábado 11hs a 14h y de 17h a 21h y domingo 10:30h a 14:30h en la calle San Pablo 59. \nEstá edición contamos con 40 diseñadores y artistas+zona Gourmet+talleres gratuitos para peques. \nComo cada mes nos acompaña un proyecto solidario\, en esta edición será @animalsoul . \nPuedes consultar más información en su Instagram @elmercadodelasluceszgz. \nEl horario será de 11:00h a 15:00h y de 18:00h a 21:00h en la Calle San Pablo 59\, Zaragoza.
URL:https://zaragenda.com/evento-zaragoza/mercado-de-las-luces/
LOCATION:Calle San Pablo 59\, Zaragoza
CATEGORIES:Actividades,Espectáculos,Exposiciones,Mercadillos
ATTACH;FMTTYPE=image/jpeg:https://zaragenda.com/wp-content/uploads/2021/06/WhatsApp-Image-2022-12-09-at-10.07.35.jpeg
GEO:41.6488226;-0.8890853
END:VEVENT
BEGIN:VEVENT
DTSTART;TZID=Europe/Madrid:20221204T110000
DTEND;TZID=Europe/Madrid:20221204T203000
DTSTAMP:20260419T182817
CREATED:20210722T092751Z
LAST-MODIFIED:20230208T181345Z
UID:10003066-1670151600-1670185800@zaragenda.com
SUMMARY:Mercado del Cierzo
DESCRIPTION:!Vuelve el Mercado del Cierzo! \nArtistas\, artesanos y diseñadores mostrarán sus productos en este espacio singular del casco histórico de Zaragoza. \nEn los distintos stands se podrá ver productos con un diseño muy cuidado\, hechos a mano y de pequeños comercios con encanto de nuestra ciudad. \nEl mercado será una buena oportunidad para poder elegir un regalo diferente y apoyar el talento local \nHabrá control de acceso para que el aforo esté limitado y se pueda disfrutar del mercado sin aglomeraciones. También se tomarán todas la medidas necesarias de higiene\, distancia entre los puestos y más medidas de seguridad. Puedes seguir el evento y conocer antes a todos los participantes en nuestras redes sociales Instagram y Facebook. \nEl evento se celebrará los días 3 y 4 de Diciembre y tendrá un horario de 11:00 a 14:00 y de 17:30 a 20:30h .
URL:https://zaragenda.com/evento-zaragoza/mercado-del-cierzo-9/2022-12-04/
LOCATION:Calle San Pablo 59\, Zaragoza
CATEGORIES:cultura,ferias,Mercadillos,vermut
ATTACH;FMTTYPE=image/jpeg:https://zaragenda.com/wp-content/uploads/2021/07/WhatsApp-Image-2022-12-01-at-10.09.42-1.jpeg
GEO:41.6488226;-0.8890853
END:VEVENT
BEGIN:VEVENT
DTSTART;TZID=Europe/Madrid:20221126T110000
DTEND;TZID=Europe/Madrid:20221127T200000
DTSTAMP:20260419T182817
CREATED:20221114T111829Z
LAST-MODIFIED:20230208T174434Z
UID:10006073-1669460400-1669579200@zaragenda.com
SUMMARY:Pet Market Zgz
DESCRIPTION:PET MARKET ZGZ\, el único mercado de Zaragoza dedicado a las mascotas se celebra el 26-27 de noviembre de 2022 en nuestra ciudad \nEn Aragón se estima que hay 300.000 perros\, y en noviembre sus dueños tienen una cita muy especial en nuestra ciudad. Se celebra el Pet Market Zgz\, el único mercado de Zaragoza dedicado exclusivamente a las mascotas\, donde humanos y animales podrán disfrutar de un lugar por y para ellos. \nPet Market Zgz cuenta con expositores que vienen de varios puntos de España con artículos dedicados en exclusiva a los animales. En la mayoría de casos son complementos hechos a mano\, como los abriguitos para perros de La Huellita Artesana\, las ilustraciones personalizadas de Begu Dibuja\, además de los helados para perros de Pupukis Food\, el mobiliario y accesorios para gatos de Toca Madera Cats\, las diferentes propuestas para galgos\, alimentación natural de Naturgold\, o los peluches-amigurumis de Lana y Pelo\, entre otras muchas propuestas. \nAdemás\, Travelguau repartirá gratuitamente sus guías petfriendly para poder organizar viajes con la mascota y gracias al Ayuntamiento de Zaragoza se regalarán botellitas rellenables para limpiar los pises de los perros. \nDurante el fin de semana se ofrecerán 4 charlas para los dueños de los animales. \nPERROS DE ALERTA MÉDICA. Si tienes epilepsia o diabetes\, o algún familiar tuyo sufre alguna de estas tipologías\, Fundación Canem ofrecerá una charla el sábado a las 12 horas sobre sus perros de alerta médica y cómo pueden ayudar a gestionar mejor estas enfermedades. O si quieres ofrecerte como casa de acogida durante la educación del cachorro\, te explicarán la dinámica de esta opción tan bonita. \nBELLEZA Y SALUD. Si lo que te interesa es la belleza de tu perro sin olvidar su salud\, Laura del Salón de Belleza Canino Layka ofrecerá una charla el sábado a las 18 horas\, sobre los problemas de la piel de nuestros animales\, otitis\, higiene bucodental y cómo tratar estos problemas y mantener una correcta higiene en el día a día. \nMUERTE DE NUESTRO ANIMAL. No nos olvidamos de aquellos con animales mayores o que han fallecido hace poco\, y para ellos\, Animal Death Cafe ha preparado un coloquio para hablar sobre la muerte de los animales el sábado a las 20 horas. \nEL PASEO CON TU PERRO. Si lo que te interesa es conocer más sobre el comportamiento de tu perro\, En Clave de Can ofrecerá una charla gratuita titulada ‘El paseo con tu perro’ el domingo a las 11.30 horas. \nPero si lo que te apetece es hacerte una sesión fotográfica con tu mascota\, la fotógrafa Sheila de la Vara contará con un espacio fotográfico donde poder hacerte una sesión de fotos navideña con la mascota. \nTambién se ofrece la opción de ser solidario\, y por ello la protectora AMAR (Asociación de Madrinas al Rescate) venderá sus calendarios solidarios 2023 para sufragar los gastos de los animales recogidos. \nEl Pet Market Zgz tendrá lugar en la antigua fábrica de Enrique Coca\, en la calle San Pablo\, 59\, el sábado\, 26 de noviembre\, de 11 a 15 horas y de 17 a 21 horas\, y el domingo\, 27 de noviembre\, y el domingo de 11 a 15 horas y de 17 a 20 horas. La entrada es gratuita y las charlas son de entrada libre hasta completar el aforo.
URL:https://zaragenda.com/evento-zaragoza/pet-market-zgz-4/
LOCATION:Calle San Pablo 59\, Zaragoza
ATTACH;FMTTYPE=image/jpeg:https://zaragenda.com/wp-content/uploads/2022/11/cartel-Cuadrado.jpg
GEO:41.6488226;-0.8890853
END:VEVENT
BEGIN:VEVENT
DTSTART;VALUE=DATE:20221118
DTEND;VALUE=DATE:20221121
DTSTAMP:20260419T182817
CREATED:20221103T121401Z
LAST-MODIFIED:20230208T174331Z
UID:10006064-1668729600-1668988799@zaragenda.com
SUMMARY:Mercadillo solidario Navidad
DESCRIPTION:18\,19 Y 20 DE NOVIEMBRE EN CALLE SAN PABLO\, ZARAGOZA\nDesde Estrella de la Mañana os invitamos a visitar nuestro Mercadillo solidario los días 18\,19 y 20 de noviembre en la C/San Pablo 59\, ZGZ\, y ayudarnos a obtener fondos para llevar a cabo nuestros proyectos de Cooperación al Desarrollo con las poblaciones más vulnerables en India y la comunidad de refugiados Tibetanos. \nAdemás\, por medio de la compra de nuestros productos estarás colaborando con el pequeño comercio de India y Nepal\,un consumo más responsable y amigable con nuestro planeta y la educación de niños y niñas sin recursos en la India. \nArtesanía\, textiles\, bisutería\, decoración\, rincón del gourmet\, juguetes de segunda mano y mucho más podrás encontrar en nuestro mercadillo y también podrás informarte de los proyectos y actividades de Estrella de la Mañana. \nPorque necesitamos tomar parte para construir con un mundo más justo. \nAgradecemos que compartas esta información. \nOs esperamos.
URL:https://zaragenda.com/evento-zaragoza/mercadillo-solidario-navidad/
LOCATION:Calle San Pablo 59\, Zaragoza
ATTACH;FMTTYPE=image/png:https://zaragenda.com/wp-content/uploads/2022/11/2022-NOV-CARTEL-MERCADILLO.png
GEO:41.6488226;-0.8890853
END:VEVENT
BEGIN:VEVENT
DTSTART;TZID=Europe/Madrid:20221022T123000
DTEND;TZID=Europe/Madrid:20221022T140000
DTSTAMP:20260419T182817
CREATED:20221017T083934Z
LAST-MODIFIED:20221017T083934Z
UID:10006030-1666441800-1666447200@zaragenda.com
SUMMARY:REMAKE. JESSE JAMES: ROBOS\, CITAS Y SECUELAS | PRESENTACIÓN
DESCRIPTION:Como parte de la programación del III Mercado del Libro\, que tendrá lugar el fin de semana del 22 y 23 de octubre en el espacio de c/San Pablo 59\, La Montonera organiza el sábado 22 a las 12:30 la presentación del libro “Remake. Jesse James: robos\, citas y secuelas” de la editorial Shangrila\, de la mano de su autor\, Chema López\, acompañado del profesor de la Universidad de Zaragoza Juan Carlos Pueo y la activista cultural Esther Moreno. \n¿Cuándo? Sábado 22/10 12:30 \n¿Dónde? III Mercado del libro (c/San Pablo\, 59) \n«En el cine\, distintas versiones muestran cómo el legendario forajido Jesse James muere frente a un cuadro\, colgándolo\, quitándole el polvo o enderezándolo. Un miembro de su banda le dispara por la espalda y pasa el resto de su vida\, de pueblo en pueblo\, escenificando en teatros su crimen. Jesse Woodson James es con toda probabilidad el personaje histórico cuya vida se ha llevado más veces a la pantalla\, manifestando una vez más cómo la ficción desplaza a los hechos.»
URL:https://zaragenda.com/evento-zaragoza/remake-jesse-james-robos-citas-y-secuelas-presentacion/
LOCATION:Calle San Pablo 59\, Zaragoza
GEO:41.6488226;-0.8890853
END:VEVENT
BEGIN:VEVENT
DTSTART;TZID=Europe/Madrid:20220625T110000
DTEND;TZID=Europe/Madrid:20220626T203000
DTSTAMP:20260419T182817
CREATED:20220623T094749Z
LAST-MODIFIED:20230208T172019Z
UID:10005715-1656154800-1656275400@zaragenda.com
SUMMARY:Mercado del Cierzo
DESCRIPTION:!Vuelve el Mercado del Cierzo!\nEste fin de semana en horario de 11:00 a 14:00 y de 17:30 a 20:30 estará el mercado del Cierzo en la antigua fábrica de la calle San Pablo 59.\nEste mercado se llenará de magia y de vida con una edición especial de bienvenida al verano .\nDiseñadores\, artistas y artesanos darán color a la muestra con sus productos hechos a mano y diseñados de forma tan especial.\nTambién podremos contar con un montón de actividades de la mano de nuestros amigos\nBambalinas educación musical\, @holamonstruo1\, @adala_zaragoza y @petitzgz . \nSábado 25 horario de 11:00 a 14:00 y 17:30 a 20:30.\n11:15 Taller de estimulación musical temprana de 0-3 años con Bambalinas educación musical.\n12:00 Cuenta cuentos del cuento Cara de Pepino todos los públicos @holamonstruo1. \n17:30 Taller creativo con Petit\n18:00 Bingo Musical Pokemon con Bambalinas educación musical. \nDomingo 25 horario de 11:00 a 14:00 y 17:30 a 20:30.\n11:00 Pintacaras solidario de la mano de @adala_zaragoza.\n11:30 Taller creativo de animales con @adala_zaragoza\, @petitzgz. \n17:30 Pintacaras solidario de la mano de @adala_zaragoza.\n18:00 Durante toda la tarde taller creativo de animales con @adala_zaragoza\, @petitzgz. \nEstas y mas actividades en el @mercadodelcierzo.\nEl evento se celebrará el Sábado y el Domingo y tendrá un horario de 11:00 a 14:00 y de 17:30 a 20:30h.\n¡Si quieres apoyar a los creativos de Zaragoza no puedes faltar !\n@mercadodelcierzo
URL:https://zaragenda.com/evento-zaragoza/mercado-del-cierzo-8/
LOCATION:Calle San Pablo 59\, Zaragoza
CATEGORIES:Actividades,Actividades para niños,ferias,Mercadillos,Talleres
ATTACH;FMTTYPE=image/jpeg:https://zaragenda.com/wp-content/uploads/2022/06/Cartel-26-y-26.jpg
GEO:41.6488226;-0.8890853
END:VEVENT
BEGIN:VEVENT
DTSTART;TZID=Europe/Madrid:20220604T110000
DTEND;TZID=Europe/Madrid:20220605T200000
DTSTAMP:20260419T182817
CREATED:20220429T073137Z
LAST-MODIFIED:20230208T170054Z
UID:10005548-1654340400-1654459200@zaragenda.com
SUMMARY:Pet Market Zgz ‘Edición Verano’
DESCRIPTION:PET MARKET ZGZ\, el único mercado de Zaragoza dedicado a las mascotas\, celebra el próximo fin de semana la llegada del verano a nuestra ciudad \nEn Aragón se estima que hay 300.000 perros\, y este próximo fin de semana sus dueños tienen una cita muy especial en nuestra ciudad. Se celebra el Pet Market Zgz ‘Edición Verano’\, el único mercado de Zaragoza dedicado exclusivamente a las mascotas. \nEste mercado viene a completar la oferta de mercadillos que existen en nuestra ciudad\, y durante el  4 y 5 de junio\, los dueños de los animales\, acompañados de sus mascotas\, podrán disfrutar de un lugar por y para ellos. \nPet Market Zgz cuenta con expositores que vienen de varios puntos de España con artículos dedicados en exclusiva a los animales. En la mayoría de casos son complementos hechos a mano\, como los bañadores para perros de El Galgo Azul\, las ilustraciones personalizadas de Paula Izquierdo\, además de las propuestas de ocio de CanyonCan\, con los que puedes hacer rafting\, barrancos o kayac con tu perro\, los comederos reciclados de Alma’s 13\, el césped artificial para mascotas de TodoCESPED\, o las cajas temáticas de Hocicos Box\, entre otras muchas propuestas. \nSi lo que te interesa es el Canicross y quieres aprender a correr con tu perro\, un deporte cada vez con más adeptos\, Non-Stop Dogwear ofrecerá una charla gratuita el sábado a las 11 horas. \nA los que les gusten las manualidades\, podrán apuntarse al taller que ofrece Rocío de San Pío para aprender a hacer un mordedor para su perro el mismo sábado a las 18 horas. \nNo nos olvidamos de aquellos con animales mayores o que han fallecido hace poco\, y para ellos\, Animal Death Cafe ha preparado un coloquio para hablar sobre la muerte de los animales el sábado a las 20 horas. \nSi lo que te interesa es conocer más sobre el comportamiento de tu perro\, En Clave de Can ofrecerá una charla gratuita titulada Entre perros anda el juego el domingo a las 11 horas. \nY si estás pensando en cambiar la alimentación de tu mascota por una más sana y saludable\, Amores Perros hablará de los beneficios de la alimentación natural el domingo a las 12.30 horas. \nPero si lo que te apetece es hacerte una sesión fotográfica con tu mascota\, la fotógrafa Sheila de la Vara contará con un espacio fotográfico donde poder hacerte una sesión de fotos con la mascota. \nTambién se ofrece la opción de ser solidario\, y por ello la protectora Amigos Peludos del Bajo Cinca venderá sus productos para sufragar los gastos de los animales recogidos y tendrán dos ayudantes muy especiales\, dos galgos en adopción que el sábado esperan encontrar un buen hogar entre los asistentes. Además\, un stand de Dog Point\, ONG especializada en perros de servicio para niños con Trastorno del Espectro Autista\, explicará cómo los perros de asistencia acompañan a los menores\, les favorece la autorregulación\, mejoran sus patrones de sueño\, estimulan la comunicación y facilitan la relación del menor con su entorno. \nEl Pet Market Zgz tendrá lugar en la antigua fábrica de Enrique Coca\, en la calle San Pablo\, 59\, el sábado\, 4 de junio\, de 11 a 15 horas y de 17 a 21 horas\, y el domingo\, 5 de junio\, el horario será de 11 a 15 horas y de 17 a 20 horas y la entrada es gratuita.
URL:https://zaragenda.com/evento-zaragoza/pet-market-zgz-edicion-verano/
LOCATION:Calle San Pablo 59\, Zaragoza
CATEGORIES:Actividades,Exposiciones,ferias,Mercadillos
ATTACH;FMTTYPE=image/jpeg:https://zaragenda.com/wp-content/uploads/2022/04/cartel-Cuadrado-TG.jpg
GEO:41.6488226;-0.8890853
END:VEVENT
BEGIN:VEVENT
DTSTART;TZID=Europe/Madrid:20211120T110000
DTEND;TZID=Europe/Madrid:20211121T210000
DTSTAMP:20260419T182817
CREATED:20211004T120503Z
LAST-MODIFIED:20230208T151028Z
UID:10003621-1637406000-1637528400@zaragenda.com
SUMMARY:Pet Market Zgz
DESCRIPTION:PET MARKET ZGZ\, el único mercado de Zaragoza dedicado a las mascotas se celebra el 20-21 de noviembre de 2021 en nuestra ciudad \nEn Zaragoza hay 55.000 perros\, y en noviembre sus dueños tienen una cita muy especial en nuestra ciudad. Se celebra el Pet Market Zgz\, el único mercado de Zaragoza dedicado exclusivamente a las mascotas. \nDurante el 20-21 de noviembre\, los dueños de los animales\, acompañados de sus mascotas\, podrán disfrutar de un lugar por y para los animales. \nPet Market Zgz cuenta con expositores que vienen de varios puntos de España con artículos dedicados en exclusiva a los animales. En la mayoría de casos son complementos hechos a mano\, como los chubasqueros o bufandas de El Galgo Azul\, las chapas identificativas de Guau que Miau\, las cajas personalizadas de Hocicos Box\, los portadocumentos de Way4Dogs o los collares de WildTopDogs. \nA los que les gusten las manualidades\, podrán apuntarse a alguno de los talleres para hacer mordedores. También habrá cuentacuentos para los más pequeños\, y talleres de educación canina. \nY si lo que apetece es preparar tu postal de Navidad con la mascota\, contaremos con Sheila de la Vara y su espacio fotográfico con varios ambientes\, donde poder hacerte una sesión de fotos con la mascota. \nTambién se ofrece la opción de ser solidario\, y contaremos con la protectora AMAR que venderán su calendario solidario de niños y animales. El importe íntegro de lo recaudado irá destinado a ellos\, que también estará en el Pet Market Zgz dando difusión de su labor. \nEl Pet Market Zgz tendrá lugar el sábado\, 20 de noviembre\, de 11 a 15 horas y de 17 a 21 horas\, y el domingo el horario será de 11 a 15 horas\, y de 17 a 20 horas. La entrada es gratuita\, pero para los talleres y sesiones de fotos se recomienda reservar plaza a través de la página de Facebook o Instagram.
URL:https://zaragenda.com/evento-zaragoza/pet-market-zgz-3/
LOCATION:Calle San Pablo 59\, Zaragoza
CATEGORIES:Mercadillos
ATTACH;FMTTYPE=image/jpeg:https://zaragenda.com/wp-content/uploads/2021/10/cartel-por-sectores-para-probar.jpg
GEO:41.6488226;-0.8890853
END:VEVENT
BEGIN:VEVENT
DTSTART;TZID=Europe/Madrid:20211106T110000
DTEND;TZID=Europe/Madrid:20211107T203000
DTSTAMP:20260419T182817
CREATED:20211105T112928Z
LAST-MODIFIED:20230208T160623Z
UID:10004441-1636196400-1636317000@zaragenda.com
SUMMARY:Mercado del Cierzo
DESCRIPTION:Contará con distintos puestos de diseñadores \, gourmet y pequeño comercio local. \nEste mercado alternativo une a todo tipo de públicos y ofrece distintos planes donde pasar un rato agradable y entretenido.\nEl Sábado a las 11:30h habrá un taller de collage gratuito para todas las edades con la artista María Collage y a las 18:00 taller de mandalas para todos los públicos impartido por Petit. \nEl Domingo por la tarde a las 18:00h cuentacuentos gratuito para familias. \nLa entrada es libre y gratuita hasta completar el aforo \nPor supuesto el mercado garantiza la seguridad y el cumplimiento de las medidas sanitarias.\nMás información en www.mercadodelcierzo.com o en nuestras redes sociales @mercadodelcierzo \nEn la antigua fábrica de la Calle San Pablo nº 59 de Zaragoza.
URL:https://zaragenda.com/evento-zaragoza/mercado-del-cierzo-2/
LOCATION:Calle San Pablo 59\, Zaragoza
CATEGORIES:Cuentacuentos,Feria,Mercadillos,Talleres para niños
ATTACH;FMTTYPE=image/jpeg:https://zaragenda.com/wp-content/uploads/2021/11/image-15.jpg
GEO:41.6488226;-0.8890853
END:VEVENT
BEGIN:VEVENT
DTSTART;VALUE=DATE:20210606
DTEND;VALUE=DATE:20210607
DTSTAMP:20260419T182817
CREATED:20210528T104603Z
LAST-MODIFIED:20230208T141651Z
UID:10002535-1622937600-1623023999@zaragenda.com
SUMMARY:Mercado del Cierzo
DESCRIPTION:!Vuelve el Mercado del Cierzo! \n  \nDespués de la buena acogida de la edición anterior el Mercado del Cierzo vuelve a la fábrica de la calle San Pablo. \nLos días 5 y 6 de junio se darán cita artistas\, artesanos y diseñadores que mostrarán sus productos en este espacio singular del casco histórico de Zaragoza.sania \nEn los distintos stands se podrán ver productos con un diseño muy cuidado\, hechos a mano ó de pequeños comercios con encanto de nuestra ciudad. \nEl mercado será una buena oportunidad para poder elegir un regalo diferente para el día de la madre y apoyar el talento local \nEl evento se celebrará el Sábado y el Domingo y tendrá un horario de 11 a 14 y de 17 a 20h. \nHabrá control de acceso para que el aforo esté limitado y se pueda disfrutar del mercado sin aglomeraciones. También se tomarán todas la medidas necesarias de higiene\, distancia entre los puestos y más medidas de seguridad. \n 
URL:https://zaragenda.com/evento-zaragoza/mercado-del-cierzo-5/2021-06-06/
LOCATION:Calle San Pablo 59\, Zaragoza
CATEGORIES:Espectáculos,Exposiciones
ATTACH;FMTTYPE=image/jpeg:https://zaragenda.com/wp-content/uploads/2021/05/image-13.jpg
GEO:41.6488226;-0.8890853
END:VEVENT
END:VCALENDAR