BEGIN:VCALENDAR
VERSION:2.0
PRODID:-//ZARAGENDA - Agenda Zaragoza de ocio y eventos - ECPv6.15.16//NONSGML v1.0//EN
CALSCALE:GREGORIAN
METHOD:PUBLISH
X-WR-CALNAME:ZARAGENDA - Agenda Zaragoza de ocio y eventos
X-ORIGINAL-URL:https://zaragenda.com
X-WR-CALDESC:Eventos para ZARAGENDA - Agenda Zaragoza de ocio y eventos
REFRESH-INTERVAL;VALUE=DURATION:PT1H
X-Robots-Tag:noindex
X-PUBLISHED-TTL:PT1H
BEGIN:VTIMEZONE
TZID:Europe/Madrid
BEGIN:DAYLIGHT
TZOFFSETFROM:+0100
TZOFFSETTO:+0200
TZNAME:CEST
DTSTART:20200329T010000
END:DAYLIGHT
BEGIN:STANDARD
TZOFFSETFROM:+0200
TZOFFSETTO:+0100
TZNAME:CET
DTSTART:20201025T010000
END:STANDARD
BEGIN:DAYLIGHT
TZOFFSETFROM:+0100
TZOFFSETTO:+0200
TZNAME:CEST
DTSTART:20210328T010000
END:DAYLIGHT
BEGIN:STANDARD
TZOFFSETFROM:+0200
TZOFFSETTO:+0100
TZNAME:CET
DTSTART:20211031T010000
END:STANDARD
BEGIN:DAYLIGHT
TZOFFSETFROM:+0100
TZOFFSETTO:+0200
TZNAME:CEST
DTSTART:20220327T010000
END:DAYLIGHT
BEGIN:STANDARD
TZOFFSETFROM:+0200
TZOFFSETTO:+0100
TZNAME:CET
DTSTART:20221030T010000
END:STANDARD
END:VTIMEZONE
BEGIN:VEVENT
DTSTART;TZID=Europe/Madrid:20210619T190000
DTEND;TZID=Europe/Madrid:20210619T203000
DTSTAMP:20260419T195753
CREATED:20210625T101422Z
LAST-MODIFIED:20230208T142541Z
UID:10002582-1624129200-1624134600@zaragenda.com
SUMMARY:DESCUBRE LA ZARAGOZA ESCONDIDA – LA PARROQUIETA DE LA SEO
DESCRIPTION:¿Habéis oído hablar de la Parroquieta de la Seo? Seguro que sí\, porque todo el mundo se ha quedado alguna vez con la boca abierta delante de esa espectacular fachada mudéjar que hay junto a los ábsides de la Seo\, pero ¿qué hay detrás de ese muro tan increíble? Pues uno de los lugares más sorprendentes (y también de los menos conocidos) de Zaragoza. \nParroquieta 3Resulta que allá por el siglo XIV el arzobispo Lope Fernández de Luna decidió hacer una capilla para enterrarse\, y no reparó en gastos para hacer una obra bastante exótica\, pues en ella trabajaron un par de sevillanos que “fusionaron” las modas de su tierra con las de aquí\, creando algo absolutamente original y único.\nNo solo eso\, también se trajo al mejor escultor que pudo encontrar para que hiciera su tumba\, absolutamente magnífica y desde luego la mejor que se conserva en Zaragoza.\nNo quedó ahí la cosa. El arzobispo estaba decidido a que su capilla fuera sencillamente fabulosa\, y también pagó una bellísima techumbre mudéjar\, muy diferente de lo que por entonces se hacía en Aragón\, pues en ella seguramente también intervinieron nuestros amigos sevillanos. \nY aún ahí más\, y esto sí que es una sorpresa: también construyó\, debajo de la capilla\, una cripta gótica que casi nadie ha visto\, porque hasta hace no mucho se utilizó como carbonera para la calefacción de la Seo y estaba completamente llena. Ahora se ha vaciado y limpiado y por fin vais a poder visitarla con nosotros. \n¿Os apetece descubrir esta joya única\, declarada además Patrimonio de la Humanidad por la UNESCO? Pues no os podéis perder las visitas que hemos preparado. \nCuándo – Sábados 19 de junio\, 10 y 24 de julio a las 19:00 \nDónde – Puerta de la parroquieta (plaza de la Seo) \nPrecio – 13€ por persona
URL:https://zaragenda.com/evento-zaragoza/descubre-la-zaragoza-escondida-la-parroquieta-de-la-seo/
LOCATION:Catedral del Salvador de Zaragoza\, Plaza de la Seo\, 4\, Zaragoza\, Zaragoza\, 50001\, España
CATEGORIES:Visitas Guiadas
ATTACH;FMTTYPE=image/jpeg:https://zaragenda.com/wp-content/uploads/2021/06/parroquieta-ventana.jpg
GEO:41.6488696;-0.8897421
X-APPLE-STRUCTURED-LOCATION;VALUE=URI;X-ADDRESS=Catedral del Salvador de Zaragoza Plaza de la Seo 4 Zaragoza Zaragoza 50001 España;X-APPLE-RADIUS=500;X-TITLE=Plaza de la Seo\, 4:geo:-0.8897421,41.6488696
END:VEVENT
END:VCALENDAR