BEGIN:VCALENDAR
VERSION:2.0
PRODID:-//ZARAGENDA - Agenda Zaragoza de ocio y eventos - ECPv6.15.16//NONSGML v1.0//EN
CALSCALE:GREGORIAN
METHOD:PUBLISH
X-WR-CALNAME:ZARAGENDA - Agenda Zaragoza de ocio y eventos
X-ORIGINAL-URL:https://zaragenda.com
X-WR-CALDESC:Eventos para ZARAGENDA - Agenda Zaragoza de ocio y eventos
REFRESH-INTERVAL;VALUE=DURATION:PT1H
X-Robots-Tag:noindex
X-PUBLISHED-TTL:PT1H
BEGIN:VTIMEZONE
TZID:Europe/Madrid
BEGIN:DAYLIGHT
TZOFFSETFROM:+0100
TZOFFSETTO:+0200
TZNAME:CEST
DTSTART:20200329T010000
END:DAYLIGHT
BEGIN:STANDARD
TZOFFSETFROM:+0200
TZOFFSETTO:+0100
TZNAME:CET
DTSTART:20201025T010000
END:STANDARD
BEGIN:DAYLIGHT
TZOFFSETFROM:+0100
TZOFFSETTO:+0200
TZNAME:CEST
DTSTART:20210328T010000
END:DAYLIGHT
BEGIN:STANDARD
TZOFFSETFROM:+0200
TZOFFSETTO:+0100
TZNAME:CET
DTSTART:20211031T010000
END:STANDARD
BEGIN:DAYLIGHT
TZOFFSETFROM:+0100
TZOFFSETTO:+0200
TZNAME:CEST
DTSTART:20220327T010000
END:DAYLIGHT
BEGIN:STANDARD
TZOFFSETFROM:+0200
TZOFFSETTO:+0100
TZNAME:CET
DTSTART:20221030T010000
END:STANDARD
END:VTIMEZONE
BEGIN:VEVENT
DTSTART;TZID=Europe/Madrid:20210521T190000
DTEND;TZID=Europe/Madrid:20210521T190000
DTSTAMP:20260422T130451
CREATED:20210420T095307Z
LAST-MODIFIED:20230208T133532Z
UID:10002253-1621623600-1621623600@zaragenda.com
SUMMARY:FLAMENCO ZARAGOZA. JOSÉ DEL TOMATE + ARTURO JIMÉNEZ
DESCRIPTION:José Fernández “José del Tomate” nació en Almería en una familia de artistas. Su padre\, Tomatito\, y su bisabuelo\, Miguel Fernández Cortés “El Tomate”\, apodo que también heredó su abuelo antes que él\, han sido para él una inspiración artística. Reconoce como influencias a Sabicas y Paco de Lucía\, pero sobre todo quien más le ha marcado ha sido su tío “el Niño Miguel”. \nHa presentado su primer disco “Plaza Vieja” (Universal\, 2018)\, de la mano del Universal Music Festival\, en el Teatro Real de Madrid\, el pasado mes de julio 2018\, y\, desde entonces\, ha recorrido un sinfín de escenarios con su banda: Festival Flamenco on Fire (Pamplona)\, Kölner Philarmonie (Alemania)\, Luz de Gas (Barcelona)\, Casa Patas (Madrid)\, Teatro Apolo (Almería)\, Teatro Central (Sevilla)\, etc. \n“Aromalí” primer disco de Arturo Jiménez es el fruto de un sueño largamente deseado\, en el cual encontramos temas flamencos cocinados a fuego lento bajo la composición de Pakito de la Serrana\, el apoyo incondicional de David Jiménez “El Maikel” y sazonados con la generosa dirección de Constancio Pradas. Arturo Jiménez es un cantaor gitano del barrio de la Magdalena\, en la ciudad de Zaragoza que se caracteriza por el sonido profundo de su voz y por el gran dominio que muestra del característico compás flamenco. \nUn concierto con un sonido fresco y potente\, donde destaca la intepretación deArturo y las poderosas composiciones de Pakito de la Serrana. El concierto transcurre desde temas originales de Pakito hasta la interpretación más personal de Arturo en palos más jondos\, contando también con la valiosa aportación de Rubén Jiménez con su guitarra cristalina. \nEn este concierto acompañarán a Arturo Jiménez artistas de reconocido prestigio en la escena flamenca de la ciudad\, Pakito de la Serrana y Rubén Jiménez a las guitarras\, Constancio Pradas y David Jiménez “El Maikel” a las percusiones\, Paco Jiménez a la mandola y guitarra\, Adrián Díaz al bajo\, Daniel Jiménez “El Nano” y José Díaz a los coros. \nLugar: CENTRO CÍVICO DELICIAS \nFecha: 21/05/2021 \nHora: 19:00 \nPrecio: Anticipada 15€ y Bonificada 10€ para menores 23\, mayores 65 y parados \n 
URL:https://zaragenda.com/evento-zaragoza/flamenco-zaragoza-jose-del-tomate-arturo-jimenez/
LOCATION:Centro Cívico Delicias\, Avenida Navarra\, 54\, Zaragoza\, Zaragoza\, 50010\, España
CATEGORIES:Conciertos,Espectáculos
ATTACH;FMTTYPE=image/jpeg:https://zaragenda.com/wp-content/uploads/2021/04/event_Jose_del_Tomate.jpg
GEO:41.6558386;-0.9064823
X-APPLE-STRUCTURED-LOCATION;VALUE=URI;X-ADDRESS=Centro Cívico Delicias Avenida Navarra 54 Zaragoza Zaragoza 50010 España;X-APPLE-RADIUS=500;X-TITLE=Avenida Navarra\, 54:geo:-0.9064823,41.6558386
END:VEVENT
BEGIN:VEVENT
DTSTART;TZID=Europe/Madrid:20210516T123000
DTEND;TZID=Europe/Madrid:20210516T123000
DTSTAMP:20260422T130451
CREATED:20210428T094909Z
LAST-MODIFIED:20230208T134438Z
UID:10002299-1621168200-1621168200@zaragenda.com
SUMMARY:MATINÉ MUSICAL Pardiez "Problemas del Tercer Mundo"
DESCRIPTION:Pardiez! surge en 2016 en Zaragoza a partir de canciones de Javi\, reflejadas en el EP El mejor\ndía. Durante los siguientes dos años se unirían Alejo\, Kepa\, Víctor y Piti a la formación\ndefinitiva.\nEl proyecto comienza en octubre de 2018 con su debut en el concurso PopyRock\, en el que\nlogran el 2o puesto.\nDurante 2019 son seleccionados para Altrantran Demo y Ambar Z Music\, y resultan ganadores\ndel ¿Premio a Mayor Proyección¿ en los XX Premios de la Música Aragonesa.\nTras todo un año de trabajo de producción y búsqueda de su sonido\, en diciembre de 2019\nlanzan su primer disco físico Problemas del primer mundo y se preparan para presentarlo a lo\nlargo y ancho de la península.
URL:https://zaragenda.com/evento-zaragoza/matine-musical-pardiez-problemas-del-tercer-mundo/
LOCATION:Centro Cívico Delicias\, Avenida Navarra\, 54\, Zaragoza\, Zaragoza\, 50010\, España
CATEGORIES:Conciertos,Espectáculos
ATTACH;FMTTYPE=image/jpeg:https://zaragenda.com/wp-content/uploads/2021/04/event_pardiez.jpg
GEO:41.6558386;-0.9064823
X-APPLE-STRUCTURED-LOCATION;VALUE=URI;X-ADDRESS=Centro Cívico Delicias Avenida Navarra 54 Zaragoza Zaragoza 50010 España;X-APPLE-RADIUS=500;X-TITLE=Avenida Navarra\, 54:geo:-0.9064823,41.6558386
END:VEVENT
BEGIN:VEVENT
DTSTART;TZID=Europe/Madrid:20210515T180000
DTEND;TZID=Europe/Madrid:20210515T180000
DTSTAMP:20260422T130451
CREATED:20210429T082320Z
LAST-MODIFIED:20230208T134644Z
UID:10002316-1621101600-1621101600@zaragenda.com
SUMMARY:Suu en Centro Cívico Delicias
DESCRIPTION:¿Quién no conoce a la Suu? Podemos contar con los dedos de la mano las personas que todavía no han oído su dulce voz envuelta por las notas del ukelele que siempre le acompaña. La Suu es una de las artistas catalanas más seguidas y escuchadas de la actualidad. Y no sólo eso\, sino que en 2020 ha sabido demostrar su versatilidad\, adaptándose a las nuevas circunstancias sanitarias y sociales y siendo capaz de ofrecer formatos y repertorios especiales que la han convertido en una de las artistas que más han tocado en plena crisis del coronavirus. Tras un trepidante 2020\, en la que ha publicado su disco Ventura\, producido por el músico Carlos Sadness\, y se ha conferido canción del verano de TV3\, Suu emprende en 2021 con más fuerza que nunca pisando los escenarios de los festivales y recintos más relevantes del país y del Estado español.12-15
URL:https://zaragenda.com/evento-zaragoza/suu-en-centro-civico-delicias/
LOCATION:Centro Cívico Delicias\, Avenida Navarra\, 54\, Zaragoza\, Zaragoza\, 50010\, España
CATEGORIES:Conciertos,Espectáculos
ATTACH;FMTTYPE=image/png:https://zaragenda.com/wp-content/uploads/2021/04/vagon_lujov.png
GEO:41.6558386;-0.9064823
X-APPLE-STRUCTURED-LOCATION;VALUE=URI;X-ADDRESS=Centro Cívico Delicias Avenida Navarra 54 Zaragoza Zaragoza 50010 España;X-APPLE-RADIUS=500;X-TITLE=Avenida Navarra\, 54:geo:-0.9064823,41.6558386
END:VEVENT
BEGIN:VEVENT
DTSTART;TZID=Europe/Madrid:20210509T123000
DTEND;TZID=Europe/Madrid:20210509T123000
DTSTAMP:20260422T130451
CREATED:20210428T094237Z
LAST-MODIFIED:20230208T134412Z
UID:10002298-1620563400-1620563400@zaragenda.com
SUMMARY:MATINÉ MUSICAL Sundays Republic
DESCRIPTION:Banda de rock Zaragoza que nace a finales del 2008 y actualmente está formada por Elena\nCintora (voz)\, Daniel Martín (Guitarra)\, Miguel Angel Royo (teclados)\, Javier Marín (batería) y José Simancas (bajo).\nCuentan con dos trabajos de estudio\, A new road (2009) y Who shot the guitarist (2016)\,\nambos autoproducidos por la banda.\nGanadores del Urban Creedence Festival de Música Independiente CHZ y finalistas en una de\nlas ediciones del Concurso Pop y Rock organizado por Interpeñas. \nDurante este año han estado renovando su sonido en el local de ensayo hasta configurar un nuevo repertorio\, con un sonido contundente y compacto\, siempre bajo la premisa de mantenerse fieles a su identidad sonora y complementando su potente puesta en escena ya que su estado natural y donde la banda se desarrolla al 100% es en directo.
URL:https://zaragenda.com/evento-zaragoza/matine-musical-sundays-republic/
LOCATION:Centro Cívico Delicias\, Avenida Navarra\, 54\, Zaragoza\, Zaragoza\, 50010\, España
CATEGORIES:Conciertos,Espectáculos
ATTACH;FMTTYPE=image/jpeg:https://zaragenda.com/wp-content/uploads/2021/04/event_sundays_republic.jpg
GEO:41.6558386;-0.9064823
X-APPLE-STRUCTURED-LOCATION;VALUE=URI;X-ADDRESS=Centro Cívico Delicias Avenida Navarra 54 Zaragoza Zaragoza 50010 España;X-APPLE-RADIUS=500;X-TITLE=Avenida Navarra\, 54:geo:-0.9064823,41.6558386
END:VEVENT
BEGIN:VEVENT
DTSTART;TZID=Europe/Madrid:20210508T200000
DTEND;TZID=Europe/Madrid:20210508T200000
DTSTAMP:20260422T130451
CREATED:20210408T121011Z
LAST-MODIFIED:20230208T131818Z
UID:10000765-1620504000-1620504000@zaragenda.com
SUMMARY:Eskorzo en el Festival De La Raíz Zaragoza 2021
DESCRIPTION:Ya está aquí la séptima edición del «Festival De la Raíz Zaragoza 2021». Este año\, viene cargado con siete grandes citas musicales en las que la variedad vuelve a ser la apuesta de los conciertos que se celebrarán en el Centro Cívico Delicias. El ciclo está organizado y producido por Area (Aragonesa de Representaciones Artísticas)\, coorganizado con Zaragoza Cultural y los centros cívicos. \nEskorzo se viste de gala y se sube a escenarios singulares y teatros para presentar su espectáculo más exclusivo: ‘A Fuego Suave’. Esta nueva propuesta se presentó el 30 de enero en Inverfest (Teatro Circo Price de Madrid) y se encuentra actualmente en gira de presentación a nivel nacional.
URL:https://zaragenda.com/evento-zaragoza/eskorzo-en-el-festival-de-la-raiz-zaragoza-2021/
LOCATION:Centro Cívico Delicias\, Avenida Navarra\, 54\, Zaragoza\, Zaragoza\, 50010\, España
CATEGORIES:Espectáculos,Festival
ATTACH;FMTTYPE=image/jpeg:https://zaragenda.com/wp-content/uploads/2021/04/event_eskorzo.jpg
GEO:41.6558386;-0.9064823
X-APPLE-STRUCTURED-LOCATION;VALUE=URI;X-ADDRESS=Centro Cívico Delicias Avenida Navarra 54 Zaragoza Zaragoza 50010 España;X-APPLE-RADIUS=500;X-TITLE=Avenida Navarra\, 54:geo:-0.9064823,41.6558386
END:VEVENT
BEGIN:VEVENT
DTSTART;TZID=Europe/Madrid:20210507T190000
DTEND;TZID=Europe/Madrid:20210507T190000
DTSTAMP:20260422T130451
CREATED:20210420T094747Z
LAST-MODIFIED:20230208T133529Z
UID:10002252-1620414000-1620414000@zaragenda.com
SUMMARY:FLAMENCO ZARAGOZA. ANTONIO REYES
DESCRIPTION:Antonio Reyes Montoya\, 26 de Julio de 1977 Chiclana de la Frontera ( Cádiz ). Comienza a cantar con siete años. Desde entonces ha recorrido entera la Península Ibérica y parte del Extranjero. Ha participado en los Festivales más prestigiosos como Festival de Cante de las Minas de La Unión\, Suma Flamenca\, Bienal de Sevilla\, Festival de Jerez\, Festival de Nimes\, Mont de Marsans\, y\, como buen profeta en su tierra\, cada año es casi fijo en los carteles de los diferentes Festivales de Verano de Andalucía como Gazpacho de Morón\, Festival de Mairena del Alcor\, Potaje de Utrera etc. \nHa sido acompañado a la guitarra por los mejores guitarristas del panorama flamenco como Manuel Morao\, Moraíto Chico\, Tomatito\, Paco Cepero\, Manuel Parrilla. Actualmente suele ir acompañado por Diego Amaya\, Diego del Morao o Dani de Morón. \nNominado a los Grammy Latinos 2020 por «Que suene el Cante». Nominado a los Grammy Latino 2016 por su disco “Directo en el Círculo Flamenco de Madrid”. Premio Flamenco de Hoy Mejor Disco de Cante 2015 por “Directo en el Círculo Flamenco de Madrid”. \nLugar: \nCENTRO CÍVICO DELICIAS \nFecha: \n7/05/2021 \nHora: \n19:00 \nPrecio: \nEntrada anticipada 15\,00€ \nEntrada bonificada 10€ para menores 23\, mayores 65 y parados
URL:https://zaragenda.com/evento-zaragoza/flamenco-zaragoza-antonio-reyes/
LOCATION:Centro Cívico Delicias\, Avenida Navarra\, 54\, Zaragoza\, Zaragoza\, 50010\, España
CATEGORIES:Conciertos,Espectáculos
ATTACH;FMTTYPE=image/jpeg:https://zaragenda.com/wp-content/uploads/2021/04/event_Antonio_Reyes.jpg
GEO:41.6558386;-0.9064823
X-APPLE-STRUCTURED-LOCATION;VALUE=URI;X-ADDRESS=Centro Cívico Delicias Avenida Navarra 54 Zaragoza Zaragoza 50010 España;X-APPLE-RADIUS=500;X-TITLE=Avenida Navarra\, 54:geo:-0.9064823,41.6558386
END:VEVENT
BEGIN:VEVENT
DTSTART;TZID=Europe/Madrid:20210506T190000
DTEND;TZID=Europe/Madrid:20210506T190000
DTSTAMP:20260422T130451
CREATED:20210429T081612Z
LAST-MODIFIED:20230208T134637Z
UID:10002315-1620327600-1620327600@zaragenda.com
SUMMARY:María Ruiz "El Vuelo"
DESCRIPTION:María Ruiz (Alicante) La gira de El Vuelo\, aunque en circunstancias complejas\, es una propuesta ambiciosa en los tiempos que corren. Pero\, puesto que ya nació en medio de una pandemia\, también hemos decidido crecer en ella. El mundo no deja de girar y nosotras hemos decidido seguir bailando. Ojalá nos encontremos en el camino.
URL:https://zaragenda.com/evento-zaragoza/maria-ruiz-el-vuelo/
LOCATION:Centro Cívico Delicias\, Avenida Navarra\, 54\, Zaragoza\, Zaragoza\, 50010\, España
CATEGORIES:Conciertos,Espectáculos
ATTACH;FMTTYPE=image/png:https://zaragenda.com/wp-content/uploads/2021/04/stories_zaragoza.png
GEO:41.6558386;-0.9064823
X-APPLE-STRUCTURED-LOCATION;VALUE=URI;X-ADDRESS=Centro Cívico Delicias Avenida Navarra 54 Zaragoza Zaragoza 50010 España;X-APPLE-RADIUS=500;X-TITLE=Avenida Navarra\, 54:geo:-0.9064823,41.6558386
END:VEVENT
BEGIN:VEVENT
DTSTART;TZID=Europe/Madrid:20210424T200000
DTEND;TZID=Europe/Madrid:20210424T200000
DTSTAMP:20260422T130451
CREATED:20210408T120104Z
LAST-MODIFIED:20230208T131815Z
UID:10000764-1619294400-1619294400@zaragenda.com
SUMMARY:Travis Birds en El Festival De La Raíz Zaragoza 2021
DESCRIPTION:Ya está aquí la séptima edición del «Festival De la Raíz Zaragoza 2021». Este año\, viene cargado con siete grandes citas musicales en las que la variedad vuelve a ser la apuesta de los conciertos que se celebrarán en el Centro Cívico Delicias. El ciclo está organizado y producido por Area (Aragonesa de Representaciones Artísticas)\, coorganizado con Zaragoza Cultural y los centros cívicos. \nDisfruta del concierto de la magnífica Travis Birds\, creadora de temas profundos e intensos que presentará su nuevo disco ‘La Costa de los Mosquitos’. En septiembre de 2018\, como colofón a «Año X» y antes de embarcarse en el nuevo repertorio\, Travis Birds lanza de nuevo «Año X» completamente remezclado. En 2019 lanza el primer single de su nuevo trabajo titulado «Coyotes»\, que fue elegida como cabecera de «El Embarcadero»\, serie de Movistar +\, producida por Vancouver media y Atresmedia studios. Un éxito como el que supuso al poco tiempo la celebrada versión que hizo de “19 días y 500 noches” junto a Benjamín Prado como homenaje a Joaquín Sabina.
URL:https://zaragenda.com/evento-zaragoza/travis-birds-en-el-festival-de-la-raiz-zaragoza-2021/
LOCATION:Centro Cívico Delicias\, Avenida Navarra\, 54\, Zaragoza\, Zaragoza\, 50010\, España
CATEGORIES:Espectáculos,Festival
ATTACH;FMTTYPE=image/jpeg:https://zaragenda.com/wp-content/uploads/2021/04/event_travis.jpg
GEO:41.6558386;-0.9064823
X-APPLE-STRUCTURED-LOCATION;VALUE=URI;X-ADDRESS=Centro Cívico Delicias Avenida Navarra 54 Zaragoza Zaragoza 50010 España;X-APPLE-RADIUS=500;X-TITLE=Avenida Navarra\, 54:geo:-0.9064823,41.6558386
END:VEVENT
BEGIN:VEVENT
DTSTART;TZID=Europe/Madrid:20210417T200000
DTEND;TZID=Europe/Madrid:20210417T200000
DTSTAMP:20260422T130451
CREATED:20210408T115403Z
LAST-MODIFIED:20230208T131811Z
UID:10000763-1618689600-1618689600@zaragenda.com
SUMMARY:La Shica en El Festival De La Raíz Zaragoza 2021
DESCRIPTION:Ya está aquí la séptima edición del «Festival De la Raíz Zaragoza 2021». Este año\, viene cargado con siete grandes citas musicales en las que la variedad vuelve a ser la apuesta de los conciertos que se celebrarán en el Centro Cívico Delicias. El ciclo está organizado y producido por Area (Aragonesa de Representaciones Artísticas)\, coorganizado con Zaragoza Cultural y los centros cívicos. \nDisfruta del espectáculo de voz\, arte y humor en el que danza y cante van de la mano y se unen a mil y un sonidos de La Shica\, que ha dado la vuelta a medio mundo con sus apuestas y ha seducido al público gracias a espectáculos con los que no deja indiferente a nadie. Ganadora de 2 premios de la música.
URL:https://zaragenda.com/evento-zaragoza/la-shica-en-el-festival-de-la-raiz-zaragoza-2021/
LOCATION:Centro Cívico Delicias\, Avenida Navarra\, 54\, Zaragoza\, Zaragoza\, 50010\, España
CATEGORIES:Espectáculos,Festival
ATTACH;FMTTYPE=image/jpeg:https://zaragenda.com/wp-content/uploads/2021/04/event_la_shica.jpg
GEO:41.6558386;-0.9064823
X-APPLE-STRUCTURED-LOCATION;VALUE=URI;X-ADDRESS=Centro Cívico Delicias Avenida Navarra 54 Zaragoza Zaragoza 50010 España;X-APPLE-RADIUS=500;X-TITLE=Avenida Navarra\, 54:geo:-0.9064823,41.6558386
END:VEVENT
END:VCALENDAR