BEGIN:VCALENDAR
VERSION:2.0
PRODID:-//ZARAGENDA - Agenda Zaragoza de ocio y eventos - ECPv6.15.16//NONSGML v1.0//EN
CALSCALE:GREGORIAN
METHOD:PUBLISH
X-ORIGINAL-URL:https://zaragenda.com
X-WR-CALDESC:Eventos para ZARAGENDA - Agenda Zaragoza de ocio y eventos
REFRESH-INTERVAL;VALUE=DURATION:PT1H
X-Robots-Tag:noindex
X-PUBLISHED-TTL:PT1H
BEGIN:VTIMEZONE
TZID:Europe/Madrid
BEGIN:DAYLIGHT
TZOFFSETFROM:+0100
TZOFFSETTO:+0200
TZNAME:CEST
DTSTART:20200329T010000
END:DAYLIGHT
BEGIN:STANDARD
TZOFFSETFROM:+0200
TZOFFSETTO:+0100
TZNAME:CET
DTSTART:20201025T010000
END:STANDARD
BEGIN:DAYLIGHT
TZOFFSETFROM:+0100
TZOFFSETTO:+0200
TZNAME:CEST
DTSTART:20210328T010000
END:DAYLIGHT
BEGIN:STANDARD
TZOFFSETFROM:+0200
TZOFFSETTO:+0100
TZNAME:CET
DTSTART:20211031T010000
END:STANDARD
BEGIN:DAYLIGHT
TZOFFSETFROM:+0100
TZOFFSETTO:+0200
TZNAME:CEST
DTSTART:20220327T010000
END:DAYLIGHT
BEGIN:STANDARD
TZOFFSETFROM:+0200
TZOFFSETTO:+0100
TZNAME:CET
DTSTART:20221030T010000
END:STANDARD
BEGIN:DAYLIGHT
TZOFFSETFROM:+0100
TZOFFSETTO:+0200
TZNAME:CEST
DTSTART:20230326T010000
END:DAYLIGHT
BEGIN:STANDARD
TZOFFSETFROM:+0200
TZOFFSETTO:+0100
TZNAME:CET
DTSTART:20231029T010000
END:STANDARD
END:VTIMEZONE
BEGIN:VEVENT
DTSTART;TZID=Europe/Madrid:20221119T200000
DTEND;TZID=Europe/Madrid:20221119T210000
DTSTAMP:20260421T174423
CREATED:20220917T125228Z
LAST-MODIFIED:20230208T173227Z
UID:10005810-1668888000-1668891600@zaragenda.com
SUMMARY:ANDREA LA GARLOCHI "INTIMO" - CICLO CIUDAD DE ZARAGOZA
DESCRIPTION:Andrea Blanco\, conocida en el flamenco como “La Garlochi”\, tiene su primera toma de contacto con la danza a través de la jota\, pero será el flamenco el baile que finalmente le llene el alma y corazón.\nTras una amplia y constante formación con los mejores maestros y maestras de flamenco a nivel nacional junto a la experiencia recogida en sus 10 años como bailaora de flamenco da el importante paso de crear su primer espectáculo de baile flamenco que lleva el nombre “Intimo”.\nLe acompañan:\nAl cante El Harry\, Candelas y José Diaz\nA la guitarra Aaron El Cherry y Moisés de la Rosa.\nA la percusión Antonio El Tano.\nA las palmas José El Pipol.
URL:https://zaragenda.com/evento-zaragoza/andrea-la-garlochi-intimo-ciclo-ciudad-de-zaragoza/
LOCATION:Centro Cívico Estación del Norte\, Perdiguera\, 7\, Zaragoza\, Zaragoza\, España
ATTACH;FMTTYPE=image/jpeg:https://zaragenda.com/wp-content/uploads/2022/09/57015588_10213336875396948_3704368477725786112_n.jpg
GEO:41.6601041;-0.871759
X-APPLE-STRUCTURED-LOCATION;VALUE=URI;X-ADDRESS=Centro Cívico Estación del Norte Perdiguera 7 Zaragoza Zaragoza España;X-APPLE-RADIUS=500;X-TITLE=Perdiguera\, 7:geo:-0.871759,41.6601041
END:VEVENT
BEGIN:VEVENT
DTSTART;TZID=Europe/Madrid:20221112T193000
DTEND;TZID=Europe/Madrid:20221112T210000
DTSTAMP:20260421T174423
CREATED:20220917T125319Z
LAST-MODIFIED:20230208T173224Z
UID:10005812-1668281400-1668286800@zaragenda.com
SUMMARY:CARMEN LEDESMA - CICLO FLAMENCO CIUDAD DE ZARAGOZA
DESCRIPTION:Carmen Ledesma destaca actualmente entre las mejores referencias de la escuela bailaora sevillana. Por talento\, y también por experiencia con otros «monstruos del flamenco.\nEs todo un lujo tener entre nosotros el segundo fin de semana a una de las más grandes bailaoras del panorama.\nAl cante: Israel Dual & El Titi.\nAl toque: Alejandro Monserrat.\nAl cajón: Josué Barres.
URL:https://zaragenda.com/evento-zaragoza/carmen-ledesma-ciclo-flamenco-ciudad-de-zaragoza/
LOCATION:Centro Cívico Estación del Norte\, Perdiguera\, 7\, Zaragoza\, Zaragoza\, España
ATTACH;FMTTYPE=image/jpeg:https://zaragenda.com/wp-content/uploads/2022/09/CARMEN.jpeg
GEO:41.6601041;-0.871759
X-APPLE-STRUCTURED-LOCATION;VALUE=URI;X-ADDRESS=Centro Cívico Estación del Norte Perdiguera 7 Zaragoza Zaragoza España;X-APPLE-RADIUS=500;X-TITLE=Perdiguera\, 7:geo:-0.871759,41.6601041
END:VEVENT
BEGIN:VEVENT
DTSTART;TZID=Europe/Madrid:20220224T193000
DTEND;TZID=Europe/Madrid:20220227T140000
DTSTAMP:20260421T174423
CREATED:20220225T090110Z
LAST-MODIFIED:20230208T164334Z
UID:10004906-1645731000-1645970400@zaragenda.com
SUMMARY:D'Ensayo Festival de Teatro y Ciencia
DESCRIPTION:D’Ensayo es un Festival de Teatro y Ciencia que nace en Zaragoza como certamen nacional y anual de espectáculos teatrales de contenido científico. \nEcología\, química y circo\, salud mental\, mujeres de ciencia y el Cosmos son los sugerentes temas de las obras que se representarán durante cuatro días (del 24 al 27 de marzo) en el Centro Cívico Estación del Norte de Zaragoza. Cuatro van a concurso y habrá una ganadora\, también con el voto del público. Pero el programa del Festival contiene más: el plus de una compañía profesional invitada\, un debate con personas expertas sobre esta singular fusión de teatro y ciencia y alguna que otra sorpresa. \nJueves 24 de marzo: Inauguración y ‘Enterrando a Dodot’ (1ª obra a concurso) (19:30h.) \nViernes 25 de marzo: Debate teatro-ciencia (18:00h.) y ‘Terapia’ (2ª obra a concurso) (20:00 h.) \nSábado 26 de marzo: ‘Yo quiero ser científica’ (3ª obra a concurso) (12:30h.) y la obra invitada ‘Un salto de gigante’\, de PAI (20:30h.) \nDomingo 27 de marzo: ‘Redoxidables’ (4ª obra a concurso) (12:30h.) y entrega virtual del Premio (20:00h.)
URL:https://zaragenda.com/evento-zaragoza/densayo-festival-de-teatro-y-ciencia/
LOCATION:Centro Cívico Estación del Norte\, Perdiguera\, 7\, Zaragoza\, Zaragoza\, España
CATEGORIES:Festival,Teatro
ATTACH;FMTTYPE=image/png:https://zaragenda.com/wp-content/uploads/2022/02/densayo-cartel.png
GEO:41.6601041;-0.871759
X-APPLE-STRUCTURED-LOCATION;VALUE=URI;X-ADDRESS=Centro Cívico Estación del Norte Perdiguera 7 Zaragoza Zaragoza España;X-APPLE-RADIUS=500;X-TITLE=Perdiguera\, 7:geo:-0.871759,41.6601041
END:VEVENT
BEGIN:VEVENT
DTSTART;TZID=Europe/Madrid:20211127T190000
DTEND;TZID=Europe/Madrid:20211127T200000
DTSTAMP:20260421T174423
CREATED:20211103T091722Z
LAST-MODIFIED:20230208T160429Z
UID:10004416-1638039600-1638043200@zaragenda.com
SUMMARY:Ciclo de Baile Flamenco de Zaragoza
DESCRIPTION:La plataforma Flamenco Zaragoza pone en marcha un ciclo flamenco que lleva el nombre Ciclo de Baile Flamenco Ciudad de Zaragoza\, con motivo de la celebración del Día Internacional del Flamenco el 16 de noviembre. El Ciclo de Baile Flamenco Ciudad de Zaragoza se desarrollará los fines de semana del mes de noviembre. \nLas entradas para las actuaciones se pueden comprar en la plataforma entradium.com al precio de 12€ y desde una hora antes en el propio centro donde se realice la actuación. También está disponible un abono para las cuatro actuaciones al precio de 37€. La inscripción a las actividades se realizarán en las escuelas\, la casa de Andalucía de Zaragoza o a través de la dirección de email infoflamencozaragoza@gmail.com. \nCiclo de Baile Blamenco Ciudad de Zaragoza\n\nSábado 6 de noviembre\, 19:00 h. Daniel Navarro. C.C. Estación del Norte.\nSábado 13 de noviembre\, 19:00 h. Fuensanta La Moneta. C.C. Estación del Norte.\nSábado 20 de noviembre\, 19:00 h. Pedro Córdoba. C.C. Almozara.\nSábado 27 de noviembre\, 19:00 h. Macarena Ramírez. C.C. Estación del Norte
URL:https://zaragenda.com/evento-zaragoza/ciclo-de-baile-flamenco-de-zaragoza-4/
LOCATION:Centro Cívico Estación del Norte\, Perdiguera\, 7\, Zaragoza\, Zaragoza\, España
CATEGORIES:Espectáculos
ATTACH;FMTTYPE=image/jpeg:https://zaragenda.com/wp-content/uploads/2021/11/ciclo_baile_flamenco_ciudad_zaragoza_programa-1FkDZL.tmp_.jpg
GEO:41.6601041;-0.871759
X-APPLE-STRUCTURED-LOCATION;VALUE=URI;X-ADDRESS=Centro Cívico Estación del Norte Perdiguera 7 Zaragoza Zaragoza España;X-APPLE-RADIUS=500;X-TITLE=Perdiguera\, 7:geo:-0.871759,41.6601041
END:VEVENT
BEGIN:VEVENT
DTSTART;TZID=Europe/Madrid:20211121T180000
DTEND;TZID=Europe/Madrid:20211121T190000
DTSTAMP:20260421T174423
CREATED:20211118T083329Z
LAST-MODIFIED:20230208T161329Z
UID:10004505-1637517600-1637521200@zaragenda.com
SUMMARY:Adragón\, tierra de leyenda
DESCRIPTION:El reyno de Adragón pasa por tiempos convulsos\, han llegado al poder los Grandes Señores llenos de ambición. Jota y Pe\, dos jóvenes guerreros de Zaragusta\, custodian secretos dentro de secretos\, a la vez que buscan la pasión de la vida a través de la aventura y el AMOR. \nMientras espera noticias de su amante en el pozo de San Lázaro\, Ara\, un ser fantástico y algo cotilla\, hará de improvisada Celestina. Un flemático correo será el enlace e hilo conductor en una búsqueda envenenada por los territorios de ADRAGÓN. \nMúsica en directo con las más famosas romanzas y dúos de zarzuela aragonesa\, y alguna jota!!!. Una loca y muy divertida interpretación de los orígenes de una leyenda. Un paseo escénico por el patrimonio invisible y efímero de nuestra querida TIERRA. \n************************************************************ \nLas leyendas que nos llegan a través del tiempo\, tuvieron unos PROTAGONISTAS reales. A partir de ellos construimos nuestro imaginario colectivo. \nY aunque en Occidente los DRAGONES quedaron como representantes del mal\, en algún momento sus orgullosas cabezas lucieron en ARAGÓN como cimeras de reyes\, y fueron señal de dignidad REAL. En Oriente siguen siendo baluarte de SABIDURÍA. \nGUERREROS y dragones con música en directo de las ZARZUELAS más famosas de temática ARAGONESA. Piano y tres voces líricas para encantar a todos los públicos! \nSELECCIÓN MUSICAL => Zarzuela * intérpretes * obra\nLa Dolores * Soprano\, mezzo y tenor “Grande como el mismo sol”\nGigantes y cabezudos * Mezzo “¡Esta en su carta!”\nGigantes y cabezudos * Mezzo y soprano “Si las mujeres mandasen”.\nLos de Aragón * Tenor “Los de Aragón”\nLos de Aragón * Mezzo “Palomica aragonesa”\nLa Dolorosa * Mezzo y tenor “Dejame besar tu mano generosa”\nLa Dolorosa * Tenor “La roca fria del calvario”\nLa Dolorosa * Soprano y tenor “Tú verás cuando me ponga..”\nJota * Soprano «S’ha feito de nuei»\nJota * Soprano «Que la fiera ya murió» \nDuración : 60 minutos aprox\nTODOS PÚBLICOS (niños a partir 6 años) \nDomingo 21 de noviembre a las 12 h. y 18 h. \nC.C. Estación del Norte. \nEntrada 7€. Reservas en mikropera@hotmail.com y en taquilla desde una hora antes de cada función.
URL:https://zaragenda.com/evento-zaragoza/adragon-tierra-de-leyenda-2/2021-11-21/2/
LOCATION:Centro Cívico Estación del Norte\, Perdiguera\, 7\, Zaragoza\, Zaragoza\, España
CATEGORIES:Espectáculos
ATTACH;FMTTYPE=image/png:https://zaragenda.com/wp-content/uploads/2021/11/adragon-Sc30k6.tmp_.png
GEO:41.6601041;-0.871759
X-APPLE-STRUCTURED-LOCATION;VALUE=URI;X-ADDRESS=Centro Cívico Estación del Norte Perdiguera 7 Zaragoza Zaragoza España;X-APPLE-RADIUS=500;X-TITLE=Perdiguera\, 7:geo:-0.871759,41.6601041
END:VEVENT
BEGIN:VEVENT
DTSTART;TZID=Europe/Madrid:20211113T190000
DTEND;TZID=Europe/Madrid:20211113T200000
DTSTAMP:20260421T174423
CREATED:20211103T091506Z
LAST-MODIFIED:20230208T160436Z
UID:10004414-1636830000-1636833600@zaragenda.com
SUMMARY:Ciclo de Baile Flamenco de Zaragoza
DESCRIPTION:La plataforma Flamenco Zaragoza pone en marcha un ciclo flamenco que lleva el nombre Ciclo de Baile Flamenco Ciudad de Zaragoza\, con motivo de la celebración del Día Internacional del Flamenco el 16 de noviembre. El Ciclo de Baile Flamenco Ciudad de Zaragoza se desarrollará los fines de semana del mes de noviembre. \nLas entradas para las actuaciones se pueden comprar en la plataforma entradium.com al precio de 12€ y desde una hora antes en el propio centro donde se realice la actuación. También está disponible un abono para las cuatro actuaciones al precio de 37€. La inscripción a las actividades se realizarán en las escuelas\, la casa de Andalucía de Zaragoza o a través de la dirección de email infoflamencozaragoza@gmail.com. \nCiclo de Baile Blamenco Ciudad de Zaragoza\n\nSábado 6 de noviembre\, 19:00 h. Daniel Navarro. C.C. Estación del Norte.\nSábado 13 de noviembre\, 19:00 h. Fuensanta La Moneta. C.C. Estación del Norte.\nSábado 20 de noviembre\, 19:00 h. Pedro Córdoba. C.C. Almozara.\nSábado 27 de noviembre\, 19:00 h. Macarena Ramírez. C.C. Estación del Norte
URL:https://zaragenda.com/evento-zaragoza/ciclo-de-baile-flamenco-de-zaragoza-2/
LOCATION:Centro Cívico Estación del Norte\, Perdiguera\, 7\, Zaragoza\, Zaragoza\, España
CATEGORIES:Espectáculos
ATTACH;FMTTYPE=image/jpeg:https://zaragenda.com/wp-content/uploads/2021/11/ciclo_baile_flamenco_ciudad_zaragoza_programa-1FkDZL.tmp_.jpg
GEO:41.6601041;-0.871759
X-APPLE-STRUCTURED-LOCATION;VALUE=URI;X-ADDRESS=Centro Cívico Estación del Norte Perdiguera 7 Zaragoza Zaragoza España;X-APPLE-RADIUS=500;X-TITLE=Perdiguera\, 7:geo:-0.871759,41.6601041
END:VEVENT
BEGIN:VEVENT
DTSTART;TZID=Europe/Madrid:20211106T190000
DTEND;TZID=Europe/Madrid:20211106T200000
DTSTAMP:20260421T174423
CREATED:20211103T091335Z
LAST-MODIFIED:20230208T160439Z
UID:10004408-1636225200-1636228800@zaragenda.com
SUMMARY:Ciclo de Baile Flamenco de Zaragoza
DESCRIPTION:La plataforma Flamenco Zaragoza pone en marcha un ciclo flamenco que lleva el nombre Ciclo de Baile Flamenco Ciudad de Zaragoza\, con motivo de la celebración del Día Internacional del Flamenco el 16 de noviembre. El Ciclo de Baile Flamenco Ciudad de Zaragoza se desarrollará los fines de semana del mes de noviembre. \nLas entradas para las actuaciones se pueden comprar en la plataforma entradium.com al precio de 12€ y desde una hora antes en el propio centro donde se realice la actuación. También está disponible un abono para las cuatro actuaciones al precio de 37€. La inscripción a las actividades se realizarán en las escuelas\, la casa de Andalucía de Zaragoza o a través de la dirección de email infoflamencozaragoza@gmail.com. \nCiclo de Baile Blamenco Ciudad de Zaragoza\n\nSábado 6 de noviembre\, 19:00 h. Daniel Navarro. C.C. Estación del Norte.\nSábado 13 de noviembre\, 19:00 h. Fuensanta La Moneta. C.C. Estación del Norte.\nSábado 20 de noviembre\, 19:00 h. Pedro Córdoba. C.C. Almozara.\nSábado 27 de noviembre\, 19:00 h. Macarena Ramírez. C.C. Estación del Norte
URL:https://zaragenda.com/evento-zaragoza/ciclo-de-baile-flamenco-de-zaragoza/
LOCATION:Centro Cívico Estación del Norte\, Perdiguera\, 7\, Zaragoza\, Zaragoza\, España
CATEGORIES:Espectáculos
ATTACH;FMTTYPE=image/jpeg:https://zaragenda.com/wp-content/uploads/2021/11/ciclo_baile_flamenco_ciudad_zaragoza_programa-1FkDZL.tmp_.jpg
GEO:41.6601041;-0.871759
X-APPLE-STRUCTURED-LOCATION;VALUE=URI;X-ADDRESS=Centro Cívico Estación del Norte Perdiguera 7 Zaragoza Zaragoza España;X-APPLE-RADIUS=500;X-TITLE=Perdiguera\, 7:geo:-0.871759,41.6601041
END:VEVENT
BEGIN:VEVENT
DTSTART;TZID=Europe/Madrid:20211028T174500
DTEND;TZID=Europe/Madrid:20211030T190000
DTSTAMP:20260421T174423
CREATED:20211026T074058Z
LAST-MODIFIED:20230208T155938Z
UID:10004221-1635443100-1635620400@zaragenda.com
SUMMARY:La noche de las ánimas en el Barrio Jesús
DESCRIPTION:Desde la Asociación de Vecinos\, junto con las AMPAS del CEIP Hilarión Gimeno y del CEIP Marie Curie\, y ante la imposibilidad de realizar el pasacalles de la Noche de las Ánimas 2021 por las calles de nuestro Barrio\, y que estaba previsto para la noche del 31 de Octubre\, debido a la covid-19\, van a realizar un cuenta cuentos ambientado en la noche de ánimas. \nDebido a la situación actual\, ante la imposibilidad de garantizar el distanciamiento social\, ya que en este tipo de actos la cercanía física entre los participantes es inevitable\, y por responsabilidad ante el estado de la pandemia en el que nos encontramos\, desde la organización hemos decidido volver a suspender el tradicional pasacalles que veníamos realizando en años anteriores a la pandemia\, pero este año\, no nos resistimos a celebrarlo.que el acto que celebraremos el próximo 28 de Octubre a las 17:45 en el Centro Cívico Estación del Norte. \nNoche de las Ánimas 2021 en el Barrio Jesús\nPor ello vamos a realizar un cuenta cuentos «Brujas concieteras\, Ogros catatiqueros y Lobos cacoleros«\, a cargo de Lü de Lürdes y ambientado en la noche de las ánimas\, para que los más pequeños sigan celebrando ésta noche tan especial. \nEl acto de la Noche de las Ánimas 2021\, lo realizaremos en el Centro Cívico Estación del Norte a las 17:45 horas el Jueves 28 de Octubre\, y va dirigido para niños a partir de 6 años\, en el cual y debido al aforo permitido\, únicamente se permitirá la entrada previa obtención de invitación. \nEl número de entradas son limitadas por el aforo del salón de actos del Centro Cívico Estación del Norte\, para lo cual podréis realizar la solicitud a través del siguiente formulario\, las cuales se entregaran por riguroso orden de solicitud.
URL:https://zaragenda.com/evento-zaragoza/la-noche-de-las-animas-en-el-barrio-jesus/
LOCATION:Centro Cívico Estación del Norte\, Perdiguera\, 7\, Zaragoza\, Zaragoza\, España
CATEGORIES:encuentros,Halloween,Infantil
ATTACH;FMTTYPE=image/jpeg:https://zaragenda.com/wp-content/uploads/2021/10/noche_animas_barrio_jesus_2021-3TheFY.tmp_.jpg
GEO:41.6601041;-0.871759
X-APPLE-STRUCTURED-LOCATION;VALUE=URI;X-ADDRESS=Centro Cívico Estación del Norte Perdiguera 7 Zaragoza Zaragoza España;X-APPLE-RADIUS=500;X-TITLE=Perdiguera\, 7:geo:-0.871759,41.6601041
END:VEVENT
BEGIN:VEVENT
DTSTART;TZID=Europe/Madrid:20211023T100000
DTEND;TZID=Europe/Madrid:20211023T133000
DTSTAMP:20260421T174423
CREATED:20211023T081039Z
LAST-MODIFIED:20230208T155420Z
UID:10004160-1634983200-1634995800@zaragenda.com
SUMMARY:La Linterna Mágica – CC Estación del Norte
DESCRIPTION:Los horarios de la Linterna Mágica son un sábado al mes de octubre a junio\, siempre por las mañanas\, las sesiones se desdoblan y habrá doble cita a las 10:00 h. y 12:00 h. En esta edición los socios tendrán tres sedes para elegir: el Centro Cívico Río Ebro del Actur\, el Centro Cívico Estación del Norte (Arrabal) o el Centro Cívico Sánchez Punter (San José). Cada año la Pai propone un nuevo programa de películas que enseñan lo mejor del cine en toda su diversidad\, ofreciendo también una educación en la imagen de gran calidad. Cada película se introduce con un pequeño espectáculo\, que facilita la comprensión de la obra. Además\, la promotora envía una revista digital a las familias sobre la película para leerla en casa. \nFechas La Linterna Mágica en Zaragoza 2021- 2022\n\nC.C. ESTACIÓN DEL NORTE\nCalle Perdiguera\, 7\n50014 Zaragoza \n\nsábados\, 10 y 12 horas\n\n23 octubre\n20 noviembre\n18 diciembre\n22 enero\n19 febrero\n19 marzo\n09 abril\n14 mayo\n11 junio
URL:https://zaragenda.com/evento-zaragoza/la-linterna-magica-cc-estacion-del-norte/
LOCATION:Centro Cívico Estación del Norte\, Perdiguera\, 7\, Zaragoza\, Zaragoza\, España
CATEGORIES:Cine,Infantil
ATTACH;FMTTYPE=image/jpeg:https://zaragenda.com/wp-content/uploads/2021/10/zaragozala_la_linterna_magica-D5wYZv.tmp_.jpg
GEO:41.6601041;-0.871759
X-APPLE-STRUCTURED-LOCATION;VALUE=URI;X-ADDRESS=Centro Cívico Estación del Norte Perdiguera 7 Zaragoza Zaragoza España;X-APPLE-RADIUS=500;X-TITLE=Perdiguera\, 7:geo:-0.871759,41.6601041
END:VEVENT
END:VCALENDAR