BEGIN:VCALENDAR
VERSION:2.0
PRODID:-//ZARAGENDA - Agenda Zaragoza de ocio y eventos - ECPv6.15.16//NONSGML v1.0//EN
CALSCALE:GREGORIAN
METHOD:PUBLISH
X-WR-CALNAME:ZARAGENDA - Agenda Zaragoza de ocio y eventos
X-ORIGINAL-URL:https://zaragenda.com
X-WR-CALDESC:Eventos para ZARAGENDA - Agenda Zaragoza de ocio y eventos
REFRESH-INTERVAL;VALUE=DURATION:PT1H
X-Robots-Tag:noindex
X-PUBLISHED-TTL:PT1H
BEGIN:VTIMEZONE
TZID:Europe/Madrid
BEGIN:DAYLIGHT
TZOFFSETFROM:+0100
TZOFFSETTO:+0200
TZNAME:CEST
DTSTART:20200329T010000
END:DAYLIGHT
BEGIN:STANDARD
TZOFFSETFROM:+0200
TZOFFSETTO:+0100
TZNAME:CET
DTSTART:20201025T010000
END:STANDARD
BEGIN:DAYLIGHT
TZOFFSETFROM:+0100
TZOFFSETTO:+0200
TZNAME:CEST
DTSTART:20210328T010000
END:DAYLIGHT
BEGIN:STANDARD
TZOFFSETFROM:+0200
TZOFFSETTO:+0100
TZNAME:CET
DTSTART:20211031T010000
END:STANDARD
BEGIN:DAYLIGHT
TZOFFSETFROM:+0100
TZOFFSETTO:+0200
TZNAME:CEST
DTSTART:20220327T010000
END:DAYLIGHT
BEGIN:STANDARD
TZOFFSETFROM:+0200
TZOFFSETTO:+0100
TZNAME:CET
DTSTART:20221030T010000
END:STANDARD
BEGIN:DAYLIGHT
TZOFFSETFROM:+0100
TZOFFSETTO:+0200
TZNAME:CEST
DTSTART:20230326T010000
END:DAYLIGHT
BEGIN:STANDARD
TZOFFSETFROM:+0200
TZOFFSETTO:+0100
TZNAME:CET
DTSTART:20231029T010000
END:STANDARD
BEGIN:DAYLIGHT
TZOFFSETFROM:+0100
TZOFFSETTO:+0200
TZNAME:CEST
DTSTART:20240331T010000
END:DAYLIGHT
BEGIN:STANDARD
TZOFFSETFROM:+0200
TZOFFSETTO:+0100
TZNAME:CET
DTSTART:20241027T010000
END:STANDARD
BEGIN:DAYLIGHT
TZOFFSETFROM:+0100
TZOFFSETTO:+0200
TZNAME:CEST
DTSTART:20250330T010000
END:DAYLIGHT
BEGIN:STANDARD
TZOFFSETFROM:+0200
TZOFFSETTO:+0100
TZNAME:CET
DTSTART:20251026T010000
END:STANDARD
END:VTIMEZONE
BEGIN:VEVENT
DTSTART;TZID=Europe/Madrid:20240927T200000
DTEND;TZID=Europe/Madrid:20240927T200000
DTSTAMP:20260420T181052
CREATED:20240516T103621Z
LAST-MODIFIED:20240516T103621Z
UID:10008687-1727467200-1727467200@zaragenda.com
SUMMARY:Cuentitis Aguda. MarzoMayea Teatro
DESCRIPTION:Cuentacuentos con títeres. \nUn cariñoso diálogo entre un nieto y su abuela. Un amalgama de sensaciones y momentos compartidos coloreados por el olor a galleta de canela\, a leña quemada\, a tierra mojada y a miel. \nMirada al recuerdo a través de pequeñas historias con la participación del público. Un recuerdo cantado y contado con la admiración\, el humor y el respeto de una relación tan pasada como necesaria. Un guiño a una época\, o a cualquier tiempo pasado marcado por el humor transmitiendo valores de igualdad\, perseverancia\, libertad y humor.
URL:https://zaragenda.com/evento-zaragoza/cuentitis-aguda-marzomayea-teatro/
LOCATION:Centro Cívico Torrero\, Calle Monzón\, 3\, Zaragoza\, Zaragoza\, 50007\, España
CATEGORIES:Cuentacuentos,Espectáculos,Familiar,Niños,Ocio,Ocio y tiempo libre
ATTACH;FMTTYPE=image/png:https://zaragenda.com/wp-content/uploads/2024/05/cuentitis-aguda-marzomayea-teatro.png
GEO:41.629474;-0.8833915
X-APPLE-STRUCTURED-LOCATION;VALUE=URI;X-ADDRESS=Centro Cívico Torrero Calle Monzón 3 Zaragoza Zaragoza 50007 España;X-APPLE-RADIUS=500;X-TITLE=Calle Monzón\, 3:geo:-0.8833915,41.629474
END:VEVENT
BEGIN:VEVENT
DTSTART;TZID=Europe/Madrid:20240502T190000
DTEND;TZID=Europe/Madrid:20240502T190000
DTSTAMP:20260420T181052
CREATED:20240411T101808Z
LAST-MODIFIED:20240411T101808Z
UID:10008418-1714676400-1714676400@zaragenda.com
SUMMARY:Semana de las Letras - Club de lectura Calpurnia. El pez dorado
DESCRIPTION:El pez dorado\, de Jean-Marie Gustave Le Clézio (Premio Nobel de Literatura) \nCalpurnia es el club de lectura de la Zona Joven Torrero. Un espacio donde leer otras realidades de nuestro mundo\, intercambiar ideas y enriquecernos con ellas. \nEn esta sesión especial dedicada al viaje\, queremos invitar a todas las personas de cualquier edad a debatir sobre El pez dorado\, la historia del periplo vital de Laila\, una niña marroquí que se ve obligada a huir a París. Rodeada de personajes variopintos\, encuentra en la literatura su tabla de salvación\, y en la música la vuelta a sus raíces. \nModera: Carolina Iglesias (Filóloga y periodista) \nEntrada libre hasta completar aforo.
URL:https://zaragenda.com/evento-zaragoza/semana-de-las-letras-club-de-lectura-calpurnia-el-pez-dorado/
LOCATION:Centro Cívico Torrero\, Calle Monzón\, 3\, Zaragoza\, Zaragoza\, 50007\, España
CATEGORIES:Actividades,cultura,Libros
ATTACH;FMTTYPE=image/png:https://zaragenda.com/wp-content/uploads/2024/04/semana-de-las-letras.png
GEO:41.629474;-0.8833915
X-APPLE-STRUCTURED-LOCATION;VALUE=URI;X-ADDRESS=Centro Cívico Torrero Calle Monzón 3 Zaragoza Zaragoza 50007 España;X-APPLE-RADIUS=500;X-TITLE=Calle Monzón\, 3:geo:-0.8833915,41.629474
END:VEVENT
BEGIN:VEVENT
DTSTART;TZID=Europe/Madrid:20240429T180000
DTEND;TZID=Europe/Madrid:20240429T180000
DTSTAMP:20260420T181052
CREATED:20240411T100808Z
LAST-MODIFIED:20240411T100808Z
UID:10008415-1714413600-1714413600@zaragenda.com
SUMMARY:Semana de las Letras - Viaje a la isla de las canciones
DESCRIPTION:Actividad organizada por la Escuela Infantil Parque Venecia. \nMicro-pequeteatro sencillo con muchas canciones tradicionales\, juegos de dedos o rimas para niños y niñas de 0 a 3 años y sus acompañantes. \nInvitaciones desde una hora antes en el centro cívico.
URL:https://zaragenda.com/evento-zaragoza/semana-de-las-letras-viaje-a-la-isla-de-las-canciones/
LOCATION:Centro Cívico Torrero\, Calle Monzón\, 3\, Zaragoza\, Zaragoza\, 50007\, España
CATEGORIES:Actividades,cultura
ATTACH;FMTTYPE=image/png:https://zaragenda.com/wp-content/uploads/2024/04/semana-de-las-letras.png
GEO:41.629474;-0.8833915
X-APPLE-STRUCTURED-LOCATION;VALUE=URI;X-ADDRESS=Centro Cívico Torrero Calle Monzón 3 Zaragoza Zaragoza 50007 España;X-APPLE-RADIUS=500;X-TITLE=Calle Monzón\, 3:geo:-0.8833915,41.629474
END:VEVENT
BEGIN:VEVENT
DTSTART;TZID=Europe/Madrid:20240427T130000
DTEND;TZID=Europe/Madrid:20240427T130000
DTSTAMP:20260420T181052
CREATED:20240411T100403Z
LAST-MODIFIED:20240411T100403Z
UID:10008413-1714222800-1714222800@zaragenda.com
SUMMARY:Semana de las Letras - Taller Cuaderno de viaje. Arantxa Urdaniz
DESCRIPTION:En el taller se explicará qué es un cuaderno de viaje\, cuál es su contenido\, cómo se organiza y materiales que se emplean. A continuación habrá una parte práctica en la que se realizará una lámina. \nMayores de 16 años. Hay que llevar material de dibujo y/o acuarela y papel adecuado DIN A4/A5.
URL:https://zaragenda.com/evento-zaragoza/semana-de-las-letras-taller-cuaderno-de-viaje-arantxa-urdaniz/
LOCATION:Centro Cívico Torrero\, Calle Monzón\, 3\, Zaragoza\, Zaragoza\, 50007\, España
CATEGORIES:Actividades,cultura,Ocio,Taller
ATTACH;FMTTYPE=image/png:https://zaragenda.com/wp-content/uploads/2024/04/semana-de-las-letras.png
GEO:41.629474;-0.8833915
X-APPLE-STRUCTURED-LOCATION;VALUE=URI;X-ADDRESS=Centro Cívico Torrero Calle Monzón 3 Zaragoza Zaragoza 50007 España;X-APPLE-RADIUS=500;X-TITLE=Calle Monzón\, 3:geo:-0.8833915,41.629474
END:VEVENT
BEGIN:VEVENT
DTSTART;TZID=Europe/Madrid:20240424T193000
DTEND;TZID=Europe/Madrid:20240424T193000
DTSTAMP:20260420T181052
CREATED:20240411T095226Z
LAST-MODIFIED:20240411T095226Z
UID:10008409-1713987000-1713987000@zaragenda.com
SUMMARY:Inauguración de la XXI Semana de las Letras y mesa redonda El viaje y la literatura
DESCRIPTION:Inauguración de la XXI Semana de las Letras de Torrero por Jesús Domínguez (Presidente de la Junta Municipal Torrero). A continuación se realizara la mesa redonda El viaje y la literatura. \nIntervienen Miguel Mena\, Beatriz Pitarch y Fernando Sanmartín y modera Eva Cosculluela\, gestora cultural.
URL:https://zaragenda.com/evento-zaragoza/inauguracion-de-la-xxi-semana-de-las-letras-y-mesa-redonda-el-viaje-y-la-literatura/
LOCATION:Centro Cívico Torrero\, Calle Monzón\, 3\, Zaragoza\, Zaragoza\, 50007\, España
CATEGORIES:cultura
ATTACH;FMTTYPE=image/png:https://zaragenda.com/wp-content/uploads/2024/04/semana-de-las-letras.png
GEO:41.629474;-0.8833915
X-APPLE-STRUCTURED-LOCATION;VALUE=URI;X-ADDRESS=Centro Cívico Torrero Calle Monzón 3 Zaragoza Zaragoza 50007 España;X-APPLE-RADIUS=500;X-TITLE=Calle Monzón\, 3:geo:-0.8833915,41.629474
END:VEVENT
BEGIN:VEVENT
DTSTART;VALUE=DATE:20240420
DTEND;VALUE=DATE:20240503
DTSTAMP:20260420T181052
CREATED:20240411T094856Z
LAST-MODIFIED:20240411T095013Z
UID:10008408-1713571200-1714694399@zaragenda.com
SUMMARY:Semana de las Letras - El Principito\, un viaje en distintas lenguas
DESCRIPTION:Exposición de ejemplares de El Principito en distintas lenguas y versiones cedidos por Jorge Alquézar. \n\nLunes de 08:30 – 21:30 h.\nMartes de 08:30 – 21:30 h.\nMiércoles de 08:30 – 21:30 h.\nJueves de 08:30 – 21:30 h.\nViernes de 08:30 – 21:30 h.\nSábado de 09:30 – 20:30 h.\nDomingo de 09:30 – 20:30 h.
URL:https://zaragenda.com/evento-zaragoza/semana-de-las-letras-el-principito-un-viaje-en-distintas-lenguas/
LOCATION:Centro Cívico Torrero\, Calle Monzón\, 3\, Zaragoza\, Zaragoza\, 50007\, España
CATEGORIES:cultura,Exposiciones
ATTACH;FMTTYPE=image/png:https://zaragenda.com/wp-content/uploads/2024/04/semana-de-las-letras.png
GEO:41.629474;-0.8833915
X-APPLE-STRUCTURED-LOCATION;VALUE=URI;X-ADDRESS=Centro Cívico Torrero Calle Monzón 3 Zaragoza Zaragoza 50007 España;X-APPLE-RADIUS=500;X-TITLE=Calle Monzón\, 3:geo:-0.8833915,41.629474
END:VEVENT
BEGIN:VEVENT
DTSTART;TZID=Europe/Madrid:20221127T180000
DTEND;TZID=Europe/Madrid:20221127T180000
DTSTAMP:20260420T181052
CREATED:20221128T175614Z
LAST-MODIFIED:20221128T175614Z
UID:10006148-1669572000-1669572000@zaragenda.com
SUMMARY:“Ellas también cuentan”  Un taller de teatro para mujeres mayores de 60 años
DESCRIPTION:Gracias a una subvención recibida de la Sociedad Municipal de Zaragoza Cultural\, Biribú Teatro lleva a cabo el proyecto “Ellas también cuentan”. Un taller de teatro dirigido a mujeres mayores de sesenta años\, donde poner en valor sus propias historias. \nComo actividad financiada por las ayudas de la Sociedad Municipal de Zaragoza Cultural\, Biribú Teatro puso en marcha el pasado Octubre un taller en colaboración con el Centro Cívico Torrero\, desarrollado en diez sesiones que culmina el próximo Domingo 27 con una muestra en la sala Venecia. \nEl proyecto nace con el objetivo de desarrollar un proceso de creación artística colaborativa con mujeres que visibilice su papel en la sociedad y contribuya a su empoderamiento a través de la cultura y el arte\, a la vez que profundizamos en las historias de otras mujeres injustamente silenciadas como las Sinsombrero\,\nartistas femeninas de la generación del 27. \nEn la muestra final\, las 8 mujeres participantes del taller nos hablarán desde un código teatral de sus propias historias personales\, a la vez que ponen voz a algunas de Las Sinsombrero\, como Maruja Mallo\, Concha Méndez o María Teresa León. \nEl taller\, que ha tenido lugar Lunes y Miércoles desde mitad de Octubre hasta final de Noviembre\, culmina con una muestra final el próximo Domingo 27 de Noviembre en la Sala Venecia a las 18h. y un próximo documental y encuentro intergeneracional\, con fechas a determinar. La entrada a la muestra final será gratuita para el público
URL:https://zaragenda.com/evento-zaragoza/ellas-tambien-cuentan-un-taller-de-teatro-para-mujeres-mayores-de-60-anos/
LOCATION:Centro Cívico Torrero\, Calle Monzón\, 3\, Zaragoza\, Zaragoza\, 50007\, España
ATTACH;FMTTYPE=image/jpeg:https://zaragenda.com/wp-content/uploads/2022/11/Cartel-muestra-Ellas-tambien-cuentan-xFfCOJ.tmp_.jpg
GEO:41.629474;-0.8833915
X-APPLE-STRUCTURED-LOCATION;VALUE=URI;X-ADDRESS=Centro Cívico Torrero Calle Monzón 3 Zaragoza Zaragoza 50007 España;X-APPLE-RADIUS=500;X-TITLE=Calle Monzón\, 3:geo:-0.8833915,41.629474
END:VEVENT
BEGIN:VEVENT
DTSTART;TZID=Europe/Madrid:20210526T180000
DTEND;TZID=Europe/Madrid:20210526T180000
DTSTAMP:20260420T181052
CREATED:20210428T122647Z
LAST-MODIFIED:20230208T134558Z
UID:10002313-1622052000-1622052000@zaragenda.com
SUMMARY:Taller literario. OLGA BERNAD: La música escondida. Patrones de ritmo
DESCRIPTION:El taller girará sobre el entendimiento y la experimentación del ritmo versal\, con aplicaciones tanto en la poesía como en la prosa. Además de tratar los conceptos básicos de la versificación (rima\, ritmo\, versos de arte mayor y arte menor\, acentuación\, diferentes estrofas…)\, se practicará la dicción del verso. \nOlga Bernad es licenciada en Filología Hispánica. Ha publicado los poemarios Perros de noviembre (2016)\, El mar del otro lado (2012)\, Nostalgia armada (2011) y Caricias Perplejas (2009) con Ediciones de la Isla de Siltolá; las novelas El buen amor (Nuevos Rumbos\, 2013) y Andábata (Paréntesis\, 2010); y el libro de relatos El polvo nihilista (Los Libros del Gato Negro\, 2019). Actualmente escribe una columna semanal en El Periódico de Aragón. \nInscripción\nEmail: civicotorrero@zaragoza.es\n20 al 25 de mayo \nMás información en www.zaragoza.es
URL:https://zaragenda.com/evento-zaragoza/taller-literario-olga-bernad-la-musica-escondida-patrones-de-ritmo/
LOCATION:Centro Cívico Torrero\, Calle Monzón\, 3\, Zaragoza\, Zaragoza\, 50007\, España
CATEGORIES:Talleres
ATTACH;FMTTYPE=image/png:https://zaragenda.com/wp-content/uploads/2021/04/entreletras_banner_640x960.png
ORGANIZER;CN="Centro C%C3%ADvico Torrero":MAILTO:civicotorrero@zaragoza.es
GEO:41.629474;-0.8833915
X-APPLE-STRUCTURED-LOCATION;VALUE=URI;X-ADDRESS=Centro Cívico Torrero Calle Monzón 3 Zaragoza Zaragoza 50007 España;X-APPLE-RADIUS=500;X-TITLE=Calle Monzón\, 3:geo:-0.8833915,41.629474
END:VEVENT
BEGIN:VEVENT
DTSTART;TZID=Europe/Madrid:20210519T180000
DTEND;TZID=Europe/Madrid:20210519T180000
DTSTAMP:20260420T181052
CREATED:20210428T122340Z
LAST-MODIFIED:20230208T134600Z
UID:10002312-1621447200-1621447200@zaragenda.com
SUMMARY:Taller literario. JESÚS ARBUÉS: Del papel a las tablas
DESCRIPTION:Desde la experiencia en la escritura y la dirección teatral se abordarán los siguientes asuntos: ¿Qué es lo específico de la escritura teatral? ¿Cuáles son las diferencias con la narrativa? ¿Cómo escribir un texto para ser dicho por un personaje y no leído en la intimidad? ¿Cómo trabajar lo que ¿no se dice¿ sobre el escenario? ¿Y la poesía? ¿Y la retórica? ¿Cómo trabajar desde un texto narrativo y llevarlo a la escena? ¿Y desde un hecho real? \nJesús Arbués es titulado superior en Arte Dramático por el Institut del Teatre de Barcelona. Como director y/o autor ha superado los cuarenta espectáculos profesionales realizados en más de quince países. En su trayectoria reciente podemos resaltar Ligeros de equipaje\, Amor oscuro y Momo (candidatas a los Premios Max). Ha elaborado también espectáculos para grandes eventos y ha colaborado en cine. \nInscripción\nEmail: civicotorrero@zaragoza.es\n13 al 18 de mayo \nMás información en www.zaragoza.es
URL:https://zaragenda.com/evento-zaragoza/taller-literario-jesus-arbues-del-papel-a-las-tablas/
LOCATION:Centro Cívico Torrero\, Calle Monzón\, 3\, Zaragoza\, Zaragoza\, 50007\, España
CATEGORIES:Talleres
ATTACH;FMTTYPE=image/png:https://zaragenda.com/wp-content/uploads/2021/04/entreletras_banner_640x960.png
ORGANIZER;CN="Centro C%C3%ADvico Torrero":MAILTO:civicotorrero@zaragoza.es
GEO:41.629474;-0.8833915
X-APPLE-STRUCTURED-LOCATION;VALUE=URI;X-ADDRESS=Centro Cívico Torrero Calle Monzón 3 Zaragoza Zaragoza 50007 España;X-APPLE-RADIUS=500;X-TITLE=Calle Monzón\, 3:geo:-0.8833915,41.629474
END:VEVENT
BEGIN:VEVENT
DTSTART;TZID=Europe/Madrid:20210512T180000
DTEND;TZID=Europe/Madrid:20210512T180000
DTSTAMP:20260420T181052
CREATED:20210428T121626Z
LAST-MODIFIED:20230208T134603Z
UID:10002310-1620842400-1620842400@zaragenda.com
SUMMARY:Taller literario. PILAR LAURA MATEO: Personajes y escenarios de novela negra: Una visión crítica de la sociedad.
DESCRIPTION:Igual que los cuentos de brujas\, monstruos y fantasmas brindan a los niños y niñas la posibilidad de vencer sus miedos\, el género negro nos permite explorar la propia zona de sombra a través de personajes con los que podemos identificarnos y empatizar. Hacerlos creíbles supone combinar en su perfil características como terquedad y vulnerabilidad. Estos atributos\, junto con unos ambientes y escenarios en consonancia\, constituyen el eje dialéctico del relato negro\, se aborde este desde la complejidad de la trama o desde la crítica social. \nPilar Laura Mateo es autora de numerosos artículos de prensa y revistas especializadas. Ha publicado relatos en diversas antologías. En su obra destacan La voz quebrada y otros cuentos (Mira\, 2005) y las novelas Agua entre los dedos (Prames\, 2010. Premio Nacional Ínsula del Ebro)\, Fuegos secretos (Mira\, 2008)\, Cortando el aire (Click-Planeta\, 2014) y Toda esa Luz (Mira\, 2020). Más información www.zaragoza.es \n Inscripción\nEmail: civicotorrero@zaragoza.es\n06 al 11 de mayo
URL:https://zaragenda.com/evento-zaragoza/taller-literario-pilar-laura-mateo-personajes-y-escenarios-de-novela-negra-una-vision-critica-de-la-sociedad/
LOCATION:Centro Cívico Torrero\, Calle Monzón\, 3\, Zaragoza\, Zaragoza\, 50007\, España
CATEGORIES:Talleres
ATTACH;FMTTYPE=image/png:https://zaragenda.com/wp-content/uploads/2021/04/entreletras_banner_640x960.png
ORGANIZER;CN="Centro C%C3%ADvico Torrero":MAILTO:civicotorrero@zaragoza.es
GEO:41.629474;-0.8833915
X-APPLE-STRUCTURED-LOCATION;VALUE=URI;X-ADDRESS=Centro Cívico Torrero Calle Monzón 3 Zaragoza Zaragoza 50007 España;X-APPLE-RADIUS=500;X-TITLE=Calle Monzón\, 3:geo:-0.8833915,41.629474
END:VEVENT
BEGIN:VEVENT
DTSTART;TZID=Europe/Madrid:20210505T180000
DTEND;TZID=Europe/Madrid:20210505T180000
DTSTAMP:20260420T181052
CREATED:20210428T121257Z
LAST-MODIFIED:20230208T134605Z
UID:10002309-1620237600-1620237600@zaragenda.com
SUMMARY:Taller literario. ALEJANDRO CORRAL: ¿Cómo escribir y publicar una primera novela?
DESCRIPTION:En este taller se trabajarán las técnicas fundamentales para escribir y publicar una primera novela. ¿Qué errores no debemos cometer? ¿Cómo construiremos nuestro relato? ¿Qué papel y lenguaje han de tener el narrador y los personajes? ¿Cuál es la fórmula adecuada para contar una historia? ¿Qué elemento diferenciador hará visible mi texto? \nAlejandro Corral publicó el thriller El cielo de Nueva York (Planeta\, 2015)\, y la novela histórica Batallador (Doce Robles\, 2018)\, con José Luis Corral. En el año en que se cumplían 500 años de la muerte de Leonardo da Vinci\, publicó El desafío de Florencia (Penguin Random House\, 2019)\, un retrato vivo y sorprendente de uno de los momentos culminantes de la Historia del Arte \nInscrpción en civicotorrero@zaragoza.es hasta el 4 de mayo.
URL:https://zaragenda.com/evento-zaragoza/taller-literario-alejandro-corral-como-escribir-y-publicar-una-primera-novela/
LOCATION:Centro Cívico Torrero\, Calle Monzón\, 3\, Zaragoza\, Zaragoza\, 50007\, España
CATEGORIES:Talleres
ATTACH;FMTTYPE=image/png:https://zaragenda.com/wp-content/uploads/2021/04/entreletras_banner_640x960.png
ORGANIZER;CN="Centro C%C3%ADvico Torrero":MAILTO:civicotorrero@zaragoza.es
GEO:41.629474;-0.8833915
X-APPLE-STRUCTURED-LOCATION;VALUE=URI;X-ADDRESS=Centro Cívico Torrero Calle Monzón 3 Zaragoza Zaragoza 50007 España;X-APPLE-RADIUS=500;X-TITLE=Calle Monzón\, 3:geo:-0.8833915,41.629474
END:VEVENT
END:VCALENDAR