BEGIN:VCALENDAR
VERSION:2.0
PRODID:-//ZARAGENDA - Agenda Zaragoza de ocio y eventos - ECPv6.15.16//NONSGML v1.0//EN
CALSCALE:GREGORIAN
METHOD:PUBLISH
X-WR-CALNAME:ZARAGENDA - Agenda Zaragoza de ocio y eventos
X-ORIGINAL-URL:https://zaragenda.com
X-WR-CALDESC:Eventos para ZARAGENDA - Agenda Zaragoza de ocio y eventos
REFRESH-INTERVAL;VALUE=DURATION:PT1H
X-Robots-Tag:noindex
X-PUBLISHED-TTL:PT1H
BEGIN:VTIMEZONE
TZID:Europe/Madrid
BEGIN:DAYLIGHT
TZOFFSETFROM:+0100
TZOFFSETTO:+0200
TZNAME:CEST
DTSTART:20200329T010000
END:DAYLIGHT
BEGIN:STANDARD
TZOFFSETFROM:+0200
TZOFFSETTO:+0100
TZNAME:CET
DTSTART:20201025T010000
END:STANDARD
BEGIN:DAYLIGHT
TZOFFSETFROM:+0100
TZOFFSETTO:+0200
TZNAME:CEST
DTSTART:20210328T010000
END:DAYLIGHT
BEGIN:STANDARD
TZOFFSETFROM:+0200
TZOFFSETTO:+0100
TZNAME:CET
DTSTART:20211031T010000
END:STANDARD
BEGIN:DAYLIGHT
TZOFFSETFROM:+0100
TZOFFSETTO:+0200
TZNAME:CEST
DTSTART:20220327T010000
END:DAYLIGHT
BEGIN:STANDARD
TZOFFSETFROM:+0200
TZOFFSETTO:+0100
TZNAME:CET
DTSTART:20221030T010000
END:STANDARD
END:VTIMEZONE
BEGIN:VEVENT
DTSTART;TZID=Europe/Madrid:20210904T100000
DTEND;TZID=Europe/Madrid:20210904T140000
DTSTAMP:20260420T183957
CREATED:20210831T120746Z
LAST-MODIFIED:20230208T143600Z
UID:10003145-1630749600-1630764000@zaragenda.com
SUMMARY:Encuentro entre asociaciones juveniles de Zaragoza (NODOS)
DESCRIPTION:El sábado día 4 de septiembre se ha organizado un encuentro (10h-14h) entre monitores y monitoras de las asociaciones juveniles de Zaragoza\, en el Centro de Servicios del Consejo de la Juventud de Zaragoza (C/ San Lorenzo\, 9). \nEn este encuentro se darán a conocer recursos de la ciudad interesantes para las asociaciones y recursos para trabajar los Objetivos de Desarrollo Sostenible de la Agenda 2030 de la ONU. Además\, las personas participantes podrán explicar el trabajo que realizan sus asociaciones juveniles y sus proyectos activos\, con el objetivo puesto en poder crear sinergias y alianzas entre asociaciones de cara a programar actividades conjuntas para el curso que viene. \nPara este encuentro se necesita la colaboración de 1 o 2 representantes de cada asociación. Podéis encontrar el formulario de inscripción al encuentro aquí: https://forms.gle/NWb8arv1yN2L6wqE8 \nPodéis encontrar más información en la página web (https://nodoszaragoza.wordpress.com/) o en la cuenta de Instagram (@nodoszgz)
URL:https://zaragenda.com/evento-zaragoza/encuentro-entre-asociaciones-juveniles-de-zaragoza-nodos/
LOCATION:Centro de Servicios para Asociaciones Juveniles\, C/ San Lorenzo\, 9 \, 4ª izda.. (Casco Histórico)\, Zaragoza\, Zaragoza\, España
CATEGORIES:encuentros,Medio Ambiente,Networking,Presentación,Solidaridad
ATTACH;FMTTYPE=image/png:https://zaragenda.com/wp-content/uploads/2021/08/NODOS-ENCUENTRO-ENTRE-ASOCIACIONES-JUVENILES-DE-ZARAGOZA.png
GEO:41.6527102;-0.8751464
X-APPLE-STRUCTURED-LOCATION;VALUE=URI;X-ADDRESS=Centro de Servicios para Asociaciones Juveniles C/ San Lorenzo 9  4ª izda.. (Casco Histórico) Zaragoza Zaragoza España;X-APPLE-RADIUS=500;X-TITLE=C/ San Lorenzo\, 9 \, 4ª izda.. (Casco Histórico):geo:-0.8751464,41.6527102
END:VEVENT
BEGIN:VEVENT
DTSTART;TZID=Europe/Madrid:20210529T100000
DTEND;TZID=Europe/Madrid:20210529T130000
DTSTAMP:20260420T183957
CREATED:20210409T091628Z
LAST-MODIFIED:20230208T131433Z
UID:10000777-1622282400-1622293200@zaragenda.com
SUMMARY:TU CORTO EN UN FINDE
DESCRIPTION:Aprende el proceso entero de realización de un cortometraje: guión\, rodaje\, edición. Comparte horas de rodaje con compañer@s y disfruta del resultado; un recuerdo imborrable\, para toda la vida… No es necesario material ni conocimientos previos para poder asistir. \n\nInscrpción: del lunes 26 de abril al 5 de mayo\nNúmero de plazas: 10\nDías 8\,15 y 29 de Mayo de 10 a 13h.\nDía 22 de Mayo de 10 a 19h
URL:https://zaragenda.com/evento-zaragoza/tu-corto-en-un-finde/2021-05-29/
LOCATION:Centro de Servicios para Asociaciones Juveniles\, C/ San Lorenzo\, 9 \, 4ª izda.. (Casco Histórico)\, Zaragoza\, Zaragoza\, España
CATEGORIES:Actividades
ATTACH;FMTTYPE=image/png:https://zaragenda.com/wp-content/uploads/2021/04/cartel12lunasprimavera2021final.png
GEO:41.6527102;-0.8751464
X-APPLE-STRUCTURED-LOCATION;VALUE=URI;X-ADDRESS=Centro de Servicios para Asociaciones Juveniles C/ San Lorenzo 9  4ª izda.. (Casco Histórico) Zaragoza Zaragoza España;X-APPLE-RADIUS=500;X-TITLE=C/ San Lorenzo\, 9 \, 4ª izda.. (Casco Histórico):geo:-0.8751464,41.6527102
END:VEVENT
END:VCALENDAR