BEGIN:VCALENDAR
VERSION:2.0
PRODID:-//ZARAGENDA - Agenda Zaragoza de ocio y eventos - ECPv6.15.16//NONSGML v1.0//EN
CALSCALE:GREGORIAN
METHOD:PUBLISH
X-ORIGINAL-URL:https://zaragenda.com
X-WR-CALDESC:Eventos para ZARAGENDA - Agenda Zaragoza de ocio y eventos
REFRESH-INTERVAL;VALUE=DURATION:PT1H
X-Robots-Tag:noindex
X-PUBLISHED-TTL:PT1H
BEGIN:VTIMEZONE
TZID:Europe/Madrid
BEGIN:DAYLIGHT
TZOFFSETFROM:+0100
TZOFFSETTO:+0200
TZNAME:CEST
DTSTART:20200329T010000
END:DAYLIGHT
BEGIN:STANDARD
TZOFFSETFROM:+0200
TZOFFSETTO:+0100
TZNAME:CET
DTSTART:20201025T010000
END:STANDARD
BEGIN:DAYLIGHT
TZOFFSETFROM:+0100
TZOFFSETTO:+0200
TZNAME:CEST
DTSTART:20210328T010000
END:DAYLIGHT
BEGIN:STANDARD
TZOFFSETFROM:+0200
TZOFFSETTO:+0100
TZNAME:CET
DTSTART:20211031T010000
END:STANDARD
BEGIN:DAYLIGHT
TZOFFSETFROM:+0100
TZOFFSETTO:+0200
TZNAME:CEST
DTSTART:20220327T010000
END:DAYLIGHT
BEGIN:STANDARD
TZOFFSETFROM:+0200
TZOFFSETTO:+0100
TZNAME:CET
DTSTART:20221030T010000
END:STANDARD
END:VTIMEZONE
BEGIN:VEVENT
DTSTART;VALUE=DATE:20210926
DTEND;VALUE=DATE:20211003
DTSTAMP:20260419T144253
CREATED:20210901T100512Z
LAST-MODIFIED:20230208T143837Z
UID:10003148-1632614400-1633219199@zaragenda.com
SUMMARY:Saraqusta Film Festival
DESCRIPTION:El Festival Internacional de Zaragoza de cine y series de Historia es un festival que aúna LARGOMETRAJES\, SERIES y DOCUMENTAL de corte histórico. Una propuesta especializada que pretende convertirse en referente del panorama de festivales nacionales e internaciones. \n \nSaraqusta Film Festival es un festival abierto a la ciudad y al público zaragozano\, a los que busca atraer a las salas de cine e involucrar en las diferentes actividades. La organización apuesta por un proyecto de ciudad\, que se conozca y sea vivido realmente por los zaragozanos.\n\nLas series y películas ambientadas en otras épocas cuentan habitualmente con actores conocidos\, por lo que se aspira a una “alfombra roja” atractiva con repercusión en medios. Además\, se otorgará un homenaje a una figura representativa de la producción audiovisual histórica con fuerte enganche popular.\nLas fechas son del 26 de septiembre al 2 de octubre para la edición de 2021. \nAdemás\, se realizarán actividades complementarias como mesas redondas\, encuentros entre profesionales\, actos para estudiantes\, presentaciones o talleres. Y se realizará un homenaje a una figura relevante del audiovisual histórico. \nEl plan de la semana consiste en 5 días de proyecciones. El domingo 26 de septiembre se celebrará un evento de presentación. El sábado se celebrará la entrega de premios y gala final con el homenajeado. \n\nActividades de mañana.\nSesión de 16:30: Proyección de DOCUMENTAL\nSesión de 19:00: Proyección de SERIE (el primer capítulo o los dos primeros)\nSesión de 21:30: Proyección de PELÍCULA\n\n\n\nPROGRAMACION SARAQUSTA FILM FESTIVAL\n\n\n\n\n\n\nDOMINGO 26\n\n\n\n\n\n\n\n\n\n\n\n\n19:00 ACTO DE CALLE // Lugar: Plaza del Pilar. \n20:30 GALA INAUGURAL Y PROYECCIÓN ESPECIAL ‘Buñuel\, un cineasta surrealista’ // Lugar: Cine Cervantes \n\n\n\n\n\n\n\n\n\n\n\n\nLUNES 27\n\n\n\n\n\n\n\n\n\n\n\n\n10:30 RUEDA DE PRENSA // Lugar: Museo del Teatro de Caesaraugusta \n12:00 MESA REDONDA ‘Rodar en la provincia y la ciudad de Zaragoza’ // Lugar: Museo del Teatro de Caesaraugusta (Acceso libre hasta completar aforo) \n16:30 DOCUMENTAL ‘Pierres Vedel y la magia del agua’ \n18:30 SERIE ‘Inés del Alma Mía’ \n20:30 LARGOMETRAJE ‘Faraway Land’ \n\n\n\n\n\n\n\n\n\n\n\n\nMARTES 28\n\n\n\n\n\n\n\n\n\n\n\n\n10:30 RUEDA DE PRENSA // Lugar: Museo del Teatro de Caesaraugusta \n12:00 MESA REDONDA ‘Localizaciones con mucha historia’ // Lugar: Museo del Teatro de Caesaraugusta (Acceso libre hasta completar aforo) \n16:30 DOCUMENTAL ‘Marzo\, crónicas de una vida’  \n18:30 SERIE ‘Heroínas con maña’ \n20:30 LARGOMETRAJE ‘The name of the people’ \n\n\n\n\n\n\n\n\n\n\n\n\nMIÉRCOLES 29\n\n\n\n\n\n\n\n\n\n\n\n\n10:30 RUEDA DE PRENSA // Lugar: Museo del Teatro de Caesaraugusta \n12:00 CHARLA-TALLER ‘Trofeos Dragón’ con Raquel Adrada y Santiago Osácar // Lugar: Museo del Teatro de Caesaraugusta \n16:30 PROYECCIÓN DOCUMENTAL ‘The Spanish flu’ \n18:30 SERIE ‘Rubirosa’ \n20:30 LARGOMETRAJE ‘La mancha negra’ \n\n\n\n\n\n\n\n\n\n\n\n\nJUEVES 30\n\n\n\n\n\n\n\n\n\n\n\n\n10:30 RUEDA DE PRENSA // Lugar: Museo del Teatro de Caesaraugusta \n12:00 MESA REDONDA ‘De las páginas del libro a la historia en pantalla’ // Lugar: Museo del Teatro de Caesaraugusta (Acceso libre hasta completar aforo) \n16:30 DOCUMENTAL ‘Les damnés de la commune’ \n18:30 SERIE ‘Isabel’ \n20:30 LARGOMETRAJE ‘Delicioso’ \n\n\n\n\n\n\n\n\n\n\n\n\nVIERNES 1\n\n\n\n\n\n\n\n\n\n\n\n\n10:30 RUEDA DE PRENSA // Lugar: Museo del Teatro de Caesaraugusta \n12:00 MESA REDONDA ‘Los clusters audiovisuales: el nacimiento del aragonés’ // Lugar: Museo del Teatro de Caesaraugusta (Acceso libre hasta completar aforo) \n16:30 DOCUMENTAL ‘Estos muros’ \n18:30 SERIE ‘El Ministerio del Tiempo’ \n20:30 LARGOMETRAJE ‘The Ingloriuous Serfs’ \n\n\n\n\n\n\n\n\n\n\n\n\nSÁBADO 2\n\n\n\n\n\n\n\n\n\n\n\n\n12:00 RUEDA DE PRENSA // Lugar: Museo del Teatro de Caesaraugusta \n20:30 GALA DE CLAUSURA Y PROYECCIÓN ESPECIAL ‘Waiting for Waldemar’ // Lugar: Cine Cervantes
URL:https://zaragenda.com/evento-zaragoza/saraqusta-film-festival/
LOCATION:Cines Palafox\, Paseo de la Independencia\, 12\, Zaragoza\, Zaragoza\, 50004\, España
CATEGORIES:Actividades,Cine,Espectáculos,Festival
ATTACH;FMTTYPE=image/jpeg:https://zaragenda.com/wp-content/uploads/2021/09/CARTEL-1024x512-1.jpg
GEO:41.6510572;-0.8826905
X-APPLE-STRUCTURED-LOCATION;VALUE=URI;X-ADDRESS=Cines Palafox Paseo de la Independencia 12 Zaragoza Zaragoza 50004 España;X-APPLE-RADIUS=500;X-TITLE=Paseo de la Independencia\, 12:geo:-0.8826905,41.6510572
END:VEVENT
END:VCALENDAR