BEGIN:VCALENDAR
VERSION:2.0
PRODID:-//ZARAGENDA - Agenda Zaragoza de ocio y eventos - ECPv6.15.16//NONSGML v1.0//EN
CALSCALE:GREGORIAN
METHOD:PUBLISH
X-WR-CALNAME:ZARAGENDA - Agenda Zaragoza de ocio y eventos
X-ORIGINAL-URL:https://zaragenda.com
X-WR-CALDESC:Eventos para ZARAGENDA - Agenda Zaragoza de ocio y eventos
REFRESH-INTERVAL;VALUE=DURATION:PT1H
X-Robots-Tag:noindex
X-PUBLISHED-TTL:PT1H
BEGIN:VTIMEZONE
TZID:Europe/Madrid
BEGIN:DAYLIGHT
TZOFFSETFROM:+0100
TZOFFSETTO:+0200
TZNAME:CEST
DTSTART:20210328T010000
END:DAYLIGHT
BEGIN:STANDARD
TZOFFSETFROM:+0200
TZOFFSETTO:+0100
TZNAME:CET
DTSTART:20211031T010000
END:STANDARD
BEGIN:DAYLIGHT
TZOFFSETFROM:+0100
TZOFFSETTO:+0200
TZNAME:CEST
DTSTART:20220327T010000
END:DAYLIGHT
BEGIN:STANDARD
TZOFFSETFROM:+0200
TZOFFSETTO:+0100
TZNAME:CET
DTSTART:20221030T010000
END:STANDARD
BEGIN:DAYLIGHT
TZOFFSETFROM:+0100
TZOFFSETTO:+0200
TZNAME:CEST
DTSTART:20230326T010000
END:DAYLIGHT
BEGIN:STANDARD
TZOFFSETFROM:+0200
TZOFFSETTO:+0100
TZNAME:CET
DTSTART:20231029T010000
END:STANDARD
END:VTIMEZONE
BEGIN:VEVENT
DTSTART;TZID=Europe/Madrid:20221020T210000
DTEND;TZID=Europe/Madrid:20221020T210000
DTSTAMP:20260419T143353
CREATED:20210716T105041Z
LAST-MODIFIED:20230208T143035Z
UID:10003055-1666299600-1666299600@zaragenda.com
SUMMARY:'Los disparates de Goya' - Sergio Muro y Joan Pascual
DESCRIPTION:Un espectáculo de teatro\, danza\, poesía\, performance\, humor y música en directo. Un homenaje al ilustre artista universal Francisco de Goya\, ensalzando una de sus etapas más creativas y subversivas\, ‘Los disparates’\, donde la risa\, el carnaval\, la locura y lo grotesco están muy presentes. Indagando en las contradicciones y la sinrazón del ser humano\, pero también en las fiestas y tradiciones populares. Una actuación híbrida\, sin etiquetas\, donde lo plástico y poético se entremezcla con lo gestual. Una eclosión para los sentidos. Un espectáculo divertido\, multidisciplinar y expresionista. \n‘Los disparates’ son la serie de estampas de más difícil interpretación de las realizadas por el pintor aragonés Francisco de Goya y Lucientes en su última etapa de vida.  Las estampas reúnen un variado mundo imaginativo relacionado con la noche\, el carnaval y lo grotesco (lo lúdico\, el sexo y la violencia están muy presentes)\, que constituye un enigma\, tanto por separado como en su conjunto. Se han vinculado mucho a las Pinturas Negras por su alto grado de fantasía\, escenas de pesadilla\, aspecto grotesco y monstruoso de los personajes\, y a su falta de lógica o cordura a la manera tradicional. En casi todos los disparates se muestra cómo la representación del poder es derrocada\, criticada o ridiculizada de alguna manera. Es una sátira a todo lo establecido. \nACTORES: \nEl dúo musical Binoceronte (Alejandro Güerri y Carlos Marta)\, la soprano Pilar Marqués\, la bailarina Raquel Loren\, el poeta Josema Carrasco\, el artista Sergio Muro. \nEn la compañía teatro Zona Zalata y el Aula Experimenta Teatro de la Universidad Rovira i Virgili (Tarragona): Ramon Civit\, Toni Martí\, Josep Mª Antiller\, Enric Garriga\, Marta Grau\, Joan Pascual\, Victor M Merino\, Elisa Alegre\, Núria Loras\, Natàlia Lozano\, Aina Salado\, Carlos Cercós\, Ricardo Bonach
URL:https://zaragenda.com/evento-zaragoza/los-disparates-de-goya-sergio-muro-y-joan-pascual/2022-10-20/
LOCATION:Cúpula Geodésica\, Camino de Cabaldos\, 45\, zaragoza
CATEGORIES:Danza,Espectáculos
ATTACH;FMTTYPE=image/png:https://zaragenda.com/wp-content/uploads/2021/07/los_disparates_de_goya.png
GEO:41.6364572;-0.8689169
X-APPLE-STRUCTURED-LOCATION;VALUE=URI;X-ADDRESS=Cúpula Geodésica Camino de Cabaldos 45 zaragoza;X-APPLE-RADIUS=500;X-TITLE=Camino de Cabaldos\, 45:geo:-0.8689169,41.6364572
END:VEVENT
END:VCALENDAR