BEGIN:VCALENDAR
VERSION:2.0
PRODID:-//ZARAGENDA - Agenda Zaragoza de ocio y eventos - ECPv6.15.16//NONSGML v1.0//EN
CALSCALE:GREGORIAN
METHOD:PUBLISH
X-WR-CALNAME:ZARAGENDA - Agenda Zaragoza de ocio y eventos
X-ORIGINAL-URL:https://zaragenda.com
X-WR-CALDESC:Eventos para ZARAGENDA - Agenda Zaragoza de ocio y eventos
REFRESH-INTERVAL;VALUE=DURATION:PT1H
X-Robots-Tag:noindex
X-PUBLISHED-TTL:PT1H
BEGIN:VTIMEZONE
TZID:Europe/Madrid
BEGIN:DAYLIGHT
TZOFFSETFROM:+0100
TZOFFSETTO:+0200
TZNAME:CEST
DTSTART:20200329T010000
END:DAYLIGHT
BEGIN:STANDARD
TZOFFSETFROM:+0200
TZOFFSETTO:+0100
TZNAME:CET
DTSTART:20201025T010000
END:STANDARD
BEGIN:DAYLIGHT
TZOFFSETFROM:+0100
TZOFFSETTO:+0200
TZNAME:CEST
DTSTART:20210328T010000
END:DAYLIGHT
BEGIN:STANDARD
TZOFFSETFROM:+0200
TZOFFSETTO:+0100
TZNAME:CET
DTSTART:20211031T010000
END:STANDARD
BEGIN:DAYLIGHT
TZOFFSETFROM:+0100
TZOFFSETTO:+0200
TZNAME:CEST
DTSTART:20220327T010000
END:DAYLIGHT
BEGIN:STANDARD
TZOFFSETFROM:+0200
TZOFFSETTO:+0100
TZNAME:CET
DTSTART:20221030T010000
END:STANDARD
BEGIN:DAYLIGHT
TZOFFSETFROM:+0100
TZOFFSETTO:+0200
TZNAME:CEST
DTSTART:20230326T010000
END:DAYLIGHT
BEGIN:STANDARD
TZOFFSETFROM:+0200
TZOFFSETTO:+0100
TZNAME:CET
DTSTART:20231029T010000
END:STANDARD
BEGIN:DAYLIGHT
TZOFFSETFROM:+0100
TZOFFSETTO:+0200
TZNAME:CEST
DTSTART:20240331T010000
END:DAYLIGHT
BEGIN:STANDARD
TZOFFSETFROM:+0200
TZOFFSETTO:+0100
TZNAME:CET
DTSTART:20241027T010000
END:STANDARD
BEGIN:DAYLIGHT
TZOFFSETFROM:+0100
TZOFFSETTO:+0200
TZNAME:CEST
DTSTART:20250330T010000
END:DAYLIGHT
BEGIN:STANDARD
TZOFFSETFROM:+0200
TZOFFSETTO:+0100
TZNAME:CET
DTSTART:20251026T010000
END:STANDARD
END:VTIMEZONE
BEGIN:VEVENT
DTSTART;VALUE=DATE:20240426
DTEND;VALUE=DATE:20241101
DTSTAMP:20260420T224712
CREATED:20240507T085905Z
LAST-MODIFIED:20240507T085905Z
UID:10008624-1714089600-1730419199@zaragenda.com
SUMMARY:Futuros descentralizados
DESCRIPTION:La presente muestra tiene su origen en el proyecto Artechó enfocado en el arte digital y la tecnología blockchain\, y presenta el trabajo de 13 artistas internacionales. En 2023 estos artistas fueron seleccionados para realizar una residencia de nueve meses con el fin de explorar las posibilidades creativas que esta tecnología emergente ofrece en el ámbito del arte digital e imaginar los futuros que su aplicación hace posibles. \nLos artistas ahondan en los conceptos de descentralización y redistribución\, la unicidad o la horizontalidad. Estos futuros distribuidos permiten modificar la naturaleza de las relaciones entre diferentes agentes a la hora de tomar decisiones\, repartir activos\, involucrar participantes en un proyecto colectivo o considerar ecosistemas. \nEl resultado de esta residencia es una muestra de trabajos en distintas fases de desarrollo. Todas las propuestas abordan temáticas contemporáneas partiendo de la cultura digital y la tecnología creativa y tienen un marcado carácter interdisciplinario. Los artistas se preguntan por algunos de los grandes asuntos de nuestro tiempo\, como son las cuestiones medioambientales\, políticas\, sociales\, económicas\, explorando nuevos modelos de organización y gestión de recursos\, que son posibles gracias a tecnologías distribuidas y descentralizadas. \nEste arte tildado de «disonante» sigue estando constituido por los mismos elementos del arte tradicional: el creador (artista)\, que hace uso de las herramientas que tiene a su alcance (tecnología) y las dispone a la sociedad (economía)\, acordes a las necesidades contemporáneas pero que abre imaginarios\, experimenta y hace propuestas alternativas\, horizontales y distribuidas para construir futuros mejores. \n\n\n\n\n\n\nTradicionalmente las obras digitales tenían una difícil entrada en el mercado artístico porque no cumplían un requisito fundamental en la creación de las cadenas de valor en el arte\, la unicidad de la obra\, la exclusividad de la propiedad. Aquello que Walter Benjamin definió como el «aura» de la obra de arte que se desvanecía al volverse posible su reproducibilidad por medios mecánicos. Sin embargo\, la aparición de los NFT’s (Tokens No Fungibles) cambió este panorama\, proporcionando escasez artificial y añadiendo unicidad a las creaciones digitales\, naturalmente múltiples. \nEl arte digital por su naturaleza replicable quedaba en los márgenes del mercado y de la economía. Pero los NFT’s (unidades de valor o tokens no fungibles ) y el criptoarte basado en la creación de contenido digital único empleando el blockchain\, vinieron para cambiarlo todo. El blockchain es una tecnología que permite registrar y archivar transacciones de forma distribuida mediante una red. El punto de partida del proyecto son los NFT’s pero las creaciones desbordan ese marco y las obras nos hablan de la sociedad contemporánea desde una idea de extensión y de red apuntado qué otras cosas podemos hacer con esta tecnología. \nHorario: \n\nLunes -> 10:00 – 21:00 h.\nMartes -> 10:00 – 21:00 h.\nMiércoles -> 10:00 – 21:00 h.\nJueves -> 10:00 – 21:00 h.\nViernes -> 10:00 – 21:00 h.\nSábado -> 10:00 – 14:00 h.
URL:https://zaragenda.com/evento-zaragoza/futuros-descentralizados/
LOCATION:Etopia Centro de Arte y Tecnología\, Avenida Ciudad de Soria\, 8\, Zaragoza\, Zaragoza\, 50003\, España
CATEGORIES:Exposiciones
ATTACH;FMTTYPE=image/gif:https://zaragenda.com/wp-content/uploads/2024/05/futuros-descentralizados.gif
GEO:41.6599679;-0.9053103
X-APPLE-STRUCTURED-LOCATION;VALUE=URI;X-ADDRESS=Etopia Centro de Arte y Tecnología Avenida Ciudad de Soria 8 Zaragoza Zaragoza 50003 España;X-APPLE-RADIUS=500;X-TITLE=Avenida Ciudad de Soria\, 8:geo:-0.9053103,41.6599679
END:VEVENT
BEGIN:VEVENT
DTSTART;TZID=Europe/Madrid:20221104T190000
DTEND;TZID=Europe/Madrid:20221105T203000
DTSTAMP:20260420T224712
CREATED:20221103T111904Z
LAST-MODIFIED:20230208T174233Z
UID:10006058-1667588400-1667680200@zaragenda.com
SUMMARY:Radical dB 2022
DESCRIPTION:Festival de músicas avanzadas\, electrónica y nuevas tecnologías\nPROGRAMA \nViernes 04/11/2022\n19h: Xoán-Xil López Organismo/ Organscape\n19h30: Alex Augier pr(-)\n20h30: Cía. Músicas Abiertas \nSábado 05/11/2022\n10h-13h : Taller de diseño sonoro\n19h: Centro de Música Contemporánea Garaikideak (R)evolución sinestésica
URL:https://zaragenda.com/evento-zaragoza/radical-db-2022/
LOCATION:Etopia Centro de Arte y Tecnología\, Avenida Ciudad de Soria\, 8\, Zaragoza\, Zaragoza\, 50003\, España
CATEGORIES:Espectáculos
ATTACH;FMTTYPE=image/jpeg:https://zaragenda.com/wp-content/uploads/2022/10/52340634874_f3157cd43f_c.jpg
GEO:41.6599679;-0.9053103
X-APPLE-STRUCTURED-LOCATION;VALUE=URI;X-ADDRESS=Etopia Centro de Arte y Tecnología Avenida Ciudad de Soria 8 Zaragoza Zaragoza 50003 España;X-APPLE-RADIUS=500;X-TITLE=Avenida Ciudad de Soria\, 8:geo:-0.9053103,41.6599679
END:VEVENT
BEGIN:VEVENT
DTSTART;TZID=Europe/Madrid:20211104T190000
DTEND;TZID=Europe/Madrid:20211106T210000
DTSTAMP:20260420T224712
CREATED:20211103T184115Z
LAST-MODIFIED:20230208T160222Z
UID:10004425-1636052400-1636232400@zaragenda.com
SUMMARY:La Mistura. Festival de la Cultura Remix
DESCRIPTION:La cultura de la remezcla volverá a tener su espacio en la capital aragonesa de la mano de una nueva edición de La Mistura\, festival de la Cultura Remix. Será los días 4\, 5 y 6 de noviembre en Etopia Centro de Arte y Tecnología\, y en él se hablará de cuestiones tan vigentes como los NFTs\, la resignificación de la iconografía popular\, o el trasvase y la reapropiación de contenidos en redes sociales. \nEl festival mantiene su propósito de fomentar la reflexión sobre la cultura de la remezcla y la propiedad intelectual en el entorno digital contemporáneo\, y lo hará a través de una mesa redonda\, dos charlas\, dos conciertos e incluso una subasta.
URL:https://zaragenda.com/evento-zaragoza/la-mistura-festival-de-la-cultura-remix/
LOCATION:Etopia Centro de Arte y Tecnología\, Avenida Ciudad de Soria\, 8\, Zaragoza\, Zaragoza\, 50003\, España
CATEGORIES:Charlas,Conciertos,cultura
ATTACH;FMTTYPE=image/png:https://zaragenda.com/wp-content/uploads/2021/10/960x640.png
GEO:41.6599679;-0.9053103
X-APPLE-STRUCTURED-LOCATION;VALUE=URI;X-ADDRESS=Etopia Centro de Arte y Tecnología Avenida Ciudad de Soria 8 Zaragoza Zaragoza 50003 España;X-APPLE-RADIUS=500;X-TITLE=Avenida Ciudad de Soria\, 8:geo:-0.9053103,41.6599679
END:VEVENT
BEGIN:VEVENT
DTSTART;TZID=Europe/Madrid:20211001T170000
DTEND;TZID=Europe/Madrid:20211017T140000
DTSTAMP:20260420T224712
CREATED:20210915T183149Z
LAST-MODIFIED:20230208T144332Z
UID:10003176-1633107600-1634479200@zaragenda.com
SUMMARY:2ª Exposición Playmobil «Ciudad de Zaragoza» en Etopia
DESCRIPTION:Del 1 al 17 de octubre de 2021 Etopia nos acoge en esta segunda edición del encuentro nacional de aficionados y coleccionistas de Playmobil en Zaragoza. \nContaremos en esta ocasión con la exposición de ocho dioramas de diferentes temáticas elaborados por nuestros socios. \nAdemás\, tendremos venta de productos exclusivos (días 15\, 16 y 17)\, talleres tecnológicos\, concursos y sorteos. \nComo también es habitual y para amenizar la visita\, habrá una figura intrusa en cada diorama. ¿Serás capaz de encontrarla? \n¿Te lo vas a perder? ¡Os esperamos! \nAforo limitado. Entradas por horas. Más información en www.clickaragon.es \nPrecio de entrada: 2€ (gratis de 0 a 3 años incluidos)
URL:https://zaragenda.com/evento-zaragoza/2a-exposicion-playmobil-ciudad-de-zaragoza-en-etopia/
LOCATION:Etopia Centro de Arte y Tecnología\, Avenida Ciudad de Soria\, 8\, Zaragoza\, Zaragoza\, 50003\, España
CATEGORIES:cultura,Exposiciones
ATTACH;FMTTYPE=image/jpeg:https://zaragenda.com/wp-content/uploads/2021/09/IMG-20210911-WA0011.jpg
GEO:41.6599679;-0.9053103
X-APPLE-STRUCTURED-LOCATION;VALUE=URI;X-ADDRESS=Etopia Centro de Arte y Tecnología Avenida Ciudad de Soria 8 Zaragoza Zaragoza 50003 España;X-APPLE-RADIUS=500;X-TITLE=Avenida Ciudad de Soria\, 8:geo:-0.9053103,41.6599679
END:VEVENT
BEGIN:VEVENT
DTSTART;VALUE=DATE:20210902
DTEND;VALUE=DATE:20211001
DTSTAMP:20260420T224712
CREATED:20210902T075149Z
LAST-MODIFIED:20230208T143908Z
UID:10003150-1630540800-1633046399@zaragenda.com
SUMMARY:Arquitecturas imaginadas
DESCRIPTION:Arquitecturas Imaginadas es una exhibición con inteligencia artificial en las que la naturaleza se integra unas veces de forma sutil y pausada y en otras exuberante y vibrante. Las imágenes y los vídeos son generados por la mente de la máquina mediante el uso de dos modelos de aprendizaje profundo\, uno generativo y otro que sirve de guía\, en ese espacio de los posibles que es el espacio latente. Estas imágenes fantásticas pueden servir de inspiración y de aliciente. Los espacios de ensueño generados con redes generativas antagónicas GAN son como un espejismo de algo que podría existir o que quizás existe en algún lugar\, o que al menos nos gustaría que existiera. \n\n\n\nEl artista e investigador Simon Colton ha generado las imágenes de la muestra a partir de las citas de cinco arquitectas famosas. El sistema refleja la visión de cada una de ellas acerca de la del manejo de la luz y su relación con el espacio\, las atmósferas y los colores y el tacto de los materiales. El reflejo de las estaciones en el agua y en el cielo\, el paso del tiempo faceta estas imágenes intrigantes y mutantes en conversión perpetua y armonías con el entorno.\n\nCon esta exposición virtual\, comisariada por Blanca Pérez Ferrer\, Etopia quiere celebrar cómo la creatividad humana y la artificial pueden interactuar para ayudarnos a imaginar los edificios del futuro\, combinando arte y tecnología\, ciencia y estética\, para construir las ciudades del mañana.
URL:https://zaragenda.com/evento-zaragoza/arquitecturas-imaginadas/
LOCATION:Etopia Centro de Arte y Tecnología\, Avenida Ciudad de Soria\, 8\, Zaragoza\, Zaragoza\, 50003\, España
CATEGORIES:Exposiciones
ATTACH;FMTTYPE=image/png:https://zaragenda.com/wp-content/uploads/2021/09/Architectureisreallyaboutwell-beingIthinkthatpeoplewanttofeelgoodinaspace_A_17.png
GEO:41.6599679;-0.9053103
X-APPLE-STRUCTURED-LOCATION;VALUE=URI;X-ADDRESS=Etopia Centro de Arte y Tecnología Avenida Ciudad de Soria 8 Zaragoza Zaragoza 50003 España;X-APPLE-RADIUS=500;X-TITLE=Avenida Ciudad de Soria\, 8:geo:-0.9053103,41.6599679
END:VEVENT
BEGIN:VEVENT
DTSTART;VALUE=DATE:20210320
DTEND;VALUE=DATE:20210613
DTSTAMP:20260420T224712
CREATED:20210505T101312Z
LAST-MODIFIED:20230208T135102Z
UID:10002367-1616198400-1623542399@zaragenda.com
SUMMARY:Mediación en sala exposición "New Ego. Cuerpos Conectado"
DESCRIPTION:Todos los sábados a partir del 20 de marzo puedes venir a disfrutar de la exposición New (Ego) Cuerpos Conectados a través de un acompañamiento de mediación para conectar las obras de la exposición con los temas con los que nos interpela la muestra. La autorrepresentación\, el autorretrato y la autopercepción aplicadas a la sobreexposición en las redes y nuevas formas de representación mediante tecnología. \nCada sábado de 11 a 13h habrá un mediador en sala a disposición del público para resolver cualquier comentario sobre la exposición. \nSe realizaran 3 turnos\, debido a las limitaciones de aforo es necesario realizar inscripcion:\n11:00\n11:35\n12:15\nReserva tu plaza para el mes de mayo aquí \nNew (EGO) Cuerpos conectados plantea nuevas formas de representación individual y colectiva que actualmente están produciendo un gran impacto en nuestra sociedad\, desvelando perspectivas inesperadas sobre el cuerpo sobreexpuesto\, intervenido\, reivindicado\, sexualizado\, medicalizado\, vigilado y\, en definitiva\, problematizado. \nMás inscripciones aquí 
URL:https://zaragenda.com/evento-zaragoza/mediacion-en-sala-exposicion-new-ego-cuerpos-conectado/
LOCATION:Etopia Centro de Arte y Tecnología\, Avenida Ciudad de Soria\, 8\, Zaragoza\, Zaragoza\, 50003\, España
CATEGORIES:Exposiciones
ATTACH;FMTTYPE=image/jpeg:https://zaragenda.com/wp-content/uploads/2021/05/960_2Z6A2545Rlow.jpg
ORGANIZER;CN="Etopia%2C Centro de Arte y Tecnolog%C3%ADa":MAILTO:976 726 627
GEO:41.6599679;-0.9053103
X-APPLE-STRUCTURED-LOCATION;VALUE=URI;X-ADDRESS=Etopia Centro de Arte y Tecnología Avenida Ciudad de Soria 8 Zaragoza Zaragoza 50003 España;X-APPLE-RADIUS=500;X-TITLE=Avenida Ciudad de Soria\, 8:geo:-0.9053103,41.6599679
END:VEVENT
BEGIN:VEVENT
DTSTART;VALUE=DATE:20210311
DTEND;VALUE=DATE:20210801
DTSTAMP:20260420T224712
CREATED:20210505T100747Z
LAST-MODIFIED:20230208T135054Z
UID:10002366-1615420800-1627775999@zaragenda.com
SUMMARY:Exposición: Grandma. Un recuerdo iluminado
DESCRIPTION:Desde la memoria\, como herramienta caprichosa que reconstruye nuestra identidad\, Marta L. Lázaro toma un imagen de la infancia: su abuela\, sus tías y su madre haciendo jabón en el pueblo. Desde ese difuso recuerdo como espectadora\, ahora actúa y se aferra a sus raíces. \nGrandma indaga en esos oficios casi perdidos que se ocupan de los cuidados colectivos y que han recaído sobre nuestras abuelas\, sin trascendencia ni remuneración; pero con los que se tejen importantes redes de solidaridad para las vidas de todos los individuos en el ámbito rural. \nA través del videoarte y del videomapping\, la artista crea un espacio expositivo\, que conecta la emoción de su propio recuerdo con testimonios orales que nos sitúan en una realidad histórica y futurible a la vez. La proyección de imagen y de luz sobre un objeto cotidiano como el jabón\, pone simbólica y literalmente el foco sobre el papel tradicional de la mujer en el ámbito rural\, a la vez que “rompe el pixel” a través de herramientas como el datamosh\, como metáfora de la pérdida de memoria. \nGrandma es la exposición resultante de la II Residencia Hedy Lamarr de Etopia\, impulsada por Fundación Zaragoza Ciudad del Conocimiento y el Ayuntamiento de Zaragoza para profundizar en la erradicación de barreras de género en el ámbito artístico y tecnocientífico.
URL:https://zaragenda.com/evento-zaragoza/exposicion-grandma-un-recuerdo-iluminado/
LOCATION:Etopia Centro de Arte y Tecnología\, Avenida Ciudad de Soria\, 8\, Zaragoza\, Zaragoza\, 50003\, España
CATEGORIES:Exposiciones
ATTACH;FMTTYPE=image/jpeg:https://zaragenda.com/wp-content/uploads/2021/05/grandma_960x641.jpg
ORGANIZER;CN="Etopia%2C Centro de Arte y Tecnolog%C3%ADa":MAILTO:976 726 627
GEO:41.6599679;-0.9053103
X-APPLE-STRUCTURED-LOCATION;VALUE=URI;X-ADDRESS=Etopia Centro de Arte y Tecnología Avenida Ciudad de Soria 8 Zaragoza Zaragoza 50003 España;X-APPLE-RADIUS=500;X-TITLE=Avenida Ciudad de Soria\, 8:geo:-0.9053103,41.6599679
END:VEVENT
END:VCALENDAR