BEGIN:VCALENDAR
VERSION:2.0
PRODID:-//ZARAGENDA - Agenda Zaragoza de ocio y eventos - ECPv6.15.16//NONSGML v1.0//EN
CALSCALE:GREGORIAN
METHOD:PUBLISH
X-WR-CALNAME:ZARAGENDA - Agenda Zaragoza de ocio y eventos
X-ORIGINAL-URL:https://zaragenda.com
X-WR-CALDESC:Eventos para ZARAGENDA - Agenda Zaragoza de ocio y eventos
REFRESH-INTERVAL;VALUE=DURATION:PT1H
X-Robots-Tag:noindex
X-PUBLISHED-TTL:PT1H
BEGIN:VTIMEZONE
TZID:Europe/Madrid
BEGIN:DAYLIGHT
TZOFFSETFROM:+0100
TZOFFSETTO:+0200
TZNAME:CEST
DTSTART:20200329T010000
END:DAYLIGHT
BEGIN:STANDARD
TZOFFSETFROM:+0200
TZOFFSETTO:+0100
TZNAME:CET
DTSTART:20201025T010000
END:STANDARD
BEGIN:DAYLIGHT
TZOFFSETFROM:+0100
TZOFFSETTO:+0200
TZNAME:CEST
DTSTART:20210328T010000
END:DAYLIGHT
BEGIN:STANDARD
TZOFFSETFROM:+0200
TZOFFSETTO:+0100
TZNAME:CET
DTSTART:20211031T010000
END:STANDARD
BEGIN:DAYLIGHT
TZOFFSETFROM:+0100
TZOFFSETTO:+0200
TZNAME:CEST
DTSTART:20220327T010000
END:DAYLIGHT
BEGIN:STANDARD
TZOFFSETFROM:+0200
TZOFFSETTO:+0100
TZNAME:CET
DTSTART:20221030T010000
END:STANDARD
BEGIN:DAYLIGHT
TZOFFSETFROM:+0100
TZOFFSETTO:+0200
TZNAME:CEST
DTSTART:20230326T010000
END:DAYLIGHT
BEGIN:STANDARD
TZOFFSETFROM:+0200
TZOFFSETTO:+0100
TZNAME:CET
DTSTART:20231029T010000
END:STANDARD
END:VTIMEZONE
BEGIN:VEVENT
DTSTART;TZID=Europe/Madrid:20220925T110000
DTEND;TZID=Europe/Madrid:20220925T130000
DTSTAMP:20260421T193328
CREATED:20220921T111346Z
LAST-MODIFIED:20230208T173413Z
UID:10005825-1664103600-1664110800@zaragenda.com
SUMMARY:La Ciudad del Agua
DESCRIPTION:Una refrescante actividad por un espacio único. \nEn esta actividad «fluimos» por el recinto Expo\, conociendo las instalaciones artísticas y las plazas temáticas\, y hablamos sobre el agua y su importancia para la vida en el planeta a través del juego y la creatividad\, experimentando durante el recorrido con diferentes materiales y creando diversas acciones callejeras entre todos. \nAdemás\, en esta ocasión accederemos a la Torre del Agua gracias a la Asociación Legado Expo. \nPara curiosos y curiosas a partir de 6 años.
URL:https://zaragenda.com/evento-zaragoza/la-ciudad-del-agua/
LOCATION:Frente Fluvial Expo\, Avenida de Ranillas\, 101\, Zaragoza\, Zaragoza\, España
CATEGORIES:Actividades,Actividades para niños,Niños
ATTACH;FMTTYPE=image/jpeg:https://zaragenda.com/wp-content/uploads/2022/09/5.jpg
GEO:41.6727208;-0.8983935
X-APPLE-STRUCTURED-LOCATION;VALUE=URI;X-ADDRESS=Frente Fluvial Expo Avenida de Ranillas 101 Zaragoza Zaragoza España;X-APPLE-RADIUS=500;X-TITLE=Avenida de Ranillas\, 101:geo:-0.8983935,41.6727208
END:VEVENT
BEGIN:VEVENT
DTSTART;TZID=Europe/Madrid:20210501T213000
DTEND;TZID=Europe/Madrid:20210501T213000
DTSTAMP:20260421T193328
CREATED:20210426T072745Z
LAST-MODIFIED:20230208T134158Z
UID:10002288-1619904600-1619904600@zaragenda.com
SUMMARY:'Flotados' - David Moreno Cía & Cristina Calleja
DESCRIPTION:Dos personajes\, cada uno de ellos vive en su propio mundo personal e íntimo\, creando magia e ilusión en cada uno de sus movimientos y acciones. Dos mundos que sin saberlo se alimentan el un del otro\, crecen y se transforman por una fuerza que va más allá de cada uno de ellos\, sin saber de donde viene ni a donde va… ¿cómo cada uno de nosotros influimos y transformamos las vidas de los otros sin saberlo? \nEl caos dará lugar al encuentro\, un encuentro entre nuestros personajes que hará que sus mundos interiores crezcan\, una oda al amor\, a lo bello de la vida\, al encuentro entre personas donde la música será el hilo conductor que transforme un mundo irreal\, soñado\, en un mundo donde todo es posible y los sueños se hacen realidad. ¿Me acompañas a crear nuestro universo? Un universo barco\, un universo luna\, un universo piano¿ ¡Paremos el mundo por un instante! Transformemos el espacio urbano en un lugar para soñar\, en un Universo único donde la música\, la danza y el circo iluminen los ojos de quien nos mira. \nDURACIÓN: 45 minutos \nPÚBLICO: familiar
URL:https://zaragenda.com/evento-zaragoza/flotados-david-moreno-cia-cristina-calleja/
LOCATION:Frente Fluvial Expo\, Avenida de Ranillas\, 101\, Zaragoza\, Zaragoza\, España
CATEGORIES:Espectáculos,Teatro
ATTACH;FMTTYPE=image/png:https://zaragenda.com/wp-content/uploads/2021/04/flotados_.png
GEO:41.6727208;-0.8983935
X-APPLE-STRUCTURED-LOCATION;VALUE=URI;X-ADDRESS=Frente Fluvial Expo Avenida de Ranillas 101 Zaragoza Zaragoza España;X-APPLE-RADIUS=500;X-TITLE=Avenida de Ranillas\, 101:geo:-0.8983935,41.6727208
END:VEVENT
END:VCALENDAR