BEGIN:VCALENDAR
VERSION:2.0
PRODID:-//ZARAGENDA - Agenda Zaragoza de ocio y eventos - ECPv6.15.16//NONSGML v1.0//EN
CALSCALE:GREGORIAN
METHOD:PUBLISH
X-WR-CALNAME:ZARAGENDA - Agenda Zaragoza de ocio y eventos
X-ORIGINAL-URL:https://zaragenda.com
X-WR-CALDESC:Eventos para ZARAGENDA - Agenda Zaragoza de ocio y eventos
REFRESH-INTERVAL;VALUE=DURATION:PT1H
X-Robots-Tag:noindex
X-PUBLISHED-TTL:PT1H
BEGIN:VTIMEZONE
TZID:Europe/Madrid
BEGIN:DAYLIGHT
TZOFFSETFROM:+0100
TZOFFSETTO:+0200
TZNAME:CEST
DTSTART:20200329T010000
END:DAYLIGHT
BEGIN:STANDARD
TZOFFSETFROM:+0200
TZOFFSETTO:+0100
TZNAME:CET
DTSTART:20201025T010000
END:STANDARD
BEGIN:DAYLIGHT
TZOFFSETFROM:+0100
TZOFFSETTO:+0200
TZNAME:CEST
DTSTART:20210328T010000
END:DAYLIGHT
BEGIN:STANDARD
TZOFFSETFROM:+0200
TZOFFSETTO:+0100
TZNAME:CET
DTSTART:20211031T010000
END:STANDARD
BEGIN:DAYLIGHT
TZOFFSETFROM:+0100
TZOFFSETTO:+0200
TZNAME:CEST
DTSTART:20220327T010000
END:DAYLIGHT
BEGIN:STANDARD
TZOFFSETFROM:+0200
TZOFFSETTO:+0100
TZNAME:CET
DTSTART:20221030T010000
END:STANDARD
BEGIN:DAYLIGHT
TZOFFSETFROM:+0100
TZOFFSETTO:+0200
TZNAME:CEST
DTSTART:20230326T010000
END:DAYLIGHT
BEGIN:STANDARD
TZOFFSETFROM:+0200
TZOFFSETTO:+0100
TZNAME:CET
DTSTART:20231029T010000
END:STANDARD
END:VTIMEZONE
BEGIN:VEVENT
DTSTART;TZID=Europe/Madrid:20220209T190000
DTEND;TZID=Europe/Madrid:20220209T200000
DTSTAMP:20260421T151829
CREATED:20220207T114452Z
LAST-MODIFIED:20230208T163835Z
UID:10004858-1644433200-1644436800@zaragenda.com
SUMMARY:María Bastarós presenta No era esto a lo que veniamos
DESCRIPTION:El jueves 9 de febrero María Bastarós presenta en la librería Cálamo de Zaragoza su libro No era esto a lo que veníamos\, publicado por editorial Candaya. La autora estará acompañada por Marta Armingol. \n\n\n\nNo era a esto a lo que veníamos es un libro sobre el terror de la normalidad. Sus personajes luchan por integrarse en un cosmos que legitime su existencia: el del amor romántico\, el de la maternidad\, el de la urbanización con piscina\, el del trabajo asalariado\, el de la familia tradicional. Una codiciada normalidad que\, poco a poco\, se irá convirtiendo en un territorio hostil y desasosegante\, donde la vida es a menudo difícil de sostener. \nDespués de su fulgurante debut con Historia de España contada a las niñas\, María Bastarós vuelve a sorprendernos con estos relatos de atmósferas asfixiantes: el desierto de los Monegros\, la erosión de las Bardenas\, las carreteras abandonadas\, los polígonos industriales… Espacios que marcan un camino hacia los márgenes o hacia el delirio\, y donde los personajes y sus deseos se encuentran casi siempre con el reverso de lo que buscan.
URL:https://zaragenda.com/evento-zaragoza/maria-bastaros-presenta-no-era-esto-a-lo-que-veniamos/
LOCATION:Librería Cálamo\, Plaza San Francisco\, 4\, Zaragoza\, Zaragoza\, 50006\, España
CATEGORIES:presentaciones
ATTACH;FMTTYPE=image/jpeg:https://zaragenda.com/wp-content/uploads/2022/01/noeraestoweb.jpg
GEO:41.6408746;-0.8937757
X-APPLE-STRUCTURED-LOCATION;VALUE=URI;X-ADDRESS=Librería Cálamo Plaza San Francisco 4 Zaragoza Zaragoza 50006 España;X-APPLE-RADIUS=500;X-TITLE=Plaza San Francisco\, 4:geo:-0.8937757,41.6408746
END:VEVENT
BEGIN:VEVENT
DTSTART;TZID=Europe/Madrid:20211202T190000
DTEND;TZID=Europe/Madrid:20211202T200000
DTSTAMP:20260421T151829
CREATED:20211130T122528Z
LAST-MODIFIED:20230208T160928Z
UID:10004556-1638471600-1638475200@zaragenda.com
SUMMARY:Presentación de ‘La Parcela’
DESCRIPTION:Alejandro Simón Partal presenta La parcela\, obra publicada por la editorial Caballo de Troya. El autor conversará con la gestora cultural Laura Montañés.\nEntrada libre hasta completar aforo.
URL:https://zaragenda.com/evento-zaragoza/presentacion-de-la-parcela/
LOCATION:Librería Cálamo\, Plaza San Francisco\, 4\, Zaragoza\, Zaragoza\, 50006\, España
CATEGORIES:presentaciones
ATTACH;FMTTYPE=image/jpeg:https://zaragenda.com/wp-content/uploads/2021/11/zaragozala_libreria_calamo_zaragoza-dERhOa.tmp_.jpg
GEO:41.6408746;-0.8937757
X-APPLE-STRUCTURED-LOCATION;VALUE=URI;X-ADDRESS=Librería Cálamo Plaza San Francisco 4 Zaragoza Zaragoza 50006 España;X-APPLE-RADIUS=500;X-TITLE=Plaza San Francisco\, 4:geo:-0.8937757,41.6408746
END:VEVENT
END:VCALENDAR