BEGIN:VCALENDAR
VERSION:2.0
PRODID:-//ZARAGENDA - Agenda Zaragoza de ocio y eventos - ECPv6.15.16//NONSGML v1.0//EN
CALSCALE:GREGORIAN
METHOD:PUBLISH
X-ORIGINAL-URL:https://zaragenda.com
X-WR-CALDESC:Eventos para ZARAGENDA - Agenda Zaragoza de ocio y eventos
REFRESH-INTERVAL;VALUE=DURATION:PT1H
X-Robots-Tag:noindex
X-PUBLISHED-TTL:PT1H
BEGIN:VTIMEZONE
TZID:Europe/Madrid
BEGIN:DAYLIGHT
TZOFFSETFROM:+0100
TZOFFSETTO:+0200
TZNAME:CEST
DTSTART:20240331T010000
END:DAYLIGHT
BEGIN:STANDARD
TZOFFSETFROM:+0200
TZOFFSETTO:+0100
TZNAME:CET
DTSTART:20241027T010000
END:STANDARD
BEGIN:DAYLIGHT
TZOFFSETFROM:+0100
TZOFFSETTO:+0200
TZNAME:CEST
DTSTART:20250330T010000
END:DAYLIGHT
BEGIN:STANDARD
TZOFFSETFROM:+0200
TZOFFSETTO:+0100
TZNAME:CET
DTSTART:20251026T010000
END:STANDARD
BEGIN:DAYLIGHT
TZOFFSETFROM:+0100
TZOFFSETTO:+0200
TZNAME:CEST
DTSTART:20260329T010000
END:DAYLIGHT
BEGIN:STANDARD
TZOFFSETFROM:+0200
TZOFFSETTO:+0100
TZNAME:CET
DTSTART:20261025T010000
END:STANDARD
END:VTIMEZONE
BEGIN:VEVENT
DTSTART;TZID=Europe/Madrid:20250216T120000
DTEND;TZID=Europe/Madrid:20250216T120000
DTSTAMP:20260420T141019
CREATED:20240412T104801Z
LAST-MODIFIED:20240412T104801Z
UID:10008437-1739707200-1739707200@zaragenda.com
SUMMARY:Museos y Mujeres - El ideal de belleza de la Antigua Roma
DESCRIPTION:Esta nueva edición de Museos y Mujeres 2024 propone ahondar en el conocimiento de las mujeres a lo largo de la historia y la historia del arte desde la perspectiva de género a través de conferencias\, visitas y talleres como este. \nEn esta visita se comparará el ideal de belleza masculino frente al ideal femenino\, un ideal que en muchos aspectos se ha mantenido hasta nuestros días. Además se hablará de las diferentes prácticas y utensilios utilizados en la antigüedad romana para el cuidado personal y se comentarán diversas curiosidades en relación a la belleza y al culto del cuerpo. Se hablará de El arte de amar de Ovidio\, poema que recoge muchas de estas curiosidades y que nos permite compararlas con algunas prácticas que se llevan a cabo actualmente
URL:https://zaragenda.com/evento-zaragoza/museos-y-mujeres-el-ideal-de-belleza-de-la-antigua-roma/
LOCATION:Museo de las Termas Públicas de Caesaraugusta\, San Juan y San Pedro\, 3-5-7\, Zaragoza\, Zaragoza\, 50001\, España
CATEGORIES:Actividades,Exposiciones,Museos
ATTACH;FMTTYPE=image/png:https://zaragenda.com/wp-content/uploads/2024/04/museos-y-mujeres.png
GEO:41.65341;-0.87707
X-APPLE-STRUCTURED-LOCATION;VALUE=URI;X-ADDRESS=Museo de las Termas Públicas de Caesaraugusta San Juan y San Pedro 3-5-7 Zaragoza Zaragoza 50001 España;X-APPLE-RADIUS=500;X-TITLE=San Juan y San Pedro\, 3-5-7:geo:-0.87707,41.65341
END:VEVENT
END:VCALENDAR