BEGIN:VCALENDAR
VERSION:2.0
PRODID:-//ZARAGENDA - Agenda Zaragoza de ocio y eventos - ECPv6.15.16//NONSGML v1.0//EN
CALSCALE:GREGORIAN
METHOD:PUBLISH
X-ORIGINAL-URL:https://zaragenda.com
X-WR-CALDESC:Eventos para ZARAGENDA - Agenda Zaragoza de ocio y eventos
REFRESH-INTERVAL;VALUE=DURATION:PT1H
X-Robots-Tag:noindex
X-PUBLISHED-TTL:PT1H
BEGIN:VTIMEZONE
TZID:Europe/Madrid
BEGIN:DAYLIGHT
TZOFFSETFROM:+0100
TZOFFSETTO:+0200
TZNAME:CEST
DTSTART:20230326T010000
END:DAYLIGHT
BEGIN:STANDARD
TZOFFSETFROM:+0200
TZOFFSETTO:+0100
TZNAME:CET
DTSTART:20231029T010000
END:STANDARD
BEGIN:DAYLIGHT
TZOFFSETFROM:+0100
TZOFFSETTO:+0200
TZNAME:CEST
DTSTART:20240331T010000
END:DAYLIGHT
BEGIN:STANDARD
TZOFFSETFROM:+0200
TZOFFSETTO:+0100
TZNAME:CET
DTSTART:20241027T010000
END:STANDARD
BEGIN:DAYLIGHT
TZOFFSETFROM:+0100
TZOFFSETTO:+0200
TZNAME:CEST
DTSTART:20250330T010000
END:DAYLIGHT
BEGIN:STANDARD
TZOFFSETFROM:+0200
TZOFFSETTO:+0100
TZNAME:CET
DTSTART:20251026T010000
END:STANDARD
END:VTIMEZONE
BEGIN:VEVENT
DTSTART;TZID=Europe/Madrid:20241117T120000
DTEND;TZID=Europe/Madrid:20241117T120000
DTSTAMP:20260420T161228
CREATED:20240412T103823Z
LAST-MODIFIED:20240412T103823Z
UID:10008431-1731844800-1731844800@zaragenda.com
SUMMARY:Museos y Mujeres - Los bajos fondos de las ciudades romanas
DESCRIPTION:Esta nueva edición de Museos y Mujeres 2024 propone ahondar en el conocimiento de las mujeres a lo largo de la historia y la historia del arte desde la perspectiva de género a través de conferencias\, visitas y talleres como este. \nEn esta visita al Museo del Puerto Fluvial de Caesaraugusta hablaremos de los roles sexuales de la civilización romana y pondremos en duda la teoría de que eran una sociedad liberada en cuestiones sexuales y morales. ¿Estaban también liberadas las mujeres del yugo de la virtud\, la integridad y la lealtad en favor del placer?. El adulterio y sus castigos\, la figura del concubinato o los anticonceptivos serán algunos temas sobre los que hablaremos en uno de los lugares de mayor intercambio\, bullicio y viajeros de Caesaraugusta\, el puerto.
URL:https://zaragenda.com/evento-zaragoza/museos-y-mujeres-los-bajos-fondos-de-las-ciudades-romanas/2024-11-17/
LOCATION:Museo del Puerto Fluvial de Caesaraugusta\, Pl. de San Bruno\, 8\, Casco Antiguo\, Zaragoza\, Zaragoza\, 50001
CATEGORIES:Actividades,Exposiciones,Museos
ATTACH;FMTTYPE=image/png:https://zaragenda.com/wp-content/uploads/2024/04/museos-y-mujeres.png
END:VEVENT
END:VCALENDAR