BEGIN:VCALENDAR
VERSION:2.0
PRODID:-//ZARAGENDA - Agenda Zaragoza de ocio y eventos - ECPv6.15.16//NONSGML v1.0//EN
CALSCALE:GREGORIAN
METHOD:PUBLISH
X-ORIGINAL-URL:https://zaragenda.com
X-WR-CALDESC:Eventos para ZARAGENDA - Agenda Zaragoza de ocio y eventos
REFRESH-INTERVAL;VALUE=DURATION:PT1H
X-Robots-Tag:noindex
X-PUBLISHED-TTL:PT1H
BEGIN:VTIMEZONE
TZID:Europe/Madrid
BEGIN:DAYLIGHT
TZOFFSETFROM:+0100
TZOFFSETTO:+0200
TZNAME:CEST
DTSTART:20200329T010000
END:DAYLIGHT
BEGIN:STANDARD
TZOFFSETFROM:+0200
TZOFFSETTO:+0100
TZNAME:CET
DTSTART:20201025T010000
END:STANDARD
BEGIN:DAYLIGHT
TZOFFSETFROM:+0100
TZOFFSETTO:+0200
TZNAME:CEST
DTSTART:20210328T010000
END:DAYLIGHT
BEGIN:STANDARD
TZOFFSETFROM:+0200
TZOFFSETTO:+0100
TZNAME:CET
DTSTART:20211031T010000
END:STANDARD
BEGIN:DAYLIGHT
TZOFFSETFROM:+0100
TZOFFSETTO:+0200
TZNAME:CEST
DTSTART:20220327T010000
END:DAYLIGHT
BEGIN:STANDARD
TZOFFSETFROM:+0200
TZOFFSETTO:+0100
TZNAME:CET
DTSTART:20221030T010000
END:STANDARD
END:VTIMEZONE
BEGIN:VEVENT
DTSTART;TZID=Europe/Madrid:20210924T190000
DTEND;TZID=Europe/Madrid:20210924T200000
DTSTAMP:20260419T143136
CREATED:20210924T061425Z
LAST-MODIFIED:20221125T121857Z
UID:10003264-1632510000-1632513600@zaragenda.com
SUMMARY:Visita Mediada ‘Lo cotidiano en el espacio. Artistas del volumen’
DESCRIPTION:El IAACC Pablo Serrano organiza visitas mediadas en torno a la muestra Lo cotidiano en el espacio\, con el objetivo de descubrir a las mujeres que trabajan con el volumen: instalaciones\, esculturas\, objetos cotidianos. Atravesaremos estas fronteras y conoceremos el contexto de las artistas\, los materiales de sus obras y qué les mueve a crear mientras dialogamos y recorremos el espacio de la exposición\, y del propio museo. Rodeadas de esculturas\, cuerpos ocupando el espacio\, queremos acercarnos a este juego de volúmenes con el que convivimos a través de la obra de las artistas Juana Francés\, Rosa María Gimeno\, Carmen Laffón\, Eva Lootz\, Miranda D´Amico y Fernando Almela Guillén. \n¿Qué espacio ocupan las obras no expuestas? En cada visita el recorrido dependerá del azar\, de vuestra elección\, del diálogo que se establezca. Cada día tendremos la oportunidad de construir una visita diferente. Tú eliges qué hilo seguimos\, sin poder llegar nunca al final\, son muchas las artistas del volumen. La visita terminará con un taller que utilizará diferentes materiales para jugar con el espacio. \nFechas: 10 y 24 de septiembre\, 19:00 horas \nImparte: Colectivo Noray \nImprescindible reserva previa enviando un mail a: difusionmpabloserrano@aragon.es\, especificando fecha\, nombre y apellidos\, y número de teléfono de contacto. Visita recomendada para mayores de 12 años.
URL:https://zaragenda.com/evento-zaragoza/visita-mediada-lo-cotidiano-en-el-espacio-artistas-del-volumen/
LOCATION:Museo Pablo Serrano\, Paseo María Agustín\, 20\, Zaragoza\, Zaragoza\, 50004\, España
CATEGORIES:Visitas Guiadas
ATTACH;FMTTYPE=:
GEO:41.6512366;-0.8899862
X-APPLE-STRUCTURED-LOCATION;VALUE=URI;X-ADDRESS=Museo Pablo Serrano Paseo María Agustín 20 Zaragoza Zaragoza 50004 España;X-APPLE-RADIUS=500;X-TITLE=Paseo María Agustín\, 20:geo:-0.8899862,41.6512366
END:VEVENT
END:VCALENDAR