BEGIN:VCALENDAR
VERSION:2.0
PRODID:-//ZARAGENDA - Agenda Zaragoza de ocio y eventos - ECPv6.15.16//NONSGML v1.0//EN
CALSCALE:GREGORIAN
METHOD:PUBLISH
X-WR-CALNAME:ZARAGENDA - Agenda Zaragoza de ocio y eventos
X-ORIGINAL-URL:https://zaragenda.com
X-WR-CALDESC:Eventos para ZARAGENDA - Agenda Zaragoza de ocio y eventos
REFRESH-INTERVAL;VALUE=DURATION:PT1H
X-Robots-Tag:noindex
X-PUBLISHED-TTL:PT1H
BEGIN:VTIMEZONE
TZID:Europe/Madrid
BEGIN:DAYLIGHT
TZOFFSETFROM:+0100
TZOFFSETTO:+0200
TZNAME:CEST
DTSTART:20200329T010000
END:DAYLIGHT
BEGIN:STANDARD
TZOFFSETFROM:+0200
TZOFFSETTO:+0100
TZNAME:CET
DTSTART:20201025T010000
END:STANDARD
BEGIN:DAYLIGHT
TZOFFSETFROM:+0100
TZOFFSETTO:+0200
TZNAME:CEST
DTSTART:20210328T010000
END:DAYLIGHT
BEGIN:STANDARD
TZOFFSETFROM:+0200
TZOFFSETTO:+0100
TZNAME:CET
DTSTART:20211031T010000
END:STANDARD
BEGIN:DAYLIGHT
TZOFFSETFROM:+0100
TZOFFSETTO:+0200
TZNAME:CEST
DTSTART:20220327T010000
END:DAYLIGHT
BEGIN:STANDARD
TZOFFSETFROM:+0200
TZOFFSETTO:+0100
TZNAME:CET
DTSTART:20221030T010000
END:STANDARD
END:VTIMEZONE
BEGIN:VEVENT
DTSTART;VALUE=DATE:20210430
DTEND;VALUE=DATE:20210628
DTSTAMP:20260420T141145
CREATED:20210416T080530Z
LAST-MODIFIED:20230208T133418Z
UID:10002220-1619740800-1624838399@zaragenda.com
SUMMARY:Exposición 'Somos memoria'
DESCRIPTION:Esta exposición tendrá lugar en el Palacio de Montemuzo donde podrás conocer el testimonio de la historia de Zaragoza y los principales hitos de la ciudad a través de fotos\, planos\, documentos\, recortes de periódicos y carteles de Fiestas del Pilar. Podrás disfrutar de ella desde el 30 de marzo hasta el 27 de junio de 2021\, de martes a sábado de 10h a 14h y de 17h a 21h y los domingos de 10h a 14:30h. \nLa exposición\, inicia en el patio del Palacio Montemuzo\, donde podrás observar una gran reproducción del plano de Casanova Vista de la ciudad de Zaragoza por el septentrión levantado en 1734\, en concreto de una preciosa panorámica\, un skyline de la Zaragoza del siglo XVIII. \nUna vez dentro podrás contemplar el Privilegio de los Veinte\, un documento de 1129 en el que Alfonso I\, que había tomado Zaragoza unos años antes\, concede sus fueros a la Ciudad; el protocolo del milagro de Calanda\, muy importante para la tradición pilarista y el auge de la devoción a la Virgen en el siglo XVII; el Libro V de los Privilegios\, el único que se conserva de una serie de cinco libros que recogían todos los derechos y privilegios que tenía Zaragoza; grandes carteles de Fiestas del Pilar pintados por Unceta y Rafael Aguado; el periódico zaragozano más antiguo\, las ¿Noticias generales de Europa venidas a Zaragoza por el correo de Flandes¿; una muestra de fotografías históricas de la ciudad\, y una selección de planos y proyectos que nos muestran la importancia del Archivo para el conocimiento de la evolución urbana y de los edificios de Zaragoza\, firmados por arquitectos como Ríos\, Yarza\, Navarro o Magdalena.  \nTambién podrás observar grandes noticias de los periódicos\, también de los anuncios\, las carteleras e incluso las esquelas\, todo lo que hace de la prensa una fuente de información y documentación imprescindible para conocer el pasado. Hay instalados 14 códigos QR a lo largo de todo el recorrido para que pequeños y mayores\, utilizando sus propios dispositivos móviles y auriculares\, y realizando los juegos o retos que se proponen\, se acerquen a la memoria colectiva de la ciudad. 
URL:https://zaragenda.com/evento-zaragoza/exposicion-somos-memoria/
LOCATION:Palacio de Montemuzo\, Calle Santiago\, 36\, Zaragoza\, Zaragoza\, 50003\, España
CATEGORIES:Exposiciones
ATTACH;FMTTYPE=image/jpeg:https://zaragenda.com/wp-content/uploads/2021/04/memoriasomospalaciomontemuzo.jpg
GEO:41.6547342;-0.8773593
X-APPLE-STRUCTURED-LOCATION;VALUE=URI;X-ADDRESS=Palacio de Montemuzo Calle Santiago 36 Zaragoza Zaragoza 50003 España;X-APPLE-RADIUS=500;X-TITLE=Calle Santiago\, 36:geo:-0.8773593,41.6547342
END:VEVENT
END:VCALENDAR