BEGIN:VCALENDAR
VERSION:2.0
PRODID:-//ZARAGENDA - Agenda Zaragoza de ocio y eventos - ECPv6.15.16//NONSGML v1.0//EN
CALSCALE:GREGORIAN
METHOD:PUBLISH
X-ORIGINAL-URL:https://zaragenda.com
X-WR-CALDESC:Eventos para ZARAGENDA - Agenda Zaragoza de ocio y eventos
REFRESH-INTERVAL;VALUE=DURATION:PT1H
X-Robots-Tag:noindex
X-PUBLISHED-TTL:PT1H
BEGIN:VTIMEZONE
TZID:Europe/Madrid
BEGIN:DAYLIGHT
TZOFFSETFROM:+0100
TZOFFSETTO:+0200
TZNAME:CEST
DTSTART:20200329T010000
END:DAYLIGHT
BEGIN:STANDARD
TZOFFSETFROM:+0200
TZOFFSETTO:+0100
TZNAME:CET
DTSTART:20201025T010000
END:STANDARD
BEGIN:DAYLIGHT
TZOFFSETFROM:+0100
TZOFFSETTO:+0200
TZNAME:CEST
DTSTART:20210328T010000
END:DAYLIGHT
BEGIN:STANDARD
TZOFFSETFROM:+0200
TZOFFSETTO:+0100
TZNAME:CET
DTSTART:20211031T010000
END:STANDARD
BEGIN:DAYLIGHT
TZOFFSETFROM:+0100
TZOFFSETTO:+0200
TZNAME:CEST
DTSTART:20220327T010000
END:DAYLIGHT
BEGIN:STANDARD
TZOFFSETFROM:+0200
TZOFFSETTO:+0100
TZNAME:CET
DTSTART:20221030T010000
END:STANDARD
END:VTIMEZONE
BEGIN:VEVENT
DTSTART;TZID=Europe/Madrid:20211223T160000
DTEND;TZID=Europe/Madrid:20211224T140000
DTSTAMP:20260420T013746
CREATED:20211223T101144Z
LAST-MODIFIED:20230208T162812Z
UID:10004700-1640275200-1640354400@zaragenda.com
SUMMARY:Winter ZGZ Market
DESCRIPTION:Los días 23 y 24 de diciembre se celebra el Winter ZGZ Market\, un mercadillo en el que participan 10 marcas aragonesas con regalos y detalles ideales para la navidad. \nWinter ZGZ Market\nPasaje del Ciclón\nJueves 23 de diciembre de 16 h. a 21 h.\nViernes 24 de diciembre de 10 h. a 14 h.
URL:https://zaragenda.com/evento-zaragoza/winter-zgz-market/
LOCATION:Pasaje del Ciclón\, Plaza Nuestra Señora del Pilar\, Zaragoza\, Zaragoza\, 50003\, España
CATEGORIES:Mercadillos,Navidad
ATTACH;FMTTYPE=image/jpeg:https://zaragenda.com/wp-content/uploads/2021/12/winter_zgz_market-Q8ykDa.tmp_.jpg
GEO:41.6564356;-0.8786742
X-APPLE-STRUCTURED-LOCATION;VALUE=URI;X-ADDRESS=Pasaje del Ciclón Plaza Nuestra Señora del Pilar Zaragoza Zaragoza 50003 España;X-APPLE-RADIUS=500;X-TITLE=Plaza Nuestra Señora del Pilar:geo:-0.8786742,41.6564356
END:VEVENT
END:VCALENDAR