BEGIN:VCALENDAR
VERSION:2.0
PRODID:-//ZARAGENDA - Agenda Zaragoza de ocio y eventos - ECPv6.15.16//NONSGML v1.0//EN
CALSCALE:GREGORIAN
METHOD:PUBLISH
X-ORIGINAL-URL:https://zaragenda.com
X-WR-CALDESC:Eventos para ZARAGENDA - Agenda Zaragoza de ocio y eventos
REFRESH-INTERVAL;VALUE=DURATION:PT1H
X-Robots-Tag:noindex
X-PUBLISHED-TTL:PT1H
BEGIN:VTIMEZONE
TZID:Europe/Madrid
BEGIN:DAYLIGHT
TZOFFSETFROM:+0100
TZOFFSETTO:+0200
TZNAME:CEST
DTSTART:20200329T010000
END:DAYLIGHT
BEGIN:STANDARD
TZOFFSETFROM:+0200
TZOFFSETTO:+0100
TZNAME:CET
DTSTART:20201025T010000
END:STANDARD
BEGIN:DAYLIGHT
TZOFFSETFROM:+0100
TZOFFSETTO:+0200
TZNAME:CEST
DTSTART:20210328T010000
END:DAYLIGHT
BEGIN:STANDARD
TZOFFSETFROM:+0200
TZOFFSETTO:+0100
TZNAME:CET
DTSTART:20211031T010000
END:STANDARD
BEGIN:DAYLIGHT
TZOFFSETFROM:+0100
TZOFFSETTO:+0200
TZNAME:CEST
DTSTART:20220327T010000
END:DAYLIGHT
BEGIN:STANDARD
TZOFFSETFROM:+0200
TZOFFSETTO:+0100
TZNAME:CET
DTSTART:20221030T010000
END:STANDARD
BEGIN:DAYLIGHT
TZOFFSETFROM:+0100
TZOFFSETTO:+0200
TZNAME:CEST
DTSTART:20230326T010000
END:DAYLIGHT
BEGIN:STANDARD
TZOFFSETFROM:+0200
TZOFFSETTO:+0100
TZNAME:CET
DTSTART:20231029T010000
END:STANDARD
BEGIN:DAYLIGHT
TZOFFSETFROM:+0100
TZOFFSETTO:+0200
TZNAME:CEST
DTSTART:20240331T010000
END:DAYLIGHT
BEGIN:STANDARD
TZOFFSETFROM:+0200
TZOFFSETTO:+0100
TZNAME:CET
DTSTART:20241027T010000
END:STANDARD
BEGIN:DAYLIGHT
TZOFFSETFROM:+0100
TZOFFSETTO:+0200
TZNAME:CEST
DTSTART:20250330T010000
END:DAYLIGHT
BEGIN:STANDARD
TZOFFSETFROM:+0200
TZOFFSETTO:+0100
TZNAME:CET
DTSTART:20251026T010000
END:STANDARD
END:VTIMEZONE
BEGIN:VEVENT
DTSTART;TZID=Europe/Madrid:20240511T203000
DTEND;TZID=Europe/Madrid:20240511T203000
DTSTAMP:20260419T144314
CREATED:20240404T102953Z
LAST-MODIFIED:20240404T102953Z
UID:10008337-1715459400-1715459400@zaragenda.com
SUMMARY:Zaragoza Comedy - Luis Fabra
DESCRIPTION:Uno de los cómicos de política y economía de actualidad llega a nuestros escenarios. El mismo se autodefine como presentador\, monologuista\, conductor de eventos\, actor y locutor. \nSu monólogo ‘Sincericidio’ nos trae un show de humor donde el público se convierte en el protagonista pero desde el anonimato. \n¡Anímate y ven a disfrutarlo!
URL:https://zaragenda.com/evento-zaragoza/zaragoza-comedy-luis-fabra/
LOCATION:Patio de la Infanta\, San Ignacio de Loyola\, 16\, Zaragoza\, Zaragoza\, 50008\, España
CATEGORIES:Espectáculos,humor,Ocio y tiempo libre
ATTACH;FMTTYPE=image/jpeg:https://zaragenda.com/wp-content/uploads/2024/04/zaragoza-comedy-luis-fabra.jpg
GEO:41.64646;-0.88456
X-APPLE-STRUCTURED-LOCATION;VALUE=URI;X-ADDRESS=Patio de la Infanta San Ignacio de Loyola 16 Zaragoza Zaragoza 50008 España;X-APPLE-RADIUS=500;X-TITLE=San Ignacio de Loyola\, 16:geo:-0.88456,41.64646
END:VEVENT
BEGIN:VEVENT
DTSTART;TZID=Europe/Madrid:20230411T190000
DTEND;TZID=Europe/Madrid:20230411T190000
DTSTAMP:20260419T144314
CREATED:20230330T072749Z
LAST-MODIFIED:20230330T072749Z
UID:10007238-1681239600-1681239600@zaragenda.com
SUMMARY:Asma\, alergias y patologías de primavera
DESCRIPTION:Es imprescindible estar inscrito para poder asistir. Una vez comenzado el acto las inscripciones no garantizarán la entrada al mismo. Las inscripciones se realizarán en la siguiente página: https://www.fundacionibercaja.es/actividades/conferencias-y-mesas-redondas/asma-alergias-y-patologias-de-primavera-zaragoza/ \nSalud humana y salud planetaria están estrechamente relacionadas y no se entienden la una sin la otra. Bajo esta premisa\, la Comisión de Salud y Medioambiente del Colegio de Médicos de Zaragoza ha organizado el ciclo de charlas + QUE SALUD. Cuidando de ti\, cuidando del planeta\, con el objetivo de concienciar a la ciudadanía sobre el cambio climático y sus graves consecuencias para la salud. \nLa primavera es la estación más temida por los alérgicos\, dificultad al respirar\, estornudos\, ojos irritados\, moquita y asma alérgica\, afecta a la mayoría de ellos. \nPara profundizar un poco más en el tema y ayudarnos a afrontar mejor este problema tan molesto\, contamos con: \n\nJesús de la Osa Tomás. Técnico de Educación Ambiental. Servicio de Medio Ambiente y Sostenibilidad. Ayuntamiento de Zaragoza. Coordinador del itinerario formativo en Salud Global en el Instituto Aragonés de Ciencias de la Salud IACS. Editor de los Informes Salud y Medio Ambiente DKV ECODES de 2008 a 2016.\nIñaki Perez-Camo Chóliz. Médico alergólogo. Hospital Royo Villanova. Consulta de Asma y Alergia. Presidente de la Asociación Aragonesa de Alergia. Coordinador estudios de primer nivel publicados en revistas de Referencia Europeas e Internacionales.\n\nLugar: Patio de la Infanta Fundación Ibercaja \nSan Ignacio de Loyola\, 16\nZaragoza 50008\n976 971 926 \nFechas y Horario 11 de abril de 2023\, Martes\, 19 h. \nPrecio: Actividad Gratuita \n 
URL:https://zaragenda.com/evento-zaragoza/asma-alergias-y-patologias-de-primavera/
LOCATION:Patio de la Infanta\, San Ignacio de Loyola\, 16\, Zaragoza\, Zaragoza\, 50008\, España
CATEGORIES:Conferencias
ATTACH;FMTTYPE=image/jpeg:https://zaragenda.com/wp-content/uploads/2023/03/Conferencias-quesalud-COMZ-pdf-997NTF.tmp_.jpg
GEO:41.64646;-0.88456
X-APPLE-STRUCTURED-LOCATION;VALUE=URI;X-ADDRESS=Patio de la Infanta San Ignacio de Loyola 16 Zaragoza Zaragoza 50008 España;X-APPLE-RADIUS=500;X-TITLE=San Ignacio de Loyola\, 16:geo:-0.88456,41.64646
END:VEVENT
BEGIN:VEVENT
DTSTART;TZID=Europe/Madrid:20221216T190000
DTEND;TZID=Europe/Madrid:20221216T210000
DTSTAMP:20260419T144314
CREATED:20221128T175648Z
LAST-MODIFIED:20230208T181133Z
UID:10006226-1671217200-1671224400@zaragenda.com
SUMMARY:Concierto Góspel Solidario en favor de Fundación ASPACE Zaragoza
DESCRIPTION:La Escuela de Góspel actuará en concierto el próximo 16 de diciembre a las 19.00 horas en el Patio de la Infanta de Ibercaja con el fin de obtener fondos para el Colegio San Germán. \nLa recaudación del concierto “Me siento bien si tu cantas” ayudará a los alumnos y alumnas del centro a que se “sienten” mejor. Este evento solidario\, organizado por Fundación ASPACE Zaragoza\, servirá para la adquisición de tronas terapéuticas posturales. \nEl uso de estas tronas es fundamental para el día a día de los alumnos y alumnas del Colegio San Germán puesto que contribuyen al desarrollo y posicionamiento que cada uno necesita.  \nLas entradas ya se pueden adquirir en los Cajeros de Ibercaja o desde su página web\, además\, puedes colaborar con la fila 0. \n¡Animaros! Disfrutaréis de un buen espectáculo y contribuiréis a mejorar la calidad de vida de los peques de San Germán. \nFecha: viernes 16 de diciembre\nHora: 19.00 horas\nLugar: Ibercaja\, Patio de la Infanta (San Ignacio de Loyola\, 16)
URL:https://zaragenda.com/evento-zaragoza/concierto-gospel-solidario-en-favor-de-fundacion-aspace-zaragoza/
LOCATION:Patio de la Infanta\, San Ignacio de Loyola\, 16\, Zaragoza\, Zaragoza\, 50008\, España
CATEGORIES:Concierto,Música,Solidaridad
ATTACH;FMTTYPE=image/jpeg:https://zaragenda.com/wp-content/uploads/2022/11/Dossier-Concierto-Gospel-Solidario-1.jpg
GEO:41.64646;-0.88456
X-APPLE-STRUCTURED-LOCATION;VALUE=URI;X-ADDRESS=Patio de la Infanta San Ignacio de Loyola 16 Zaragoza Zaragoza 50008 España;X-APPLE-RADIUS=500;X-TITLE=San Ignacio de Loyola\, 16:geo:-0.88456,41.64646
END:VEVENT
BEGIN:VEVENT
DTSTART;TZID=Europe/Madrid:20220216T183000
DTEND;TZID=Europe/Madrid:20220216T193000
DTSTAMP:20260419T144314
CREATED:20220211T184359Z
LAST-MODIFIED:20230208T164016Z
UID:10004877-1645036200-1645039800@zaragenda.com
SUMMARY:Los Fondos de Recuperación y Resiliencia\, una oportunidad para la transformación de la industria
DESCRIPTION:Ciclo Aragón 2030\nMiércoles 16 de febrero de 2022 – Hora: 18:00h\nOrganizan: Colegio Mayor Miraflores y Fundación Ibercaja\nD. Raúl Blanco Díaz\, Secretario General de Industria y de la Pequeña y Mediana Empresa. Ministerio de Industria\, Comercio y Turismo\nTítulo: “Los Fondos de Recuperación y Resiliencia\, una oportunidad para la transformación de la industria”\nLugar: Patio de la Infanta de Ibercaja C. San Ignacio de Loyola\, 16\, 50008 Zaragoza (Salón Aragón)\nInscripciones: https://www.fundacionibercaja.es/zaragoza/conferencia-los-fondos-de-recuperacion-y-resiliencia-una-oportunidad-para-la-transformacion-de-la-industria
URL:https://zaragenda.com/evento-zaragoza/los-fondos-de-recuperacion-y-resiliencia-una-oportunidad-para-la-transformacion-de-la-industria/
LOCATION:Patio de la Infanta\, San Ignacio de Loyola\, 16\, Zaragoza\, Zaragoza\, 50008\, España
ATTACH;FMTTYPE=image/jpeg:https://zaragenda.com/wp-content/uploads/2022/02/cartel-Fondos.jpg
GEO:41.64646;-0.88456
X-APPLE-STRUCTURED-LOCATION;VALUE=URI;X-ADDRESS=Patio de la Infanta San Ignacio de Loyola 16 Zaragoza Zaragoza 50008 España;X-APPLE-RADIUS=500;X-TITLE=San Ignacio de Loyola\, 16:geo:-0.88456,41.64646
END:VEVENT
BEGIN:VEVENT
DTSTART;TZID=Europe/Madrid:20211228T190000
DTEND;TZID=Europe/Madrid:20211228T200000
DTSTAMP:20260419T144314
CREATED:20211223T101223Z
LAST-MODIFIED:20230208T162830Z
UID:10004701-1640718000-1640721600@zaragenda.com
SUMMARY:Concierto de navidad An Extraordinary Christmas
DESCRIPTION:Fundación Ibercaja quiere compartir contigo el espíritu navideño de la mano del septeto An Extraordinary Christmas\, quienes nos invitan a disfrutar de una pequeña inmersión en el continente americano a través de sus villancicos tradicionales. Guiada por la voz de Carolina Ferrer\, con Jesús Bellosta a la guitarra\, Frankcho Gallego al teclado\, Coco Balasch al contrabajo\, Alberto Enguita al saxo encabezando el dúo de vientos y Fran Gazol a la batería y\, en esta ocasión\, los cascabeles. \nDesde el siglo XIX – con clásicos como Jingle Bells- hasta aterrizar en el villancico moderno\, An Extraordinary Christmas nos traslada a una inolvidable velada navideña. Todo ello traído con un groove swing-jazz\, ecos de Frank Sinatra\, Brenda Lee\, Louis Armstrong\, Ella Fitgerald\, Elvis Presley o Diana Krall. \nPrecio 10 €\, entradas a la venta en cajeros Ibercaja o en entradas.ibercaja.es\, disponibles hasta completar aforo.
URL:https://zaragenda.com/evento-zaragoza/concierto-de-navidad-an-extraordinary-christmas/
LOCATION:Patio de la Infanta\, San Ignacio de Loyola\, 16\, Zaragoza\, Zaragoza\, 50008\, España
CATEGORIES:Música
ATTACH;FMTTYPE=image/jpeg:https://zaragenda.com/wp-content/uploads/2021/12/concierto-copia.jpg
GEO:41.64646;-0.88456
X-APPLE-STRUCTURED-LOCATION;VALUE=URI;X-ADDRESS=Patio de la Infanta San Ignacio de Loyola 16 Zaragoza Zaragoza 50008 España;X-APPLE-RADIUS=500;X-TITLE=San Ignacio de Loyola\, 16:geo:-0.88456,41.64646
END:VEVENT
BEGIN:VEVENT
DTSTART;TZID=Europe/Madrid:20211223T110000
DTEND;TZID=Europe/Madrid:20211223T140000
DTSTAMP:20260419T144314
CREATED:20210924T061403Z
LAST-MODIFIED:20230208T145907Z
UID:10003258-1640257200-1640268000@zaragenda.com
SUMMARY:Visita al Patio de la Infanta
DESCRIPTION:Esta joya del arte renacentista aragonés se remonta al año 1549. El comerciante y noble aragonés Gabriel Zaporta\, judeoconverso y primer banquero de la Corona de Aragón\, mandó construir la Casa Zaporta como regalo de bodas para su esposa Sabina de Santángel\, también de familia de judeoconversos. La Casa Zaporta se situaba en los límites de la antigua judería. La espléndida mansión\, considerada la primera entidad bancaria de España\, se organizaba alrededor de un hermosísimo patio central\, convertido desde el primer momento en “espejo del esplendor renacentista zaragozano”. \nTras el fallecimiento de Sabina de Santángel en 1579 y de Gabriel Zaporta profundamente apenado un año más tarde\, hereda la Casa Zaporta el primogénito de Gabriel\, Luis Zaporta\, casado con la noble Mariana de Albión. En el siglo XVIII figuran como nuevos propietarios de la Casa Zaporta la familia Franco\, quienes fraccionan el edificio para alquilar sus diversas estancias. Ramón de Pignatelli y Moncayo\, el zaragozano más ilustre de su tiempo\, habitaría como inquilino la planta primera de la Casa Zaporta\, mientras en las salas bajas de la Casa abiertas al Patio\, la Real Sociedad Económica Aragonesa de Amigos del País funda la Escuela de Dibujo que en 1792 se convertirá en La Real Academia de Bellas Artes de San Luis. \nEn la primavera de 1793\, tras la muerte de Ramón de Pignatelli\, es la noble aragonesa María Teresa de Vallabriga y Rozas viuda del Infante Luis de Borbón\, quien regresada a su ciudad natal\, habitará la Casa Zaporta. Desde ese momento\, será llamada para siempre “Casa de la Infanta”. Y su maravilloso Patio\, llegado hasta hoy\, el “Patio de la Infanta”. \nA lo largo del siglo XIX\, el inmueble sirvió de establecimiento a diferentes instituciones y negocios: Liceo Literario\, el Casino Monárquico y Liberal\, el Colegio de Humanidades de don Mariano Ponzano\, la Academia Jurídico-Práctica Aragonesa o el Casino de Zaragoza\, mientras los posteriores propietarios alquilaban las partes libres del edificio\, sirviendo también para diferentes usos como: taller de fundición\, almacén de carbones y de maderas\, escuela de música\, centro del Círculo de Obreros Católicos\, taller y fábrica de pianos\, imprenta\, taller de ebanistería… \nEn 1894 la casa sufrió un importante incendio\, quedando en situación ruinosa. Después de varios intentos de recuperación\, en 1903 se inició el derribo del edificio\, del que únicamente se salvaría el Patio de la Infanta\, que fue desmontado y vendido en 1904 al anticuario francés Ferdinand Schultz\, quien se lo llevó a París montándolo de nuevo para que sirviera de singular marco a su tienda de antigüedades. Fallecido el anticuario\, sus herederos pusieron a la venta el Patio\, despertando el deseo de adquisición por parte de importantes admiradores como Goering y Eva Perón. Finalmente en 1958 la Caja de Ahorros y Monte de Piedad de Zaragoza\, Aragón y Rioja consigue comprar el Patio para traerlo de nuevo a su ciudad\, y lo instalará en la sede central de Ibercaja en 1980\, donde hoy lo contemplamos. \nVisita al Patio de la Infanta en Zaragoza\nDe lunes a jueves\, de 11 a 14 y de 17 a 20 h. Viernes y sábados\, de 11 a 14 h. Cerrado domingos y festivos. Entrada gratuita.
URL:https://zaragenda.com/evento-zaragoza/visita-al-patio-de-la-infanta/2021-12-23/
LOCATION:Patio de la Infanta\, San Ignacio de Loyola\, 16\, Zaragoza\, Zaragoza\, 50008\, España
ATTACH;FMTTYPE=image/jpeg:https://zaragenda.com/wp-content/uploads/2021/09/712x390-1.jpg
GEO:41.64646;-0.88456
X-APPLE-STRUCTURED-LOCATION;VALUE=URI;X-ADDRESS=Patio de la Infanta San Ignacio de Loyola 16 Zaragoza Zaragoza 50008 España;X-APPLE-RADIUS=500;X-TITLE=San Ignacio de Loyola\, 16:geo:-0.88456,41.64646
END:VEVENT
END:VCALENDAR