BEGIN:VCALENDAR
VERSION:2.0
PRODID:-//ZARAGENDA - Agenda Zaragoza de ocio y eventos - ECPv6.15.16//NONSGML v1.0//EN
CALSCALE:GREGORIAN
METHOD:PUBLISH
X-ORIGINAL-URL:https://zaragenda.com
X-WR-CALDESC:Eventos para ZARAGENDA - Agenda Zaragoza de ocio y eventos
REFRESH-INTERVAL;VALUE=DURATION:PT1H
X-Robots-Tag:noindex
X-PUBLISHED-TTL:PT1H
BEGIN:VTIMEZONE
TZID:Europe/Madrid
BEGIN:DAYLIGHT
TZOFFSETFROM:+0100
TZOFFSETTO:+0200
TZNAME:CEST
DTSTART:20200329T010000
END:DAYLIGHT
BEGIN:STANDARD
TZOFFSETFROM:+0200
TZOFFSETTO:+0100
TZNAME:CET
DTSTART:20201025T010000
END:STANDARD
BEGIN:DAYLIGHT
TZOFFSETFROM:+0100
TZOFFSETTO:+0200
TZNAME:CEST
DTSTART:20210328T010000
END:DAYLIGHT
BEGIN:STANDARD
TZOFFSETFROM:+0200
TZOFFSETTO:+0100
TZNAME:CET
DTSTART:20211031T010000
END:STANDARD
BEGIN:DAYLIGHT
TZOFFSETFROM:+0100
TZOFFSETTO:+0200
TZNAME:CEST
DTSTART:20220327T010000
END:DAYLIGHT
BEGIN:STANDARD
TZOFFSETFROM:+0200
TZOFFSETTO:+0100
TZNAME:CET
DTSTART:20221030T010000
END:STANDARD
END:VTIMEZONE
BEGIN:VEVENT
DTSTART;TZID=Europe/Madrid:20210124T120000
DTEND;TZID=Europe/Madrid:20210124T140000
DTSTAMP:20260426T024458
CREATED:20210121T154043Z
LAST-MODIFIED:20221125T123022Z
UID:10000050-1611489600-1611496800@zaragenda.com
SUMMARY:Sombras y Siluetas
DESCRIPTION:Tres películas de la cineasta Lotte Reiniger pionera de la animación y\, para muchos\, inspiradora de Disney. \nTres cuentos clásicos cuya magia en la pantalla se acompaña con la narración y los efectos especiales de los actores Alberto Cavero y Javier Ortiz y la música en directo de Juan Sánchez Molina. \nLa belleza de tres artes para disfrutar en familia. \nPelículas: La Cenicienta\, Las Habichuelas Mágicas y Pulgarcita. \nPelículas: Lotte Reiniger Traducción: Javier Ortiz Efectos sonoros\, narración y manipulación de títeres: ALBERTO CAVERO y GUILLERMINA CALICCHIO\nMúsica: Juan Sánchez Molina
URL:https://zaragenda.com/evento-zaragoza/sombras-y-siluetas/2021-01-24/
LOCATION:Teatro Arbolé\, Parque del Agua Luis Buñuel. Paseo del Botánico\, 5\, Zaragoza\, 50018\, España
CATEGORIES:Espectáculos,Infantil,Teatro
ATTACH;FMTTYPE=:
GEO:41.667608;-0.91011
X-APPLE-STRUCTURED-LOCATION;VALUE=URI;X-ADDRESS=Teatro Arbolé Parque del Agua Luis Buñuel. Paseo del Botánico 5 Zaragoza 50018 España;X-APPLE-RADIUS=500;X-TITLE=Parque del Agua Luis Buñuel. Paseo del Botánico\, 5:geo:-0.91011,41.667608
END:VEVENT
END:VCALENDAR