BEGIN:VCALENDAR
VERSION:2.0
PRODID:-//ZARAGENDA - Agenda Zaragoza de ocio y eventos - ECPv6.15.16//NONSGML v1.0//EN
CALSCALE:GREGORIAN
METHOD:PUBLISH
X-WR-CALNAME:ZARAGENDA - Agenda Zaragoza de ocio y eventos
X-ORIGINAL-URL:https://zaragenda.com
X-WR-CALDESC:Eventos para ZARAGENDA - Agenda Zaragoza de ocio y eventos
REFRESH-INTERVAL;VALUE=DURATION:PT1H
X-Robots-Tag:noindex
X-PUBLISHED-TTL:PT1H
BEGIN:VTIMEZONE
TZID:Europe/Madrid
BEGIN:DAYLIGHT
TZOFFSETFROM:+0100
TZOFFSETTO:+0200
TZNAME:CEST
DTSTART:20200329T010000
END:DAYLIGHT
BEGIN:STANDARD
TZOFFSETFROM:+0200
TZOFFSETTO:+0100
TZNAME:CET
DTSTART:20201025T010000
END:STANDARD
BEGIN:DAYLIGHT
TZOFFSETFROM:+0100
TZOFFSETTO:+0200
TZNAME:CEST
DTSTART:20210328T010000
END:DAYLIGHT
BEGIN:STANDARD
TZOFFSETFROM:+0200
TZOFFSETTO:+0100
TZNAME:CET
DTSTART:20211031T010000
END:STANDARD
BEGIN:DAYLIGHT
TZOFFSETFROM:+0100
TZOFFSETTO:+0200
TZNAME:CEST
DTSTART:20220327T010000
END:DAYLIGHT
BEGIN:STANDARD
TZOFFSETFROM:+0200
TZOFFSETTO:+0100
TZNAME:CET
DTSTART:20221030T010000
END:STANDARD
END:VTIMEZONE
BEGIN:VEVENT
DTSTART;TZID=Europe/Madrid:20210430T190000
DTEND;TZID=Europe/Madrid:20210430T190000
DTSTAMP:20260422T032256
CREATED:20210416T062012Z
LAST-MODIFIED:20230208T133256Z
UID:10002204-1619809200-1619809200@zaragenda.com
SUMMARY:Cía. X DANZA – CICLO ÓRBITA DANZA
DESCRIPTION:La pieza\, como acto creativo\, nace de la necesidad de contar\, de dialogar entre nosotras sobre el paso del tiempo y el paso de los años. Nace del hecho de no conseguir borrar de nuestras frentes saturadas la pregunta de “¿qué vendrá después?”. \nEste proyecto\, a medio camino entre España y Latinoamérica\, nace de la necesidad de investigar\, crear y explorar nuevos caminos y líneas de movimiento. Partimos de tres identidades y presencias escénicas sumamente distintas para\, a través de un trabajo de búsqueda activa\, hacerlas converger en una sola identidad que nos permita abrirnos camino hacia nuevos proyectos y creaciones. Nuestra línea de trabajo se basa en varias técnicas y herramientas integradas en nuestro bagaje (como la improvisación\, el texto o la documentación\, entre otras). \nNuestra formación en diversas ramas y disciplinas\, como técnicas de suelo\, canto\, psicología\, sociología\, artes plásticas\, arte dramático… articula un proyecto de carácter multidisciplinar. \nOtro objetivo esencial de Equis es el intercambio cultural entre España y Latinoamérica mediante el lenguaje y el diálogo artístico\, sumergiéndonos\, a través de la danza\, en las redes culturales locales de cada país: así\, nutrimos este proyecto y generamos la oportunidad de crear nuevas redes y vínculos artísticos sólidos y diversos. \nFICHA ARTÍSTICA \nCreación e interpretación: Ada Continente\, Saray Garzia Hazas\, Nadia Yagoubi\nFotografía y vídeo: Eduardo Arnillas\, Mario Tejero\, Davicarome\nAsistencia audiovisual: Víctor Conejo y David Torrejon\nIluminación: Nidia Badiola \nEntrada: 16€\nBonificadas (pensionistas\, estudiantes\, parados y colectivos conveniados): 14€\nSocios/alumnos: 6€ (previa reserva) \nPUNTOS DE VENTA: \n\nVenta anticipada:\nA través de su web\nEn nuestras oficinas (C/Aljafería 9 Zaragoza) de lunes a viernes (10h a 20h)\nReserva telefónica: 976 46 94 94\nVenta en taquilla: El mismo día de la representación desde una hora antes (C/ Domingo Figueras Jariod 8-10 Zaragoza)
URL:https://zaragenda.com/evento-zaragoza/cia-x-danza-ciclo-orbita-danza/
LOCATION:Teatro de la Estación\, Domingo Figueras Jariod 8-10\, Zaragoza\, Zaragoza\, 50004\, España
CATEGORIES:Espectáculos,Teatro
ATTACH;FMTTYPE=image/jpeg:https://zaragenda.com/wp-content/uploads/2021/04/https___cdn.evbuc_.com_images_129118051_397115824359_1_original.jpg
GEO:41.6567935;-0.8942876
X-APPLE-STRUCTURED-LOCATION;VALUE=URI;X-ADDRESS=Teatro de la Estación Domingo Figueras Jariod 8-10 Zaragoza Zaragoza 50004 España;X-APPLE-RADIUS=500;X-TITLE=Domingo Figueras Jariod 8-10:geo:-0.8942876,41.6567935
END:VEVENT
BEGIN:VEVENT
DTSTART;TZID=Europe/Madrid:20210327T103000
DTEND;TZID=Europe/Madrid:20210612T133000
DTSTAMP:20260422T032256
CREATED:20210310T083810Z
LAST-MODIFIED:20230208T125934Z
UID:10000076-1616841000-1623504600@zaragenda.com
SUMMARY:Curso de dramaturgia y adaptación de textos dramáticos y narrativos
DESCRIPTION:¿Te gusta escribir? ¿Quieres conocer las herramientas necesarias para escribir una escena\, una obra de teatro\, un guion o realizar una adaptación teatral? \nHoy abrimos matrícula para el “Curso de Dramaturgia y adaptación de textos dramáticos y narrativos” que se desarrollará del 27 de marzo al 12 de junio\, impartido por el dramaturgo Miguel Ángel Mañas. \nOBJETIVOS: \nConocer los materiales y herramientas específicos de la escritura dramática y de la adaptación.\nEscribir un texto breve conclusivo o bien como proyecto de un texto más largo y desarrollar una propuesta de adaptación basada en un texto fuente que el participante proponga. \nTEMARIO DEL CURSO: \n– El “sí mágico” creador.\n– Estructura dramática. Situación previa. Status Quo. El incidente desencadenante. Lo que desencadena. La escena de conflicto. El valor de la situación establecida.\n– Las preguntas del protagonista y del antagonista. Arco de transformación\n– Resolución. Los finales (abiertos\, cerrados\, circulares)\n– Espacios/Lugares escénicos/No lugares\n– ¿Por qué adaptar? Razones y estrategias culturales y económicas.\n– La selección de material para la adaptación.\n– Fuentes y formatos para la adaptación.\n– Condicionantes de producción.\n– Versión Vs Adaptación. \nMiguel Ángel Mañas es licenciado en Dirección de Escena y Dramaturgia por la Escuela Superior de Arte Dramático de Castilla y León y Master en Artes Escénicas por la Universidad de Murcia. Además\, es miembro de la Asociación de Autores de teatro de España. Inmerso en el mundo del teatro desde muy joven\, ha desarrollado su trabajo en el campo de la actuación y la dirección y como dramaturgo y guionista. Actualmente trabaja como docente en el Teatro e la Estación pero ha impartido\, también\, clases sobre Dirección de Escena y Dramaturgia en Ecuador y en Zaragoza. \nHorario: Sábados de 10:30h – 13:30h\nFechas: 27 de marzo/ 10- 17- 24 de abril/ 8 y 22 de mayo / 5 y 12 de junio\nPrecio: 200€\nDirigido a: Todos aquellos interesados que deseen introducirse en la escritura dramática.\nEdad orientativa: Jóvenes (a partir de 17 años) y adultos\, con o sin experiencia previa
URL:https://zaragenda.com/evento-zaragoza/curso-de-dramaturgia-y-adaptacion-de-textos-dramaticos-y-narrativos/2021-03-27/
LOCATION:Teatro de la Estación\, Domingo Figueras Jariod 8-10\, Zaragoza\, Zaragoza\, 50004\, España
CATEGORIES:Espectáculos,Teatro
ATTACH;FMTTYPE=image/jpeg:https://zaragenda.com/wp-content/uploads/2021/03/CURSO-DE-DRAMATURGIA-2021.jpg
GEO:41.6567935;-0.8942876
X-APPLE-STRUCTURED-LOCATION;VALUE=URI;X-ADDRESS=Teatro de la Estación Domingo Figueras Jariod 8-10 Zaragoza Zaragoza 50004 España;X-APPLE-RADIUS=500;X-TITLE=Domingo Figueras Jariod 8-10:geo:-0.8942876,41.6567935
END:VEVENT
BEGIN:VEVENT
DTSTART;TZID=Europe/Madrid:20210312T190000
DTEND;TZID=Europe/Madrid:20210312T203000
DTSTAMP:20260422T032256
CREATED:20210318T081140Z
LAST-MODIFIED:20230208T130516Z
UID:10000294-1615575600-1615581000@zaragenda.com
SUMMARY:Libro del buen amor
DESCRIPTION:LIBRO DE BUEN AMOR \nDel Arcipreste de Hita \nTEATRO GUIRIGAI \nDramaturgia y dirección: Agustín Iglesias \nTEATRO – COMEDIA \n Llega la Comparsa del Arcipreste celebrando la procesión de la Virgen y la fertilidad de la tierra. Juglaresas y juglares anuncian los placeres del Buen Amor y el buen humor tan necesarios para las artes de la seducción. Ante el público escenifican la juventud inexperta del Arcipreste enamorado de cristianas\, moras y judías; los alegres consejos de don Amor y doña Venus; las historias de los amantes perezosos; la historia de Pitas Payas; los amores de don Melón y doña Endrina; la astucia de Trotaconventos; el combate entre don Carnal y doña Cuaresma… \nUna versión coral del “Libro de Buen Amor”\, donde los personajes femeninos son contundentes en sus deseos y reivindican su libertad de acción\, sexual e intelectual. Una mirada contemporánea en la que la palabra y gesto construyen las atmósferas cómico-populares. \nTeatro Guirigai es una de las compañías más longevas del panorama artístico español. Tiene su sede en Extremadura y fue fundada en 1979. Sus producciones se caracterizan por el trabajo en equipo en el proceso creativo. Desde su fundación ha producido más de 50 espectáculos\, con un repertorio que abarca textos clásicos y autores contemporáneos. Con ellos han participado en numerosos festivales (Almagro\, Cáceres\, Niebla\, Almería\, Olite\, Elche\, Alcantara\, Peñiscola…) y recorrido distintos países como Portugal\, Alemania\, Francia\, Rusia\, Italia\, EEUU\, Costa Rica\, Colombia\, Venezuela y Chile. \nEntrada: 16€ \nBonificadas (pensionistas\, estudiantes\, parados y colectivos conveniados): 14€ \n Venta de entradas: \nVENTA ANTICIPADA: \n\nA través de la web: www.teatrodelaestacion.com\nEn las oficinas (C/Aljafería 9 Zaragoza) de lunes a viernes (10h a 20h)\nReserva telefónica en el 976469494\n\nVENTA EN TAQUILLAS: el mismo día de la representación desde una hora antes
URL:https://zaragenda.com/evento-zaragoza/libro-del-buen-amor/
LOCATION:Teatro de la Estación\, Domingo Figueras Jariod 8-10\, Zaragoza\, Zaragoza\, 50004\, España
CATEGORIES:Teatro
ATTACH;FMTTYPE=image/jpeg:https://zaragenda.com/wp-content/uploads/2021/03/4ff8c000-5ef6-11eb-b111-dfb2b9e5018d-rimg-w720-h480-gmir.jpg
GEO:41.6567935;-0.8942876
X-APPLE-STRUCTURED-LOCATION;VALUE=URI;X-ADDRESS=Teatro de la Estación Domingo Figueras Jariod 8-10 Zaragoza Zaragoza 50004 España;X-APPLE-RADIUS=500;X-TITLE=Domingo Figueras Jariod 8-10:geo:-0.8942876,41.6567935
END:VEVENT
BEGIN:VEVENT
DTSTART;TZID=Europe/Madrid:20210307T180000
DTEND;TZID=Europe/Madrid:20210307T190000
DTSTAMP:20260422T032256
CREATED:20210304T110237Z
LAST-MODIFIED:20230208T125642Z
UID:10000263-1615140000-1615143600@zaragenda.com
SUMMARY:‘La Leyenda de Sally Jones’
DESCRIPTION:La leyenda de Sally Jones\, publicada en España por Sushi books\, nos cuenta la historia de una gorila nacida en mala hora\, una noche sin luna ni estrellas\, y condenada\, por ello\, a vivir una vida de grandes trabajos y desventuras. \nÉstas no tardan en presentarse en forma de cazadores furtivos belgas que la capturan y la venden a un comerciante de marfil turco\, que se la quiere regalar a su caprichosa prometida. Comienza así una vida de aventuras\, intrigas\, soledad\, violencia\, lucha\, nobleza y amistad eterna\, recorriendo el mundo en cargueros\, camiones\, carromatos y caravanas circenses\, y rodeada de la más alta y baja estofa de la sociedad. Por la vida de Sally pasan marineros\, magos\, falsas condesas\, jefes de policía\, comerciantes… Y cada uno de estos personajes desempeña un papel decisivo. \nEn una sociedad en la que estamos cada vez más y más sometidos a un bombardeo de estímulos visuales\, es necesario incorporar nuevos lenguajes al tiempo que recordamos la importancia de ser espectador activo (y no pasivo) ante la profusión de información que nos rodea. Optamos por utilizar toda una serie de recursos narrativos\, teatrales y visuales para potenciar esa multiplicación y profusión informativa. \nDe la misma manera que una historia no tiene sólo un punto de vista\, tampoco en nuestro relato utilizaremos un único código teatral. Asumimos un sistema híbrido de representación en el que tienen cabida la narración\, el teatro de títeres\, las proyecciones cinematográficas\, el teatro-documento\, el teatro gestual\, el teatro de objetos y las rupturas del teatro brechtiano. \nTodo ello sin abandonar un aspecto lúdico esencial en nuestra propuesta: queremos jugar y divertirnos mientras contamos a Sally de la misma manera que los niños se apasionan jugando\, pasando de un personaje a otro y utilizando todo lo que tienen a su alcance. \n¿Qué hay de verdad en la historia de Sally Jones?\n¿Puede un gorila aprender a comportarse como un ser humano?\n¿Cómo puede uno escapar a la alienación mental?\n¿Cómo podemos saber si lo que nos enseñan es bueno o malo? \nDos actores que asumen un rol de investigadores-reporteros para narrar lo que denominan desde el inicio como una leyenda\, La leyenda de Sally Jones. Si como tal\, la leyenda parte de elementos verídicos para transformarlos en un relato teñido de fantasía\, otro tanto podría decirse del desarrollo del espectáculo. Los actores son ante todo dos investigadores cuya misión es recuperar las pruebas que atestigüen de la veracidad de los hechos en la historia que nos llega a través de unos discos de pizarra. En su búsqueda\, atravesarán eventos históricos fácilmente reconocibles\, confrontándonos con la visión que de ellos se presentaba en los medios de información de la época. ¿Eran ciertas esas informaciones? O ¿eran propaganda tergiversada? La supuesta «historia» de ciertos personajes respetables ¿fue realmente tal y como nos la cuentan? O bien ¿pura hagiografía? ¿Son los titulares de la prensa fiables al 100%? \nEn Baychimo Teatro desde hace varios años hemos ampliado nuestra relación con las artes escénicas y el público\, elaborando programas pedagógicos\, programaciones y creando trabajos para niñas y niños de todas las edades. Procuramos que todos nuestros trabajos tengan una amplia influencia de múltiples disciplinas artísticas\, generando una mirada y su consecuente reflexión hacia lo que nos rodea a través y también entorno al arte y el espacio simbólico. La Leyenda de Sally Jones es un espectáculo para todos los públicos a partir de 6 años sobre una idea original de John Cornwell. \nFICHA ARTÍSTICA \nActores / manipuladores: Paloma Leal / Ramón Enríquez\nTíteres\, máscaras y vídeo: Arturo Ledesma\nConstrucción objetos: Pablo Vizán\nIluminación: Inda Álvarez\nSelección musical: Javier Navarro de Luz\nTarima: Carlos Monzón\nVestuario: Andrea Valero\nVoz Sally: Moka Seco\nDiseño gráfico: Morsa\nFotografías: José Luis Leal\nEscenografía: Ramón Enríquez\nDramaturgia: Paloma Leal\nDirección: Alberto Martínez Guinaldo \n  \nPrecio único bonificado: 10€\nSocios/alumnos: 6€ (previa reserva)
URL:https://zaragenda.com/evento-zaragoza/la-leyenda-de-sally-jones/2021-03-07/
LOCATION:Teatro de la Estación\, Domingo Figueras Jariod 8-10\, Zaragoza\, Zaragoza\, 50004\, España
CATEGORIES:Cincomarzada 2020,Espectáculos,Fiestas,Infantil,Teatro
ATTACH;FMTTYPE=image/png:https://zaragenda.com/wp-content/uploads/2021/03/LA-LEYENDA-DE-SALLY-JONES_FotoHR-10-MO4pFY.tmp_.png
GEO:41.6567935;-0.8942876
X-APPLE-STRUCTURED-LOCATION;VALUE=URI;X-ADDRESS=Teatro de la Estación Domingo Figueras Jariod 8-10 Zaragoza Zaragoza 50004 España;X-APPLE-RADIUS=500;X-TITLE=Domingo Figueras Jariod 8-10:geo:-0.8942876,41.6567935
END:VEVENT
BEGIN:VEVENT
DTSTART;TZID=Europe/Madrid:20210131T180000
DTEND;TZID=Europe/Madrid:20210131T190000
DTSTAMP:20260422T032256
CREATED:20210119T172455Z
LAST-MODIFIED:20230208T124139Z
UID:10000094-1612116000-1612119600@zaragenda.com
SUMMARY:"En Inverness" - TEATRO
DESCRIPTION:A partir de Macbeth de Shakespeare\nDramaturgia y dirección: Luis Miguel González Cruz \nEl rey Duncan\, es asesinado por Macbeth en el castillo de éste: Inverness. \nUn lugar de acogida\, un hogar; el hogar de los Macbeth se convierte así en el escenario del crimen. A la llegada del rey Duncan la tarde es apacible\, la brisa vespertina sopla con suavidad\, las golondrinas cruzan los delicados aires. \nEn Inverness no hay brujas\, las brujas están en la carta que envía Macbeth\, en la alucinación después de la batalla. \nLas brujas sólo existen en la carta de Macbeth\, la narración de Macbeth\, la cabeza de Macbeth. \nPero en Inverness todo se vuelve realidad.\nEn Inverness\, la fantasía se convierte en realidad.\nEn Inverness\, la realidad no es más que un guiñol.\nDe Inverness\, de las historias que se narran en Inverness\, todos quieres escapar.\nEn Inverness lo real emerge.
URL:https://zaragenda.com/evento-zaragoza/en-inverness-teatro/2021-01-31/
LOCATION:Teatro de la Estación\, Domingo Figueras Jariod 8-10\, Zaragoza\, Zaragoza\, 50004\, España
CATEGORIES:Teatro
ATTACH;FMTTYPE=image/jpeg:https://zaragenda.com/wp-content/uploads/2021/01/EN-INVERNESS_Fotoweb-3.jpeg
GEO:41.6567935;-0.8942876
X-APPLE-STRUCTURED-LOCATION;VALUE=URI;X-ADDRESS=Teatro de la Estación Domingo Figueras Jariod 8-10 Zaragoza Zaragoza 50004 España;X-APPLE-RADIUS=500;X-TITLE=Domingo Figueras Jariod 8-10:geo:-0.8942876,41.6567935
END:VEVENT
BEGIN:VEVENT
DTSTART;TZID=Europe/Madrid:20210128T190000
DTEND;TZID=Europe/Madrid:20210128T200000
DTSTAMP:20260422T032256
CREATED:20210119T172433Z
LAST-MODIFIED:20230208T124128Z
UID:10000099-1611860400-1611864000@zaragenda.com
SUMMARY:"Inundación" de Miguel Ángel Mañas - TEATRO
DESCRIPTION:Dirección: Diego Palacio\nDiego Palacio Producciones \nLlega la inundación…\n… dos disparos a lo lejos…\n… un sol de otro color… \nAlfonso se da cuenta de que el sol no brilla como siempre. Al principio calla sus sospechas\, porque nadie parece percibirlo. Pero una mañana se levanta decidido a que debe hacer algo\, que debe hacer partícipe a su mujer\, Marina\, de su sensación. \nPero ella no acaba de comprender la razón de lo que empieza siendo una obsesión\, que terminará ahogando la relación de ambos y la de Alfonso con el mundo exterior. \nAlguien más también ha observado el sol\, y comprueba que tampoco brilla como siempre. Se encontrarán en el caos de la red\, y ambos se juntarán con la intención de explicarle al mundo lo que parece su final.
URL:https://zaragenda.com/evento-zaragoza/inundacion-de-miguel-angel-manas-teatro/
LOCATION:Teatro de la Estación\, Domingo Figueras Jariod 8-10\, Zaragoza\, Zaragoza\, 50004\, España
CATEGORIES:Teatro
ATTACH;FMTTYPE=image/jpeg:https://zaragenda.com/wp-content/uploads/2021/01/INUNDACION_FotoWeb10.jpg
GEO:41.6567935;-0.8942876
X-APPLE-STRUCTURED-LOCATION;VALUE=URI;X-ADDRESS=Teatro de la Estación Domingo Figueras Jariod 8-10 Zaragoza Zaragoza 50004 España;X-APPLE-RADIUS=500;X-TITLE=Domingo Figueras Jariod 8-10:geo:-0.8942876,41.6567935
END:VEVENT
BEGIN:VEVENT
DTSTART;TZID=Europe/Madrid:20210109T180000
DTEND;TZID=Europe/Madrid:20210110T190000
DTSTAMP:20260422T032256
CREATED:20210107T134228Z
LAST-MODIFIED:20230208T123743Z
UID:10000028-1610215200-1610305200@zaragenda.com
SUMMARY:'Juego de sillas' - TEATRO FAMILIAR
DESCRIPTION:¿Te has sentado alguna vez en la silla de otra persona? \nUna familia se sienta a la mesa. Cada uno ocupa su silla y su lugar\, como ha sido siempre. Y nadie se pregunta quién le asignó ese sitio ni por qué\, como ocurre con las cosas que simplemente son «así». \nPero\, ¿qué pasaría si un día alguien se sienta en un lugar diferente al que le toca? \n‘Juego de sillas’ trata sobre la relación entre las personas y las sillas y cómo el lugar que ocupamos condiciona nuestro punto de vista: todo depende de la silla desde la que se mire. \nUna silla en la mesa\, una silla en la escuela\, una silla en el trabajo\, un asiento en el tren\, en el coche¿ una silla como un lugar que nos hace sentir seguros. Un lugar elegido\, pero a veces también asignado\, un punto de vista impuesto\, un lugar desde donde se nos invita a ver la vida de una manera\, pero pocas veces nos brinda la oportunidad de cambiarla. \nEn ‘Juego de sillas’ exploramos los límites de nuestras sillas precisamente como eso\, como un juego\, un intercambio de lugares\, de puntos de vista que nos lleva irremediablemente a experimentar una de las capacidades humanas más importantes para comprender el mundo y a los que nos rodean: la empatía. \nCOMPAÑÍA: CAL TEATRE
URL:https://zaragenda.com/evento-zaragoza/juego-de-sillas-teatro-familiar/
LOCATION:Teatro de la Estación\, Domingo Figueras Jariod 8-10\, Zaragoza\, Zaragoza\, 50004\, España
CATEGORIES:Títeres
ATTACH;FMTTYPE=image/jpeg:https://zaragenda.com/wp-content/uploads/2021/01/Juego-de-Sillas_Familia.jpg
GEO:41.6567935;-0.8942876
X-APPLE-STRUCTURED-LOCATION;VALUE=URI;X-ADDRESS=Teatro de la Estación Domingo Figueras Jariod 8-10 Zaragoza Zaragoza 50004 España;X-APPLE-RADIUS=500;X-TITLE=Domingo Figueras Jariod 8-10:geo:-0.8942876,41.6567935
END:VEVENT
END:VCALENDAR