BEGIN:VCALENDAR
VERSION:2.0
PRODID:-//ZARAGENDA - Agenda Zaragoza de ocio y eventos - ECPv6.15.16//NONSGML v1.0//EN
CALSCALE:GREGORIAN
METHOD:PUBLISH
X-ORIGINAL-URL:https://zaragenda.com
X-WR-CALDESC:Eventos para ZARAGENDA - Agenda Zaragoza de ocio y eventos
REFRESH-INTERVAL;VALUE=DURATION:PT1H
X-Robots-Tag:noindex
X-PUBLISHED-TTL:PT1H
BEGIN:VTIMEZONE
TZID:Europe/Madrid
BEGIN:DAYLIGHT
TZOFFSETFROM:+0100
TZOFFSETTO:+0200
TZNAME:CEST
DTSTART:20210328T010000
END:DAYLIGHT
BEGIN:STANDARD
TZOFFSETFROM:+0200
TZOFFSETTO:+0100
TZNAME:CET
DTSTART:20211031T010000
END:STANDARD
BEGIN:DAYLIGHT
TZOFFSETFROM:+0100
TZOFFSETTO:+0200
TZNAME:CEST
DTSTART:20220327T010000
END:DAYLIGHT
BEGIN:STANDARD
TZOFFSETFROM:+0200
TZOFFSETTO:+0100
TZNAME:CET
DTSTART:20221030T010000
END:STANDARD
BEGIN:DAYLIGHT
TZOFFSETFROM:+0100
TZOFFSETTO:+0200
TZNAME:CEST
DTSTART:20230326T010000
END:DAYLIGHT
BEGIN:STANDARD
TZOFFSETFROM:+0200
TZOFFSETTO:+0100
TZNAME:CET
DTSTART:20231029T010000
END:STANDARD
END:VTIMEZONE
BEGIN:VEVENT
DTSTART;TZID=Europe/Madrid:20220528T193000
DTEND;TZID=Europe/Madrid:20220528T203000
DTSTAMP:20260421T105041
CREATED:20220526T091133Z
LAST-MODIFIED:20230208T171024Z
UID:10005668-1653766200-1653769800@zaragenda.com
SUMMARY:CONCIERTO DE FIN DE TEMPORADA Y 10º ANIVERSARIO DE LA ORQUESTA ANDALÁN
DESCRIPTION:SOMOS UNA DE LAS POCAS ORQUESTAS DE INSTITUTO DE SECUNDARIA DE ESPAÑA Y LA ÚNICA DE ARAGÓN.EL SÁBADO 28 DE MAYO EN LA CAPILLA DE SANTA ISABEL DE PORTUGAL CELEBRAREMOS NUESTROS 10 AÑOS DE EXISTENCIA CON OBRAS NUEVAS Y RECORDAREMOS OTRAS DE NUESTROS PROGRAMAS ANTERIORES\, MÚSICA BARROCA\, CLÁSICA Y POP
URL:https://zaragenda.com/evento-zaragoza/concierto-de-fin-de-temporada-y-10o-aniversario-de-la-orquesta-andalan/
LOCATION:Iglesia de Santa Isabel de Portugal\, Plaza del Justicia s/n\, Zaragoza\, Zaragoza\, España
CATEGORIES:Musical
ATTACH;FMTTYPE=image/jpeg:https://zaragenda.com/wp-content/uploads/2022/05/FINAL-mejorado-andalan-1o-anos-1.jpg
GEO:41.6560315;-0.8815916
X-APPLE-STRUCTURED-LOCATION;VALUE=URI;X-ADDRESS=Iglesia de Santa Isabel de Portugal Plaza del Justicia s/n Zaragoza Zaragoza España;X-APPLE-RADIUS=500;X-TITLE=Plaza del Justicia s/n:geo:-0.8815916,41.6560315
END:VEVENT
END:VCALENDAR