BEGIN:VCALENDAR
VERSION:2.0
PRODID:-//ZARAGENDA - Agenda Zaragoza de ocio y eventos - ECPv6.15.16//NONSGML v1.0//EN
CALSCALE:GREGORIAN
METHOD:PUBLISH
X-WR-CALNAME:ZARAGENDA - Agenda Zaragoza de ocio y eventos
X-ORIGINAL-URL:https://zaragenda.com
X-WR-CALDESC:Eventos para ZARAGENDA - Agenda Zaragoza de ocio y eventos
REFRESH-INTERVAL;VALUE=DURATION:PT1H
X-Robots-Tag:noindex
X-PUBLISHED-TTL:PT1H
BEGIN:VTIMEZONE
TZID:Europe/Madrid
BEGIN:DAYLIGHT
TZOFFSETFROM:+0100
TZOFFSETTO:+0200
TZNAME:CEST
DTSTART:20210328T010000
END:DAYLIGHT
BEGIN:STANDARD
TZOFFSETFROM:+0200
TZOFFSETTO:+0100
TZNAME:CET
DTSTART:20211031T010000
END:STANDARD
BEGIN:DAYLIGHT
TZOFFSETFROM:+0100
TZOFFSETTO:+0200
TZNAME:CEST
DTSTART:20220327T010000
END:DAYLIGHT
BEGIN:STANDARD
TZOFFSETFROM:+0200
TZOFFSETTO:+0100
TZNAME:CET
DTSTART:20221030T010000
END:STANDARD
BEGIN:DAYLIGHT
TZOFFSETFROM:+0100
TZOFFSETTO:+0200
TZNAME:CEST
DTSTART:20230326T010000
END:DAYLIGHT
BEGIN:STANDARD
TZOFFSETFROM:+0200
TZOFFSETTO:+0100
TZNAME:CET
DTSTART:20231029T010000
END:STANDARD
END:VTIMEZONE
BEGIN:VEVENT
DTSTART;TZID=Europe/Madrid:20221222T183000
DTEND;TZID=Europe/Madrid:20221222T183000
DTSTAMP:20260420T161336
CREATED:20221209T090137Z
LAST-MODIFIED:20230208T181545Z
UID:10006302-1671733800-1671733800@zaragenda.com
SUMMARY:𝗜𝗜𝗜 𝗖𝗶𝗿𝗰𝘂𝗶𝘁𝗼 𝗰𝗼𝗺𝗮𝗿𝗰𝗮𝗹 𝗱𝗲 𝗡𝗮𝗿𝗿𝗮𝗰𝗶ó𝗻 𝗢𝗿𝗮𝗹
DESCRIPTION:Jueves 22 de Diciembre:\n Sandra Araguás.\n Villanueva de Gállego. Biblioteca Pública Municipal.\n 18:30h\n\n Los cazadores de monstruos
URL:https://zaragenda.com/evento-zaragoza/%f0%9d%97%9c%f0%9d%97%9c%f0%9d%97%9c-%f0%9d%97%96%f0%9d%97%b6%f0%9d%97%bf%f0%9d%97%b0%f0%9d%98%82%f0%9d%97%b6%f0%9d%98%81%f0%9d%97%bc-%f0%9d%97%b0%f0%9d%97%bc%f0%9d%97%ba%f0%9d%97%ae%f0%9d%97%bf-5/
LOCATION:Villanueva de Gallego\, Zaragoza\, España
CATEGORIES:cultura
ATTACH;FMTTYPE=image/jpeg:https://zaragenda.com/wp-content/uploads/2022/12/pexels-thought-catalog-904616-scaled-yCE5q2.tmp_.jpg
END:VEVENT
BEGIN:VEVENT
DTSTART;TZID=Europe/Madrid:20221124T183000
DTEND;TZID=Europe/Madrid:20221124T183000
DTSTAMP:20260420T161337
CREATED:20221128T175555Z
LAST-MODIFIED:20230208T175235Z
UID:10006110-1669314600-1669314600@zaragenda.com
SUMMARY:𝗜𝗜𝗜 𝗖𝗶𝗿𝗰𝘂𝗶𝘁𝗼 𝗰𝗼𝗺𝗮𝗿𝗰𝗮𝗹 𝗱𝗲 𝗡𝗮𝗿𝗿𝗮𝗰𝗶ó𝗻 𝗢𝗿𝗮𝗹
DESCRIPTION:🗓️ Jueves 24 de noviembre:\n📚 Daniel Tejero\n📍Villanueva de Gállego. Biblioteca\n⏰ 18.30h \n➡️ Cuentos de igualdad (1+1=1) Biblioteca Pública Municipal
URL:https://zaragenda.com/evento-zaragoza/%f0%9d%97%9c%f0%9d%97%9c%f0%9d%97%9c-%f0%9d%97%96%f0%9d%97%b6%f0%9d%97%bf%f0%9d%97%b0%f0%9d%98%82%f0%9d%97%b6%f0%9d%98%81%f0%9d%97%bc-%f0%9d%97%b0%f0%9d%97%bc%f0%9d%97%ba%f0%9d%97%ae%f0%9d%97%bf-2/
LOCATION:Villanueva de Gallego\, Zaragoza\, España
CATEGORIES:cultura
ATTACH;FMTTYPE=image/png:https://zaragenda.com/wp-content/uploads/2022/11/Cartel-111_modificado-e1669033802188-DoEat5.tmp_.png
END:VEVENT
END:VCALENDAR