BEGIN:VCALENDAR
VERSION:2.0
PRODID:-//ZARAGENDA - Agenda Zaragoza de ocio y eventos - ECPv6.15.16//NONSGML v1.0//EN
CALSCALE:GREGORIAN
METHOD:PUBLISH
X-ORIGINAL-URL:https://zaragenda.com
X-WR-CALDESC:Eventos para ZARAGENDA - Agenda Zaragoza de ocio y eventos
REFRESH-INTERVAL;VALUE=DURATION:PT1H
X-Robots-Tag:noindex
X-PUBLISHED-TTL:PT1H
BEGIN:VTIMEZONE
TZID:Europe/Madrid
BEGIN:DAYLIGHT
TZOFFSETFROM:+0100
TZOFFSETTO:+0200
TZNAME:CEST
DTSTART:20200329T010000
END:DAYLIGHT
BEGIN:STANDARD
TZOFFSETFROM:+0200
TZOFFSETTO:+0100
TZNAME:CET
DTSTART:20201025T010000
END:STANDARD
BEGIN:DAYLIGHT
TZOFFSETFROM:+0100
TZOFFSETTO:+0200
TZNAME:CEST
DTSTART:20210328T010000
END:DAYLIGHT
BEGIN:STANDARD
TZOFFSETFROM:+0200
TZOFFSETTO:+0100
TZNAME:CET
DTSTART:20211031T010000
END:STANDARD
BEGIN:DAYLIGHT
TZOFFSETFROM:+0100
TZOFFSETTO:+0200
TZNAME:CEST
DTSTART:20220327T010000
END:DAYLIGHT
BEGIN:STANDARD
TZOFFSETFROM:+0200
TZOFFSETTO:+0100
TZNAME:CET
DTSTART:20221030T010000
END:STANDARD
END:VTIMEZONE
BEGIN:VEVENT
DTSTART;TZID=Europe/Madrid:20210426T174500
DTEND;TZID=Europe/Madrid:20210426T174500
DTSTAMP:20260425T174032
CREATED:20210421T092217Z
LAST-MODIFIED:20230208T133847Z
UID:10002272-1619459100-1619459100@zaragenda.com
SUMMARY:Cine en Yelmo Cines '¡UPS! ¿DÓNDE ESTÁ NOÉ?’
DESCRIPTION:Se acerca el Diluvio Universal y Noé ha construido un gran Arca para salvar a una pareja de cada especie animal pero dos Nestrians\, padre e hijo\, no son admitidos a entrar. La ayuda involuntaria de dos Grymps\, madre e hija\, les permite colarse en el Arca. Sin embargo\, los niños Finny y Leah acaban cayéndose de la nave y tendrán que aprender a sobrevivir y trabajar en equipo para llegar a la cima del monte\, mientras sus padres intentarán desviar el curso del Arca para poder salvarles. \nLugar: Yelmo Cines en Plaza Imperial ⁣⁣ \nFecha: lunes 26 de abril de 2021 \nHora: 17.45h \nPrecio:  5 euros (4\,80 con movie yelmo) también en venta online. \nEdad recomendada:  sesión familiar (desde 0 años).
URL:https://zaragenda.com/evento-zaragoza/cine-en-yelmo-cines-ups-donde-esta-noe/
LOCATION:Yelmo Cines\, Centro Comercial y de Ocio Plaza Imperial\, Avinguda Diagonal\, 8\, Zaragoza\, Zaragoza\, 50197\, España
CATEGORIES:Actividades para niños,Niños
ATTACH;FMTTYPE=image/jpeg:https://zaragenda.com/wp-content/uploads/2021/04/unnamed-32.jpg
GEO:41.6351185;-0.9833168
X-APPLE-STRUCTURED-LOCATION;VALUE=URI;X-ADDRESS=Yelmo Cines Centro Comercial y de Ocio Plaza Imperial Avinguda Diagonal 8 Zaragoza Zaragoza 50197 España;X-APPLE-RADIUS=500;X-TITLE=Centro Comercial y de Ocio Plaza Imperial\, Avinguda Diagonal\, 8:geo:-0.9833168,41.6351185
END:VEVENT
END:VCALENDAR